BEGIN:VCALENDAR
VERSION:2.0
PRODID:-//CENTRUM KULTURY w OSTRÓDZIE - ECPv6.15.20//NONSGML v1.0//EN
CALSCALE:GREGORIAN
METHOD:PUBLISH
X-WR-CALNAME:CENTRUM KULTURY w OSTRÓDZIE
X-ORIGINAL-URL:https://www.ck.ostroda.pl
X-WR-CALDESC:Wydarzenia dla CENTRUM KULTURY w OSTRÓDZIE
REFRESH-INTERVAL;VALUE=DURATION:PT1H
X-Robots-Tag:noindex
X-PUBLISHED-TTL:PT1H
BEGIN:VTIMEZONE
TZID:Europe/Warsaw
BEGIN:DAYLIGHT
TZOFFSETFROM:+0100
TZOFFSETTO:+0200
TZNAME:CEST
DTSTART:20210328T010000
END:DAYLIGHT
BEGIN:STANDARD
TZOFFSETFROM:+0200
TZOFFSETTO:+0100
TZNAME:CET
DTSTART:20211031T010000
END:STANDARD
BEGIN:DAYLIGHT
TZOFFSETFROM:+0100
TZOFFSETTO:+0200
TZNAME:CEST
DTSTART:20220327T010000
END:DAYLIGHT
BEGIN:STANDARD
TZOFFSETFROM:+0200
TZOFFSETTO:+0100
TZNAME:CET
DTSTART:20221030T010000
END:STANDARD
BEGIN:DAYLIGHT
TZOFFSETFROM:+0100
TZOFFSETTO:+0200
TZNAME:CEST
DTSTART:20230326T010000
END:DAYLIGHT
BEGIN:STANDARD
TZOFFSETFROM:+0200
TZOFFSETTO:+0100
TZNAME:CET
DTSTART:20231029T010000
END:STANDARD
END:VTIMEZONE
BEGIN:VEVENT
DTSTART;TZID=Europe/Warsaw:20220322T130000
DTEND;TZID=Europe/Warsaw:20220322T223000
DTSTAMP:20260422T055053
CREATED:20220316T092015Z
LAST-MODIFIED:20220316T092015Z
UID:5831-1647954000-1647988200@www.ck.ostroda.pl
SUMMARY:BNP Paribas Idę do kina w Ostródzie.
DESCRIPTION:22 marca w Ostródzie aktualne kinowe hity na dużym ekranie. Razem z przyjaciółmi zobaczcie najnowszą odsłonę „Batmana” – najbardziej wyczekiwanego filmu 2022 roku na świecie. Macie ochotę się pośmiać? Wybierzcie się na najsłodszą komedię romantyczną\, czyli „Miłość jest blisko”. Idźcie do kina całą rodziną na animację „Ups2! bunt na Arce” lub na wyjątkowe kino familijne – „Za duży na bajki” \nBilety –> https://bit.ly/BNPParibasIdędokina-Ostróda-220322\nCena biletów:\nNormalny: 18 zł\nUlgowy: 16 zł\nGrupowy: 14 zł\nTak prezentuje się cały repertuar:\n „Batman” – największy kinowy hit początku 2022 roku. Tym razem w roli Mrocznego Rycerza zobaczymy Roberta Pattinsona. Obok niego na dużym ekranie zobaczycie również Zoe Kravitz oraz Collin Farrell. Poczuj klimat Gotham w swoim mieście!\n „Miłość jest blisko” – nigdy nie byli parą\, a znają się od dziecka. Olga Bołądź\, Janusz Chabior\, Weronika Książkiewicz i Grzegorz Małecki w słodkiej komedii romantycznej\, która każdemu poprawi humor.\n „Za duży na bajki” – filmowa propozycja dla całej rodziny. Przyjaźń wystawiana na próby\, pierwsza miłość\, trudy dorastania\, turniej gamingowy\, a jakby tego było mało – dorośli\, którzy wszystko wiedzą najlepiej. Oj\, nie będzie łatwo…\n „Ups2! Bunt na Arce” – Arka Noego od tygodni dryfuje na otwartym morzu. Brzegu nie widać\, zapasy żywności się kończą… Jak zakończy się ta przygoda?
URL:https://www.ck.ostroda.pl/event/bnp-paribas-ide-do-kina-w-ostrodzie/
LOCATION:Sala Kameralna w amfiteatrze\, Mickiewicza 17A\, Ostróda\, warmińsko-mazurskie\, 14-100\, Poland
ATTACH;FMTTYPE=image/jpeg:https://www.ck.ostroda.pl/wp-content/uploads/2022/03/274722699_903990713628844_711489481451618780_n.jpg
ORGANIZER;CN="CK Ostr%C3%B3da":MAILTO:ck@ck.ostroda.pl
END:VEVENT
END:VCALENDAR