BEGIN:VCALENDAR
VERSION:2.0
PRODID:-//CENTRUM KULTURY w OSTRÓDZIE - ECPv6.15.20//NONSGML v1.0//EN
CALSCALE:GREGORIAN
METHOD:PUBLISH
X-WR-CALNAME:CENTRUM KULTURY w OSTRÓDZIE
X-ORIGINAL-URL:https://www.ck.ostroda.pl
X-WR-CALDESC:Wydarzenia dla CENTRUM KULTURY w OSTRÓDZIE
REFRESH-INTERVAL;VALUE=DURATION:PT1H
X-Robots-Tag:noindex
X-PUBLISHED-TTL:PT1H
BEGIN:VTIMEZONE
TZID:Europe/Warsaw
BEGIN:DAYLIGHT
TZOFFSETFROM:+0100
TZOFFSETTO:+0200
TZNAME:CEST
DTSTART:20210328T010000
END:DAYLIGHT
BEGIN:STANDARD
TZOFFSETFROM:+0200
TZOFFSETTO:+0100
TZNAME:CET
DTSTART:20211031T010000
END:STANDARD
BEGIN:DAYLIGHT
TZOFFSETFROM:+0100
TZOFFSETTO:+0200
TZNAME:CEST
DTSTART:20220327T010000
END:DAYLIGHT
BEGIN:STANDARD
TZOFFSETFROM:+0200
TZOFFSETTO:+0100
TZNAME:CET
DTSTART:20221030T010000
END:STANDARD
BEGIN:DAYLIGHT
TZOFFSETFROM:+0100
TZOFFSETTO:+0200
TZNAME:CEST
DTSTART:20230326T010000
END:DAYLIGHT
BEGIN:STANDARD
TZOFFSETFROM:+0200
TZOFFSETTO:+0100
TZNAME:CET
DTSTART:20231029T010000
END:STANDARD
END:VTIMEZONE
BEGIN:VEVENT
DTSTART;TZID=Europe/Warsaw:20220328T180000
DTEND;TZID=Europe/Warsaw:20220328T190000
DTSTAMP:20260422T041606
CREATED:20220328T111536Z
LAST-MODIFIED:20220328T111536Z
UID:5859-1648490400-1648494000@www.ck.ostroda.pl
SUMMARY:PRÓBY OTWARTE DLA PUBLICZNOŚCI
DESCRIPTION:PRÓBY OTWARTE DLA PUBLICZNOŚCI.\nZapraszają grupy teatralne działające przy Centrum Kultury w Ostródzie.\n\n\n28 marca (w poniedziałek) godz. 18:00\nWstęp za okazaniem wejściówek\, które można bezpłatnie odebrać w Amfiteatrze (w pokoju 105).
URL:https://www.ck.ostroda.pl/event/proby-otwarte-dla-publicznosci/
LOCATION:Sala Kameralna w amfiteatrze\, Mickiewicza 17A\, Ostróda\, warmińsko-mazurskie\, 14-100\, Poland
ATTACH;FMTTYPE=image/png:https://www.ck.ostroda.pl/wp-content/uploads/2022/03/PLAKAT-2.png
ORGANIZER;CN="CK Ostr%C3%B3da":MAILTO:ck@ck.ostroda.pl
END:VEVENT
END:VCALENDAR