BEGIN:VCALENDAR
VERSION:2.0
PRODID:-//CENTRUM KULTURY w OSTRÓDZIE - ECPv6.15.20//NONSGML v1.0//EN
CALSCALE:GREGORIAN
METHOD:PUBLISH
X-WR-CALNAME:CENTRUM KULTURY w OSTRÓDZIE
X-ORIGINAL-URL:https://www.ck.ostroda.pl
X-WR-CALDESC:Wydarzenia dla CENTRUM KULTURY w OSTRÓDZIE
REFRESH-INTERVAL;VALUE=DURATION:PT1H
X-Robots-Tag:noindex
X-PUBLISHED-TTL:PT1H
BEGIN:VTIMEZONE
TZID:Europe/Warsaw
BEGIN:DAYLIGHT
TZOFFSETFROM:+0100
TZOFFSETTO:+0200
TZNAME:CEST
DTSTART:20210328T010000
END:DAYLIGHT
BEGIN:STANDARD
TZOFFSETFROM:+0200
TZOFFSETTO:+0100
TZNAME:CET
DTSTART:20211031T010000
END:STANDARD
BEGIN:DAYLIGHT
TZOFFSETFROM:+0100
TZOFFSETTO:+0200
TZNAME:CEST
DTSTART:20220327T010000
END:DAYLIGHT
BEGIN:STANDARD
TZOFFSETFROM:+0200
TZOFFSETTO:+0100
TZNAME:CET
DTSTART:20221030T010000
END:STANDARD
BEGIN:DAYLIGHT
TZOFFSETFROM:+0100
TZOFFSETTO:+0200
TZNAME:CEST
DTSTART:20230326T010000
END:DAYLIGHT
BEGIN:STANDARD
TZOFFSETFROM:+0200
TZOFFSETTO:+0100
TZNAME:CET
DTSTART:20231029T010000
END:STANDARD
END:VTIMEZONE
BEGIN:VEVENT
DTSTART;TZID=Europe/Warsaw:20220401T170000
DTEND;TZID=Europe/Warsaw:20220401T183000
DTSTAMP:20260422T041524
CREATED:20220328T105252Z
LAST-MODIFIED:20220328T110151Z
UID:5851-1648832400-1648837800@www.ck.ostroda.pl
SUMMARY:Film dla dzieci
DESCRIPTION:Więcej na stronie: \nhttps://www.facebook.com/ck.ostroda/photos/gm.1376521462862558/5131151760311571/
URL:https://www.ck.ostroda.pl/event/film-dla-dzieci-2/
LOCATION:Sala Kameralna w amfiteatrze\, Mickiewicza 17A\, Ostróda\, warmińsko-mazurskie\, 14-100\, Poland
ATTACH;FMTTYPE=image/png:https://www.ck.ostroda.pl/wp-content/uploads/2022/03/filmy-31-01-opisy.png
ORGANIZER;CN="CK Ostr%C3%B3da":MAILTO:ck@ck.ostroda.pl
END:VEVENT
END:VCALENDAR