BEGIN:VCALENDAR
VERSION:2.0
PRODID:-//CENTRUM KULTURY w OSTRÓDZIE - ECPv6.15.20//NONSGML v1.0//EN
CALSCALE:GREGORIAN
METHOD:PUBLISH
X-ORIGINAL-URL:https://www.ck.ostroda.pl
X-WR-CALDESC:Wydarzenia dla CENTRUM KULTURY w OSTRÓDZIE
REFRESH-INTERVAL;VALUE=DURATION:PT1H
X-Robots-Tag:noindex
X-PUBLISHED-TTL:PT1H
BEGIN:VTIMEZONE
TZID:Europe/Warsaw
BEGIN:DAYLIGHT
TZOFFSETFROM:+0100
TZOFFSETTO:+0200
TZNAME:CEST
DTSTART:20210328T010000
END:DAYLIGHT
BEGIN:STANDARD
TZOFFSETFROM:+0200
TZOFFSETTO:+0100
TZNAME:CET
DTSTART:20211031T010000
END:STANDARD
BEGIN:DAYLIGHT
TZOFFSETFROM:+0100
TZOFFSETTO:+0200
TZNAME:CEST
DTSTART:20220327T010000
END:DAYLIGHT
BEGIN:STANDARD
TZOFFSETFROM:+0200
TZOFFSETTO:+0100
TZNAME:CET
DTSTART:20221030T010000
END:STANDARD
BEGIN:DAYLIGHT
TZOFFSETFROM:+0100
TZOFFSETTO:+0200
TZNAME:CEST
DTSTART:20230326T010000
END:DAYLIGHT
BEGIN:STANDARD
TZOFFSETFROM:+0200
TZOFFSETTO:+0100
TZNAME:CET
DTSTART:20231029T010000
END:STANDARD
END:VTIMEZONE
BEGIN:VEVENT
DTSTART;TZID=Europe/Warsaw:20220506T200000
DTEND;TZID=Europe/Warsaw:20220506T220000
DTSTAMP:20260422T023436
CREATED:20220413T102503Z
LAST-MODIFIED:20220413T102612Z
UID:5878-1651867200-1651874400@www.ck.ostroda.pl
SUMMARY:L.STADT JUŻ 6 MAJA ZAGRA W CENTRUM KULTURY W OSTRÓDZIE!
DESCRIPTION:6 maja 2022 (w piątek) na scenie Sali Kameralnej w Centrum Kultury w Ostródzie zagra dla Państwa zespół L.Stadt.\n\n\nZnany m.in. z utworu Oczy Kamienic – przypomnianego w roku 2021 przez Męskie Granie Orkiestra – łódzki kwartet L.Stadt!\nStart koncertu o godz. 20:00.\n\n\nBilety w cenie 30 zł w przedsprzedaży i 40 zł w dzień koncertu do kupienia w Amfiteatrze (pok. 105) oraz na stronie http://ckostroda-bilety.interticket.pl/.\n\n\nLink do wysłuchania utworu OCZY KAMIENIC:https://www.youtube.com/watch?v=MpBUx65EjqI
URL:https://www.ck.ostroda.pl/event/l-stadt-juz-6-maja-zagra-w-centrum-kultury-w-ostrodzie/
LOCATION:Sala Kameralna w amfiteatrze\, Mickiewicza 17A\, Ostróda\, warmińsko-mazurskie\, 14-100\, Poland
ATTACH;FMTTYPE=image/png:https://www.ck.ostroda.pl/wp-content/uploads/2022/04/kwadrat.png
ORGANIZER;CN="CK Ostr%C3%B3da":MAILTO:ck@ck.ostroda.pl
END:VEVENT
END:VCALENDAR