BEGIN:VCALENDAR
VERSION:2.0
PRODID:-//CENTRUM KULTURY w OSTRÓDZIE - ECPv6.15.20//NONSGML v1.0//EN
CALSCALE:GREGORIAN
METHOD:PUBLISH
X-WR-CALNAME:CENTRUM KULTURY w OSTRÓDZIE
X-ORIGINAL-URL:https://www.ck.ostroda.pl
X-WR-CALDESC:Wydarzenia dla CENTRUM KULTURY w OSTRÓDZIE
REFRESH-INTERVAL;VALUE=DURATION:PT1H
X-Robots-Tag:noindex
X-PUBLISHED-TTL:PT1H
BEGIN:VTIMEZONE
TZID:Europe/Warsaw
BEGIN:DAYLIGHT
TZOFFSETFROM:+0100
TZOFFSETTO:+0200
TZNAME:CEST
DTSTART:20210328T010000
END:DAYLIGHT
BEGIN:STANDARD
TZOFFSETFROM:+0200
TZOFFSETTO:+0100
TZNAME:CET
DTSTART:20211031T010000
END:STANDARD
BEGIN:DAYLIGHT
TZOFFSETFROM:+0100
TZOFFSETTO:+0200
TZNAME:CEST
DTSTART:20220327T010000
END:DAYLIGHT
BEGIN:STANDARD
TZOFFSETFROM:+0200
TZOFFSETTO:+0100
TZNAME:CET
DTSTART:20221030T010000
END:STANDARD
BEGIN:DAYLIGHT
TZOFFSETFROM:+0100
TZOFFSETTO:+0200
TZNAME:CEST
DTSTART:20230326T010000
END:DAYLIGHT
BEGIN:STANDARD
TZOFFSETFROM:+0200
TZOFFSETTO:+0100
TZNAME:CET
DTSTART:20231029T010000
END:STANDARD
END:VTIMEZONE
BEGIN:VEVENT
DTSTART;TZID=Europe/Warsaw:20220528T180000
DTEND;TZID=Europe/Warsaw:20220528T200000
DTSTAMP:20260422T023256
CREATED:20220523T130348Z
LAST-MODIFIED:20220523T130348Z
UID:5939-1653760800-1653768000@www.ck.ostroda.pl
SUMMARY:Koncert Pamięci Sławomira Oleczka
DESCRIPTION:„Muzyka – moja MIŁOŚĆ” – takie motto przyświecało całemu życiu i działalności Sławomira Oleczka\, muzyka\, nauczyciela\, założyciela i wieloletniego kapelmistrza Orkiestry Miejskiej w Ostródzie. Wychował i wykształcił wielu wspaniałych muzyków\, którzy pragną kontynuować Jego misję.\nZapraszamy Państwa na koncert Pamięci Sławomira Oleczka\, którym Orkiestra Miejska pragnie złożyć hołd swojemu Mistrzowi i który odbędzie się 28 maja o godz. 18:00 w Sali Reprezentacyjnej ostródzkiego Zamku.\nW czytelni Miejska Biblioteka Publiczna w Ostródzie na godzinę przed koncertem i godzinę po (mniej więcej od 17:00 do 21:00) będzie udostępniona do obejrzenia wystawa zdjęć i pamiątek z działalności Orkiestry Miejskiej i Pana Sławomira Oleczka. Wystawę będzie można oglądać również w godzinach pracy biblioteki.\nSerdecznie zapraszamy!
URL:https://www.ck.ostroda.pl/event/koncert-pamieci-slawomira-oleczka/
LOCATION:ZAMEK Sala Reprezentacyjna\, Mickiewicza 22\, Ostróda\, 14100\, Polska
ATTACH;FMTTYPE=image/jpeg:https://www.ck.ostroda.pl/wp-content/uploads/2022/05/279901489_5250754738351272_6218302219708453046_n.jpg
ORGANIZER;CN="CK Ostr%C3%B3da":MAILTO:ck@ck.ostroda.pl
END:VEVENT
END:VCALENDAR