BEGIN:VCALENDAR
VERSION:2.0
PRODID:-//CENTRUM KULTURY w OSTRÓDZIE - ECPv6.15.20//NONSGML v1.0//EN
CALSCALE:GREGORIAN
METHOD:PUBLISH
X-ORIGINAL-URL:https://www.ck.ostroda.pl
X-WR-CALDESC:Wydarzenia dla CENTRUM KULTURY w OSTRÓDZIE
REFRESH-INTERVAL;VALUE=DURATION:PT1H
X-Robots-Tag:noindex
X-PUBLISHED-TTL:PT1H
BEGIN:VTIMEZONE
TZID:Europe/Warsaw
BEGIN:DAYLIGHT
TZOFFSETFROM:+0100
TZOFFSETTO:+0200
TZNAME:CEST
DTSTART:20210328T010000
END:DAYLIGHT
BEGIN:STANDARD
TZOFFSETFROM:+0200
TZOFFSETTO:+0100
TZNAME:CET
DTSTART:20211031T010000
END:STANDARD
BEGIN:DAYLIGHT
TZOFFSETFROM:+0100
TZOFFSETTO:+0200
TZNAME:CEST
DTSTART:20220327T010000
END:DAYLIGHT
BEGIN:STANDARD
TZOFFSETFROM:+0200
TZOFFSETTO:+0100
TZNAME:CET
DTSTART:20221030T010000
END:STANDARD
BEGIN:DAYLIGHT
TZOFFSETFROM:+0100
TZOFFSETTO:+0200
TZNAME:CEST
DTSTART:20230326T010000
END:DAYLIGHT
BEGIN:STANDARD
TZOFFSETFROM:+0200
TZOFFSETTO:+0100
TZNAME:CET
DTSTART:20231029T010000
END:STANDARD
END:VTIMEZONE
BEGIN:VEVENT
DTSTART;TZID=Europe/Warsaw:20220607T180000
DTEND;TZID=Europe/Warsaw:20220607T200000
DTSTAMP:20260422T005754
CREATED:20220603T082458Z
LAST-MODIFIED:20220603T082458Z
UID:5954-1654624800-1654632000@www.ck.ostroda.pl
SUMMARY:"Więzi rodzinne" spektakl Teatru im. Stefana Jaracza w Olsztynie
DESCRIPTION:Z przyjemnością informujemy\, że już w przyszłym tygodniu na deskach Sali Kameralnej w Centrum Kultury w Ostródzie zaprezentują się aktorzy Teatru im. Stefana Jaracza w Olsztynie z długo wyczekiwanym spektaklem „Więzi rodzinne”!\n\n\nSpektakl opowiada o czterech spokrewnionych ze sobą kobietach\, które spotykają się na pogrzebie głowy swojego rodu. Pełna czarnego humoru i mrocznych sekretów opowieść o rodzinie.\n\n\nBilety w cenie 25 zł do kupienia w Amfiteatrze\, w pokoju 105 oraz na https://ckostroda-bilety.interticket.pl/…/wiezi….\n\n\n*Przypominamy\, że bilety zakupione na wcześniejszy termin\, w którym miał odbyć się spektakl\, nadal są aktualne.
URL:https://www.ck.ostroda.pl/event/wiezi-rodzinne-spektakl-teatru-im-stefana-jaracza-w-olsztynie/
LOCATION:Sala Kameralna w amfiteatrze\, Mickiewicza 17A\, Ostróda\, warmińsko-mazurskie\, 14-100\, Poland
ATTACH;FMTTYPE=image/png:https://www.ck.ostroda.pl/wp-content/uploads/2022/06/wiezi-rodzinne-kwadrat.png
ORGANIZER;CN="CK Ostr%C3%B3da":MAILTO:ck@ck.ostroda.pl
END:VEVENT
END:VCALENDAR