BEGIN:VCALENDAR
VERSION:2.0
PRODID:-//CENTRUM KULTURY w OSTRÓDZIE - ECPv6.15.20//NONSGML v1.0//EN
CALSCALE:GREGORIAN
METHOD:PUBLISH
X-ORIGINAL-URL:https://www.ck.ostroda.pl
X-WR-CALDESC:Wydarzenia dla CENTRUM KULTURY w OSTRÓDZIE
REFRESH-INTERVAL;VALUE=DURATION:PT1H
X-Robots-Tag:noindex
X-PUBLISHED-TTL:PT1H
BEGIN:VTIMEZONE
TZID:Europe/Warsaw
BEGIN:DAYLIGHT
TZOFFSETFROM:+0100
TZOFFSETTO:+0200
TZNAME:CEST
DTSTART:20210328T010000
END:DAYLIGHT
BEGIN:STANDARD
TZOFFSETFROM:+0200
TZOFFSETTO:+0100
TZNAME:CET
DTSTART:20211031T010000
END:STANDARD
BEGIN:DAYLIGHT
TZOFFSETFROM:+0100
TZOFFSETTO:+0200
TZNAME:CEST
DTSTART:20220327T010000
END:DAYLIGHT
BEGIN:STANDARD
TZOFFSETFROM:+0200
TZOFFSETTO:+0100
TZNAME:CET
DTSTART:20221030T010000
END:STANDARD
BEGIN:DAYLIGHT
TZOFFSETFROM:+0100
TZOFFSETTO:+0200
TZNAME:CEST
DTSTART:20230326T010000
END:DAYLIGHT
BEGIN:STANDARD
TZOFFSETFROM:+0200
TZOFFSETTO:+0100
TZNAME:CET
DTSTART:20231029T010000
END:STANDARD
END:VTIMEZONE
BEGIN:VEVENT
DTSTART;TZID=Europe/Warsaw:20220610T183000
DTEND;TZID=Europe/Warsaw:20220610T193000
DTSTAMP:20260422T005754
CREATED:20220603T083756Z
LAST-MODIFIED:20220603T083756Z
UID:5963-1654885800-1654889400@www.ck.ostroda.pl
SUMMARY:„NA POHYBEL” W WYKONANIU TEATRU „PRZEBUDZENI”
DESCRIPTION:W styczniu br. Grupa Teatralna „Przebudzeni” działająca pod kierunkiem Moniki Kazimierczyk i Dariusza Wychudzkiego przy PSONI Koło w Ostródzie z powodów zdrowotnych\, obsadowych nie dała rady zagrać na żywo spektaklu „Na pohybel”. Rozwiązaniem wówczas stał się pokaz filmowy z zarejestrowanego premierowego pokazu tegoż spektaklu.\n\n\nDZIŚ MAMY DLA PAŃSTWA BARDZO DOBRĄ WIADOMOŚĆ.\nJuż 10 CZERWCA (w piątek) będzie możliwość zobaczenia sztuki „Na Pohybel” NA ŻYWO w Sali Reprezentacyjnej Amfiteatru.\n\n\nZapraszamy o 18:30. Wstęp wolny.
URL:https://www.ck.ostroda.pl/event/na-pohybel-w-wykonaniu-teatru-przebudzeni/
LOCATION:Sala Kameralna w amfiteatrze\, Mickiewicza 17A\, Ostróda\, warmińsko-mazurskie\, 14-100\, Poland
ATTACH;FMTTYPE=image/png:https://www.ck.ostroda.pl/wp-content/uploads/2022/06/na-pohybel-1.png
ORGANIZER;CN="CK Ostr%C3%B3da":MAILTO:ck@ck.ostroda.pl
END:VEVENT
END:VCALENDAR