BEGIN:VCALENDAR
VERSION:2.0
PRODID:-//CENTRUM KULTURY w OSTRÓDZIE - ECPv6.15.20//NONSGML v1.0//EN
CALSCALE:GREGORIAN
METHOD:PUBLISH
X-ORIGINAL-URL:https://www.ck.ostroda.pl
X-WR-CALDESC:Wydarzenia dla CENTRUM KULTURY w OSTRÓDZIE
REFRESH-INTERVAL;VALUE=DURATION:PT1H
X-Robots-Tag:noindex
X-PUBLISHED-TTL:PT1H
BEGIN:VTIMEZONE
TZID:Europe/Warsaw
BEGIN:DAYLIGHT
TZOFFSETFROM:+0100
TZOFFSETTO:+0200
TZNAME:CEST
DTSTART:20210328T010000
END:DAYLIGHT
BEGIN:STANDARD
TZOFFSETFROM:+0200
TZOFFSETTO:+0100
TZNAME:CET
DTSTART:20211031T010000
END:STANDARD
BEGIN:DAYLIGHT
TZOFFSETFROM:+0100
TZOFFSETTO:+0200
TZNAME:CEST
DTSTART:20220327T010000
END:DAYLIGHT
BEGIN:STANDARD
TZOFFSETFROM:+0200
TZOFFSETTO:+0100
TZNAME:CET
DTSTART:20221030T010000
END:STANDARD
BEGIN:DAYLIGHT
TZOFFSETFROM:+0100
TZOFFSETTO:+0200
TZNAME:CEST
DTSTART:20230326T010000
END:DAYLIGHT
BEGIN:STANDARD
TZOFFSETFROM:+0200
TZOFFSETTO:+0100
TZNAME:CET
DTSTART:20231029T010000
END:STANDARD
END:VTIMEZONE
BEGIN:VEVENT
DTSTART;TZID=Europe/Warsaw:20220618T190000
DTEND;TZID=Europe/Warsaw:20220618T233000
DTSTAMP:20260422T005830
CREATED:20220603T085610Z
LAST-MODIFIED:20220603T085610Z
UID:5965-1655578800-1655595000@www.ck.ostroda.pl
SUMMARY:FEN 40: ENERGA Fight Night Ostróda
DESCRIPTION:Jak co roku\, FEN zaprasza do Ostródy!\n18 czerwca czeka nas pełen emocji wieczór\, w którym zobaczymy aż 3 starcia mistrzowskie: Cezary Oleksiejczuk vs. Kamil Kraska\, Marcin Naruszczka vs. Piotr Kuberski\, a do pierwszej obrony pasa stanie Kacper Formela vs Gorshechnik.
URL:https://www.ck.ostroda.pl/event/fen-40-energa-fight-night-ostroda/
LOCATION:Amfiteatr\, ul. Mickiewicza 17a\, Ostróda\, warmińsko-mazurskie\, 14-100
ATTACH;FMTTYPE=image/jpeg:https://www.ck.ostroda.pl/wp-content/uploads/2022/06/285512428_5662762067069458_1161959593826484416_n.jpg
END:VEVENT
END:VCALENDAR