BEGIN:VCALENDAR
VERSION:2.0
PRODID:-//CENTRUM KULTURY w OSTRÓDZIE - ECPv6.15.20//NONSGML v1.0//EN
CALSCALE:GREGORIAN
METHOD:PUBLISH
X-ORIGINAL-URL:https://www.ck.ostroda.pl
X-WR-CALDESC:Wydarzenia dla CENTRUM KULTURY w OSTRÓDZIE
REFRESH-INTERVAL;VALUE=DURATION:PT1H
X-Robots-Tag:noindex
X-PUBLISHED-TTL:PT1H
BEGIN:VTIMEZONE
TZID:Europe/Warsaw
BEGIN:DAYLIGHT
TZOFFSETFROM:+0100
TZOFFSETTO:+0200
TZNAME:CEST
DTSTART:20210328T010000
END:DAYLIGHT
BEGIN:STANDARD
TZOFFSETFROM:+0200
TZOFFSETTO:+0100
TZNAME:CET
DTSTART:20211031T010000
END:STANDARD
BEGIN:DAYLIGHT
TZOFFSETFROM:+0100
TZOFFSETTO:+0200
TZNAME:CEST
DTSTART:20220327T010000
END:DAYLIGHT
BEGIN:STANDARD
TZOFFSETFROM:+0200
TZOFFSETTO:+0100
TZNAME:CET
DTSTART:20221030T010000
END:STANDARD
BEGIN:DAYLIGHT
TZOFFSETFROM:+0100
TZOFFSETTO:+0200
TZNAME:CEST
DTSTART:20230326T010000
END:DAYLIGHT
BEGIN:STANDARD
TZOFFSETFROM:+0200
TZOFFSETTO:+0100
TZNAME:CET
DTSTART:20231029T010000
END:STANDARD
END:VTIMEZONE
BEGIN:VEVENT
DTSTART;TZID=Europe/Warsaw:20220716T190000
DTEND;TZID=Europe/Warsaw:20220716T210000
DTSTAMP:20260421T232352
CREATED:20220706T130101Z
LAST-MODIFIED:20220706T130101Z
UID:6052-1657998000-1658005200@www.ck.ostroda.pl
SUMMARY:Paweł Domagała - Wracaj Tour na Bis
DESCRIPTION:Paweł Domagała – Wracaj Tour na bis\nAktor\, muzyk i autor przepięknych piosenek – Paweł Domagała dzięki swoim talentom stał się jednym z najbardziej rozpoznawalnych polskich artystów młodego pokolenia. Latem 2022 roku zobaczymy go na scenie w ramach pożegnalnej trasy „Wracaj Tour na bis”!\nPaweł Domagała wdarł się szturmem na polską scenę muzyczną przebojami „Jestem tego wart”\, „1984” czy „Opowiem Ci o mnie”. Po sukcesie płyty „Wracaj” i promującej ją trasie koncertowej Paweł Domagała zdecydował się zagrać latem 2022 kilka koncertów pożegnalnych pt. „Wracaj Tour na bis”.\n„Wracaj” jest trzecią płytą Pawła Domagały napisaną wspólnie z Łukaszem Borowieckim. To materiał\, który dla obu artystów jest równocześnie powrotem i przełomem w dotychczasowej twórczości. „To walka o to\, co w nas najpiękniejsze. Między innymi powrót do młodzieńczej\, bezczelnej odwagi\, która domaga się\, by iść po swoje bez niepotrzebnych kompromisów ze światem” – opowiada Domagała.\nPłyta „Wracaj” to mieszanka wielu gatunków muzycznych – od folku i rocka aż po country. Piosenki z tej płyty są pisane prosto z serca\, tworząc na koncertach wyjątkową atmosferę. To zarazem ostatnia okazja\, by usłyszeć je na żywo. Jesienią 2022 Paweł Domagała wyruszy w nową trasę promującą płytę „Narnia”\, której premiera zaplanowana jest na 18 listopada.
URL:https://www.ck.ostroda.pl/event/pawel-domagala-wracaj-tour-na-bis/
LOCATION:Amfiteatr\, ul. Mickiewicza 17a\, Ostróda\, warmińsko-mazurskie\, 14-100
ATTACH;FMTTYPE=image/jpeg:https://www.ck.ostroda.pl/wp-content/uploads/2022/07/0d9be00ae776d039edd961c1f25f010b.jpg
END:VEVENT
END:VCALENDAR