BEGIN:VCALENDAR
VERSION:2.0
PRODID:-//CENTRUM KULTURY w OSTRÓDZIE - ECPv6.15.20//NONSGML v1.0//EN
CALSCALE:GREGORIAN
METHOD:PUBLISH
X-WR-CALNAME:CENTRUM KULTURY w OSTRÓDZIE
X-ORIGINAL-URL:https://www.ck.ostroda.pl
X-WR-CALDESC:Wydarzenia dla CENTRUM KULTURY w OSTRÓDZIE
REFRESH-INTERVAL;VALUE=DURATION:PT1H
X-Robots-Tag:noindex
X-PUBLISHED-TTL:PT1H
BEGIN:VTIMEZONE
TZID:Europe/Warsaw
BEGIN:DAYLIGHT
TZOFFSETFROM:+0100
TZOFFSETTO:+0200
TZNAME:CEST
DTSTART:20210328T010000
END:DAYLIGHT
BEGIN:STANDARD
TZOFFSETFROM:+0200
TZOFFSETTO:+0100
TZNAME:CET
DTSTART:20211031T010000
END:STANDARD
BEGIN:DAYLIGHT
TZOFFSETFROM:+0100
TZOFFSETTO:+0200
TZNAME:CEST
DTSTART:20220327T010000
END:DAYLIGHT
BEGIN:STANDARD
TZOFFSETFROM:+0200
TZOFFSETTO:+0100
TZNAME:CET
DTSTART:20221030T010000
END:STANDARD
BEGIN:DAYLIGHT
TZOFFSETFROM:+0100
TZOFFSETTO:+0200
TZNAME:CEST
DTSTART:20230326T010000
END:DAYLIGHT
BEGIN:STANDARD
TZOFFSETFROM:+0200
TZOFFSETTO:+0100
TZNAME:CET
DTSTART:20231029T010000
END:STANDARD
END:VTIMEZONE
BEGIN:VEVENT
DTSTART;TZID=Europe/Warsaw:20220729T200000
DTEND;TZID=Europe/Warsaw:20220729T220000
DTSTAMP:20260421T232158
CREATED:20220706T131221Z
LAST-MODIFIED:20220706T131221Z
UID:6057-1659124800-1659132000@www.ck.ostroda.pl
SUMMARY:Lady Pank LP40
DESCRIPTION:Lady Pank LP40 \nKoncerty Lady Pank w ramach urodzinowej trasy LP40 to prawdziwa gratka dla wszystkich fanów zespołu. Będzie okazja\, by poszaleć przy największych hitach legendarnej grupy! \nLady Pank to bez dwóch zdań jeden z najważniejszych zespołów w historii polskiej muzyki. W tym roku muzycy obchodzą jubileusz 40-lecia działalności.  \nOkrągłe urodziny Lady Pank nie mogą odbyć się bez premiery płyty i trasy koncertowej! W końcu to właśnie ze spektakularnych\, wypełnionych największymi przebojami koncertów słynie zespół Jana Borysewicza i Janusza Panasewicza.  \nOd premiery ostatniego albumu Lady Pank – „Miłość i władza” – minęło pięć lat. Świat w tym czasie stanął na głowie. Dziś nic\, co jeszcze niedawno wydawało nam się normalne\, nie jest oczywiste. Wyjście do klubu czy na koncert stało się luksusem – i właśnie tego luksusowego towaru Lady Pank chce dostarczyć fanom jak najwięcej!  \nTrasa koncertowa – nazwana tak samo jak nowy album\, czyli „LP40” – startuje latem 2021 roku i potrwa do końca roku 2022.  \nKoncerty Lady Pank – emocje gwarantowane \nMuzycy Lady Pank są w świetnej formie\, co udowodnili podczas letniej trasy koncertowej „Strach się bać” oraz w trakcie jubileuszu wydania swojej pierwszej płyty – „LP1”. Fani grupy wiedzą\, że na koncertach mogą się spodziewać największych muzycznych emocji. Na swoje 40. urodziny zespół przygotował mnóstwo niespodzianek\, którymi zaskoczą nawet swoich najwierniejszych słuchaczy.  \nNie zabraknie największych przebojów z czterech dekad działalności ani utworów z najnowszej płyty\, w niespotykanej dotąd oprawie. Będzie hucznie\, przebojowo\, ale i sentymentalnie. W końcu na muzyce Lady Pank wychowały się już trzy pokolenia słuchaczy. I co najważniejsze – będzie bezpiecznie!
URL:https://www.ck.ostroda.pl/event/lady-pank-lp40/
LOCATION:Amfiteatr\, ul. Mickiewicza 17a\, Ostróda\, warmińsko-mazurskie\, 14-100
ATTACH;FMTTYPE=image/png:https://www.ck.ostroda.pl/wp-content/uploads/2022/07/OSTRODA-AMFITEATR-29-LIPCA-2022-PT.png
END:VEVENT
END:VCALENDAR