BEGIN:VCALENDAR
VERSION:2.0
PRODID:-//CENTRUM KULTURY w OSTRÓDZIE - ECPv6.15.20//NONSGML v1.0//EN
CALSCALE:GREGORIAN
METHOD:PUBLISH
X-ORIGINAL-URL:https://www.ck.ostroda.pl
X-WR-CALDESC:Wydarzenia dla CENTRUM KULTURY w OSTRÓDZIE
REFRESH-INTERVAL;VALUE=DURATION:PT1H
X-Robots-Tag:noindex
X-PUBLISHED-TTL:PT1H
BEGIN:VTIMEZONE
TZID:Europe/Warsaw
BEGIN:DAYLIGHT
TZOFFSETFROM:+0100
TZOFFSETTO:+0200
TZNAME:CEST
DTSTART:20210328T010000
END:DAYLIGHT
BEGIN:STANDARD
TZOFFSETFROM:+0200
TZOFFSETTO:+0100
TZNAME:CET
DTSTART:20211031T010000
END:STANDARD
BEGIN:DAYLIGHT
TZOFFSETFROM:+0100
TZOFFSETTO:+0200
TZNAME:CEST
DTSTART:20220327T010000
END:DAYLIGHT
BEGIN:STANDARD
TZOFFSETFROM:+0200
TZOFFSETTO:+0100
TZNAME:CET
DTSTART:20221030T010000
END:STANDARD
BEGIN:DAYLIGHT
TZOFFSETFROM:+0100
TZOFFSETTO:+0200
TZNAME:CEST
DTSTART:20230326T010000
END:DAYLIGHT
BEGIN:STANDARD
TZOFFSETFROM:+0200
TZOFFSETTO:+0100
TZNAME:CET
DTSTART:20231029T010000
END:STANDARD
END:VTIMEZONE
BEGIN:VEVENT
DTSTART;TZID=Europe/Warsaw:20220731T190000
DTEND;TZID=Europe/Warsaw:20220731T210000
DTSTAMP:20260421T232352
CREATED:20220706T132133Z
LAST-MODIFIED:20220706T132133Z
UID:6059-1659294000-1659301200@www.ck.ostroda.pl
SUMMARY:Spektakl "Goło i wesoło"
DESCRIPTION:Komedia „Goło i wesoło” autorstwa Stephena Sinclaire’a i Anthony’ego McCartena zawojowała już cały świat. Nie schodzi z afisza od prapremiery w Mercury Theatre w Auckland w Nowej Zelandii\, która miała miejsce w 1987 r. To mówi samo za siebie! Spektakl wystawiany był m.in. w\nUSA\, Kanadzie\, Anglii czy Francji. Wszędzie przyjmowany jest z entuzjazmem – zarówno przez publiczność\, jak i krytyków teatralnych. „Goło i wesoło” to historia kilku bezrobotnych z Tomaszowa Mazowieckiego\, którzy wpadają na pomysł\, by założyć grupę striptizerów. Pod nazwą „Napalone Nosorożce” planują zrealizować marzenie o wielkiej karierze\, która przerwałaby pasmo życiowych porażek. Będziemy więc towarzyszyć im w tym zuchwałym przedsięwzięciu\, obserwując\, jak pobierają pierwsze\, nieudolne lekcje tańca\, starają się o występ w klubie Eden (jedynym w mieście) czy wreszcie – po wielu godzinach ćwiczeń – dają swój premierowy\, niezapomniany występ. „Goło i wesoło” to zaskakująca i przezabawna komedia. Za reżyserię spektaklu odpowiada Tomasz Sapryk\, a na scenie będziemy mogli zobaczyć m.in. Katarzynę Ptasińską\, Sebastiana Cybulskiego\, Michała Lesienia-Głowackiego i Piotra Zelta.\nPrzed nami gorący wieczór w towarzystwie „Napalonych Nosorożców”. Jesteście gotowi?\nObsada:\nKatarzyna Ptasińska\nSebastian Cybulski\nWojciech Solarz\nMichał Lesień-Głowacki\nMichał Meyer\nMarek Kaliszuk\nPiotr Zelt\nAutor: Stephen Sinclair & Anthony McCarten\nPrzekład: Lou Rising\nOpieka artystyczna: Tomasz Sapryk\nScenografia: Wojciech Stefaniak\nChoreografia: Krzysztof Kris Adamski\nProdukcja: Teatr Gudejko\nSpektakl tylko dla dorosłych!
URL:https://www.ck.ostroda.pl/event/spektakl-golo-i-wesolo/
LOCATION:Amfiteatr\, ul. Mickiewicza 17a\, Ostróda\, warmińsko-mazurskie\, 14-100
ATTACH;FMTTYPE=image/jpeg:https://www.ck.ostroda.pl/wp-content/uploads/2022/07/GOLO-I-WESOLO.jpg
END:VEVENT
END:VCALENDAR