BEGIN:VCALENDAR
VERSION:2.0
PRODID:-//CENTRUM KULTURY w OSTRÓDZIE - ECPv6.15.20//NONSGML v1.0//EN
CALSCALE:GREGORIAN
METHOD:PUBLISH
X-WR-CALNAME:CENTRUM KULTURY w OSTRÓDZIE
X-ORIGINAL-URL:https://www.ck.ostroda.pl
X-WR-CALDESC:Wydarzenia dla CENTRUM KULTURY w OSTRÓDZIE
REFRESH-INTERVAL;VALUE=DURATION:PT1H
X-Robots-Tag:noindex
X-PUBLISHED-TTL:PT1H
BEGIN:VTIMEZONE
TZID:Europe/Warsaw
BEGIN:DAYLIGHT
TZOFFSETFROM:+0100
TZOFFSETTO:+0200
TZNAME:CEST
DTSTART:20210328T010000
END:DAYLIGHT
BEGIN:STANDARD
TZOFFSETFROM:+0200
TZOFFSETTO:+0100
TZNAME:CET
DTSTART:20211031T010000
END:STANDARD
BEGIN:DAYLIGHT
TZOFFSETFROM:+0100
TZOFFSETTO:+0200
TZNAME:CEST
DTSTART:20220327T010000
END:DAYLIGHT
BEGIN:STANDARD
TZOFFSETFROM:+0200
TZOFFSETTO:+0100
TZNAME:CET
DTSTART:20221030T010000
END:STANDARD
BEGIN:DAYLIGHT
TZOFFSETFROM:+0100
TZOFFSETTO:+0200
TZNAME:CEST
DTSTART:20230326T010000
END:DAYLIGHT
BEGIN:STANDARD
TZOFFSETFROM:+0200
TZOFFSETTO:+0100
TZNAME:CET
DTSTART:20231029T010000
END:STANDARD
END:VTIMEZONE
BEGIN:VEVENT
DTSTART;TZID=Europe/Warsaw:20220821T200000
DTEND;TZID=Europe/Warsaw:20220821T220000
DTSTAMP:20260421T214013
CREATED:20220729T120453Z
LAST-MODIFIED:20220729T120453Z
UID:6075-1661112000-1661119200@www.ck.ostroda.pl
SUMMARY:T.Love - trasa koncertowa HAU! HAU!
DESCRIPTION:T. Love – jeden z najważniejszych polskich zespołów rockowych\, powraca na scenę po 5 latach przerwy. W 2022 roku zespół zaprezentuje nowy album zatytułowany „HAU! HAU!”\, którego premierę zapowiedziano na 22 kwietnia. Przed nami wielka trasa koncertowa!\nZa większość kompozycji na nowym krążku odpowiada Janek Benedek\, który wrócił do zespołu podczas prac nad nowym albumem.\nPłytę „HAU! HAU!” zapowiadają single „Pochodnia” i „Ponura Żniwiarka”. W pierwszym z nich gościnnie zaśpiewała i wystąpiła Kasia Sienkiewicz – wokalistka zespołu Kwiat Jabłoni. „Pochodnia” to piosenka o ogniu miłości\, pełna wspomnień i klasycznych brzmień gitarowych z lat 80. Razem z teledyskiem Marty Kacprzak\, zawierającym wyjątkowe\, archiwalne zdjęcia zespołu\, „Pochodnia” staje się doskonałym preludium do tego\, co czeka na fanów T.Love w 2022 roku.\nAmfiteatr\nNiedziela 21.08.2022 r. godz. 20.00\nBilety: https://bilety.adria-art.pl/event/view/id/222060
URL:https://www.ck.ostroda.pl/event/t-love-trasa-koncertowa-hau-hau/
LOCATION:Amfiteatr\, ul. Mickiewicza 17a\, Ostróda\, warmińsko-mazurskie\, 14-100
ATTACH;FMTTYPE=image/jpeg:https://www.ck.ostroda.pl/wp-content/uploads/2022/07/A4_T.-Love-Hau-Hau.jpg
END:VEVENT
END:VCALENDAR