BEGIN:VCALENDAR
VERSION:2.0
PRODID:-//CENTRUM KULTURY w OSTRÓDZIE - ECPv6.15.20//NONSGML v1.0//EN
CALSCALE:GREGORIAN
METHOD:PUBLISH
X-ORIGINAL-URL:https://www.ck.ostroda.pl
X-WR-CALDESC:Wydarzenia dla CENTRUM KULTURY w OSTRÓDZIE
REFRESH-INTERVAL;VALUE=DURATION:PT1H
X-Robots-Tag:noindex
X-PUBLISHED-TTL:PT1H
BEGIN:VTIMEZONE
TZID:Europe/Warsaw
BEGIN:DAYLIGHT
TZOFFSETFROM:+0100
TZOFFSETTO:+0200
TZNAME:CEST
DTSTART:20210328T010000
END:DAYLIGHT
BEGIN:STANDARD
TZOFFSETFROM:+0200
TZOFFSETTO:+0100
TZNAME:CET
DTSTART:20211031T010000
END:STANDARD
BEGIN:DAYLIGHT
TZOFFSETFROM:+0100
TZOFFSETTO:+0200
TZNAME:CEST
DTSTART:20220327T010000
END:DAYLIGHT
BEGIN:STANDARD
TZOFFSETFROM:+0200
TZOFFSETTO:+0100
TZNAME:CET
DTSTART:20221030T010000
END:STANDARD
BEGIN:DAYLIGHT
TZOFFSETFROM:+0100
TZOFFSETTO:+0200
TZNAME:CEST
DTSTART:20230326T010000
END:DAYLIGHT
BEGIN:STANDARD
TZOFFSETFROM:+0200
TZOFFSETTO:+0100
TZNAME:CET
DTSTART:20231029T010000
END:STANDARD
END:VTIMEZONE
BEGIN:VEVENT
DTSTART;TZID=Europe/Warsaw:20220904T160000
DTEND;TZID=Europe/Warsaw:20220904T170000
DTSTAMP:20260421T201448
CREATED:20220902T111922Z
LAST-MODIFIED:20220902T112028Z
UID:6115-1662307200-1662310800@www.ck.ostroda.pl
SUMMARY:KONCERT zespołu "OUR TIME"
DESCRIPTION:Serdecznie zapraszamy na KONCERT zespołu „OUR TIME”\, działającego pod kierunkiem Pani Danuty Horbacz w Centrum Kultury w Ostródzie.\n4 września o godz. 16:00 w Sali Kameralnej Amfiteatru usłyszymy lekkie popowo-estradowe przeboje\, którymi zespół chce pożegnać wakacje i sezon letni. „Do zobaczenia w Ostródzie”\, taki tytuł nosi koncert\, w którym każdy z słuchaczy znajdzie coś dla siebie.\nWstęp wolny! Zapraszamy!
URL:https://www.ck.ostroda.pl/event/koncert-zespolu-our-time-2/
LOCATION:Sala Kameralna w amfiteatrze\, Mickiewicza 17A\, Ostróda\, warmińsko-mazurskie\, 14-100\, Poland
END:VEVENT
END:VCALENDAR