BEGIN:VCALENDAR
VERSION:2.0
PRODID:-//CENTRUM KULTURY w OSTRÓDZIE - ECPv6.15.20//NONSGML v1.0//EN
CALSCALE:GREGORIAN
METHOD:PUBLISH
X-ORIGINAL-URL:https://www.ck.ostroda.pl
X-WR-CALDESC:Wydarzenia dla CENTRUM KULTURY w OSTRÓDZIE
REFRESH-INTERVAL;VALUE=DURATION:PT1H
X-Robots-Tag:noindex
X-PUBLISHED-TTL:PT1H
BEGIN:VTIMEZONE
TZID:Europe/Warsaw
BEGIN:DAYLIGHT
TZOFFSETFROM:+0100
TZOFFSETTO:+0200
TZNAME:CEST
DTSTART:20210328T010000
END:DAYLIGHT
BEGIN:STANDARD
TZOFFSETFROM:+0200
TZOFFSETTO:+0100
TZNAME:CET
DTSTART:20211031T010000
END:STANDARD
BEGIN:DAYLIGHT
TZOFFSETFROM:+0100
TZOFFSETTO:+0200
TZNAME:CEST
DTSTART:20220327T010000
END:DAYLIGHT
BEGIN:STANDARD
TZOFFSETFROM:+0200
TZOFFSETTO:+0100
TZNAME:CET
DTSTART:20221030T010000
END:STANDARD
BEGIN:DAYLIGHT
TZOFFSETFROM:+0100
TZOFFSETTO:+0200
TZNAME:CEST
DTSTART:20230326T010000
END:DAYLIGHT
BEGIN:STANDARD
TZOFFSETFROM:+0200
TZOFFSETTO:+0100
TZNAME:CET
DTSTART:20231029T010000
END:STANDARD
END:VTIMEZONE
BEGIN:VEVENT
DTSTART;TZID=Europe/Warsaw:20220909T190000
DTEND;TZID=Europe/Warsaw:20220909T203000
DTSTAMP:20260421T201520
CREATED:20220729T115910Z
LAST-MODIFIED:20220729T115910Z
UID:6072-1662750000-1662755400@www.ck.ostroda.pl
SUMMARY:Kabaret Hrabi - Wady i Waszki
DESCRIPTION:Wszyscy mamy wady\, ale nie wszyscy chcemy o nich rozmawiać. Kabaret Hrabi w nowym programie pt. „Wady i waszki” postara się trochę nam je oswoić.\nO tym\, że nikt nie jest idealny\, wiemy wszyscy. Jako ludzie dysponujemy barwną paletą wad – mniej lub bardziej upierdliwych. Dopóki jednak są nasze – da się z nimi żyć. Problem pojawia się\, gdy dostrzegamy te\, które należą do innych. A może\, gdy spojrzymy na nie z przymrużeniem oka\, okażą się nieszkodliwe i sympatyczne? Wówczas to już nie wady\, ale waszki!\nKabaret Hrabi po raz kolejny bierze na tapet zwykłe życie\, patrząc na świat z życzliwością i zrozumieniem. „Wady i waszki” to niezapomniana lekcja samokrytyki\, którą warto odrobić. Bo\, jak wiadomo\, śmiech to zdrowie! Nawet\, a może szczególnie wtedy\, gdy śmiejemy się sami z siebie.\nUdział biorą:\nJoanna Kołaczkowska\nDariusz „Kamol” Kamys\nTomasz „Bajer” Majer\nŁukasz „Lopez” Pietsch\nBilety: https://bilety.adria-art.pl/event/view/id/242845\npiątek 09.09.2022 r. godz. 19.00
URL:https://www.ck.ostroda.pl/event/kabaret-hrabi-wady-i-waszki/
LOCATION:Amfiteatr\, ul. Mickiewicza 17a\, Ostróda\, warmińsko-mazurskie\, 14-100
ATTACH;FMTTYPE=image/jpeg:https://www.ck.ostroda.pl/wp-content/uploads/2022/07/A4_Kabaret-Hrabi-Wady-i-waszki.jpg
END:VEVENT
END:VCALENDAR