BEGIN:VCALENDAR
VERSION:2.0
PRODID:-//CENTRUM KULTURY w OSTRÓDZIE - ECPv6.15.20//NONSGML v1.0//EN
CALSCALE:GREGORIAN
METHOD:PUBLISH
X-ORIGINAL-URL:https://www.ck.ostroda.pl
X-WR-CALDESC:Wydarzenia dla CENTRUM KULTURY w OSTRÓDZIE
REFRESH-INTERVAL;VALUE=DURATION:PT1H
X-Robots-Tag:noindex
X-PUBLISHED-TTL:PT1H
BEGIN:VTIMEZONE
TZID:Europe/Warsaw
BEGIN:DAYLIGHT
TZOFFSETFROM:+0100
TZOFFSETTO:+0200
TZNAME:CEST
DTSTART:20210328T010000
END:DAYLIGHT
BEGIN:STANDARD
TZOFFSETFROM:+0200
TZOFFSETTO:+0100
TZNAME:CET
DTSTART:20211031T010000
END:STANDARD
BEGIN:DAYLIGHT
TZOFFSETFROM:+0100
TZOFFSETTO:+0200
TZNAME:CEST
DTSTART:20220327T010000
END:DAYLIGHT
BEGIN:STANDARD
TZOFFSETFROM:+0200
TZOFFSETTO:+0100
TZNAME:CET
DTSTART:20221030T010000
END:STANDARD
BEGIN:DAYLIGHT
TZOFFSETFROM:+0100
TZOFFSETTO:+0200
TZNAME:CEST
DTSTART:20230326T010000
END:DAYLIGHT
BEGIN:STANDARD
TZOFFSETFROM:+0200
TZOFFSETTO:+0100
TZNAME:CET
DTSTART:20231029T010000
END:STANDARD
END:VTIMEZONE
BEGIN:VEVENT
DTSTART;TZID=Europe/Warsaw:20220925T170000
DTEND;TZID=Europe/Warsaw:20220925T190000
DTSTAMP:20260421T201522
CREATED:20220901T090849Z
LAST-MODIFIED:20220901T090849Z
UID:6111-1664125200-1664132400@www.ck.ostroda.pl
SUMMARY:X Koncert "...by Świat usłyszał"
DESCRIPTION:To już 10 lat!\nW tym roku wystąpią:\nAgnieszka i Piotr Cudzich z zespołem\nAgnieszka Musiał\nArkadio\nBasia Pospieszalska\nOur Time\nZabłąkani w Obłokach\nkoncert poprowadzi Milena Sławińska\nwarsztaty muzyczne 23-25 września pod kierownictwem Marcina Pospieszalskiego\nzapisy: www.byswiatuslyszal.pl w zakładce „warsztaty”\n*****\nPatronat honorowy:\n– Marszałek Województwa Warmińsko-Mazurskiego Gustaw Marek Brzezin (i herb województwa)\n– Burmistrz Ostródy Zbigniew Michalak (i herb Ostródy)\n– Arcybiskup Warmiński Józef Górzyński (i herb biskupa)\nZadanie współfinansowane w ramach Gminnego Programu Profilaktyki i Rozwiązywania Problemów Alkoholowych oraz Przeciwdziałania Narkomanii na lata 2022-2025″\nDofinansowano ze środków Samorządu Województwa Warmińsko-Mazurskiego.\nSfinansowano ze środków Narodowego Instytutu Wolności – Centrum Rozwoju Społeczeństwa Obywatelskiego w ramach rządowego programu Fundusz Inicjatyw Obywatelskich NOWEFIO na lata 2021-2030\nPatroni medialni:\n– Gość Niedzielny\n– Chrześcijańskie Granie\n– Radio Plus Olsztyn\n– Ostróda News\nOrganizatorzy:\n– …By Świat usłyszał\n– Centrum Kultury\n– Parafia NPNMP
URL:https://www.ck.ostroda.pl/event/x-koncert-by-swiat-uslyszal/
LOCATION:Amfiteatr\, ul. Mickiewicza 17a\, Ostróda\, warmińsko-mazurskie\, 14-100
ATTACH;FMTTYPE=image/jpeg:https://www.ck.ostroda.pl/wp-content/uploads/2022/09/302252068_5380717395343458_7082965751213268007_n.jpg
END:VEVENT
END:VCALENDAR