BEGIN:VCALENDAR
VERSION:2.0
PRODID:-//CENTRUM KULTURY w OSTRÓDZIE - ECPv6.15.20//NONSGML v1.0//EN
CALSCALE:GREGORIAN
METHOD:PUBLISH
X-ORIGINAL-URL:https://www.ck.ostroda.pl
X-WR-CALDESC:Wydarzenia dla CENTRUM KULTURY w OSTRÓDZIE
REFRESH-INTERVAL;VALUE=DURATION:PT1H
X-Robots-Tag:noindex
X-PUBLISHED-TTL:PT1H
BEGIN:VTIMEZONE
TZID:Europe/Warsaw
BEGIN:DAYLIGHT
TZOFFSETFROM:+0100
TZOFFSETTO:+0200
TZNAME:CEST
DTSTART:20210328T010000
END:DAYLIGHT
BEGIN:STANDARD
TZOFFSETFROM:+0200
TZOFFSETTO:+0100
TZNAME:CET
DTSTART:20211031T010000
END:STANDARD
BEGIN:DAYLIGHT
TZOFFSETFROM:+0100
TZOFFSETTO:+0200
TZNAME:CEST
DTSTART:20220327T010000
END:DAYLIGHT
BEGIN:STANDARD
TZOFFSETFROM:+0200
TZOFFSETTO:+0100
TZNAME:CET
DTSTART:20221030T010000
END:STANDARD
BEGIN:DAYLIGHT
TZOFFSETFROM:+0100
TZOFFSETTO:+0200
TZNAME:CEST
DTSTART:20230326T010000
END:DAYLIGHT
BEGIN:STANDARD
TZOFFSETFROM:+0200
TZOFFSETTO:+0100
TZNAME:CET
DTSTART:20231029T010000
END:STANDARD
END:VTIMEZONE
BEGIN:VEVENT
DTSTART;TZID=Europe/Warsaw:20221015T100000
DTEND;TZID=Europe/Warsaw:20221015T140000
DTSTAMP:20260421T184149
CREATED:20221012T111323Z
LAST-MODIFIED:20221012T111323Z
UID:6155-1665828000-1665842400@www.ck.ostroda.pl
SUMMARY:ARTYSTYCZNE RĘKĄ DZIEŁO
DESCRIPTION:Chcieliście kiedyś w unikatowy\, wyjątkowy sposób oznaczyć swoją domową biblioteczkę? Teraz jest na to okazja! Już w najbliższą sobotę (15.10.22) zapraszamy na warsztaty exlibris\, podczas których będziecie mogli stworzyć swój znak własnościowy do oznaczania książek.\nUczestnicy podczas zajęć wykonają swój exlibris w formie pieczęci\, w technice linorytu.\nNie wymagamy zdolności plastycznych\, wystarczy odrobina chęci by stworzyć coś unikalnego!\n\n\nZajęcia:\n15.10.2022\ngodzina: 10:00-14:00\nGaleria Amfiteatru\nprowadzący: Michalina Betlewicz\n\n\nKoszt to jedyne 15 zł\, abyśmy mogli wesprzeć Waszą twórczość dodatkowymi materiałami. Bilet na warsztaty kupicie w Amfiteatrze w pokoju 105 w godzinach pracy Centrum Kultury w Ostródzie czyli w dni robocze od 8:00 – 16:00. Zapisy na warsztaty i rezerwacje biletów pod nr 89 670 90 71.\n\n\nZapraszamy
URL:https://www.ck.ostroda.pl/event/artystyczne-reka-dzielo/
LOCATION:Amfiteatr\, ul. Mickiewicza 17a\, Ostróda\, warmińsko-mazurskie\, 14-100
ATTACH;FMTTYPE=image/jpeg:https://www.ck.ostroda.pl/wp-content/uploads/2022/10/rekodzielo.jpg
ORGANIZER;CN="CK Ostr%C3%B3da":MAILTO:ck@ck.ostroda.pl
END:VEVENT
BEGIN:VEVENT
DTSTART;TZID=Europe/Warsaw:20221015T213000
DTEND;TZID=Europe/Warsaw:20221016T020000
DTSTAMP:20260421T184149
CREATED:20221012T112336Z
LAST-MODIFIED:20221012T112336Z
UID:6161-1665869400-1665885600@www.ck.ostroda.pl
SUMMARY:DUB NIGHT vol.7 || ROOTS TRIPPIN SOUND SYSTEM ALL NIGHT SESSION
DESCRIPTION:Czegoś takiego chyba jeszcze w ogóle nie robiliśmy. Już 15 października staniemy przed Wami tylko my i nasza ściana (za wami)  Zawsze chcieliśmy to zrobić i było to nasze wielkie marzenie zagrać od początku do końca sami. To nie jest tak\, że nie chcemy grac z kimś — co to\, to nie nie\, ale teraz będziemy mogli pokazać\, na co nas stać i nie będziemy oszczędzali nagłośnienia. Gramy na pełnej… od początku do końca\, gramy dubplates\, bo jakieś mamy i gramy to\, co lubimy\, czyli cały przekrój muzyki reggae\, a przede wszystkim gramy dla Was.\nMiło będzie się znowu spotkać!\n____________________________________________________________\nKiedy: 15.10.2022\nGdzie: Sala Kameralna Amfiteatru w Ostródzie\nStart: 21.00\nWejście: 20 zł\n____________________________________________________________\nROOTS TRIPPIN SOUND SYSTEM\nZaczęło się niewinnie\, ale trwa nadal. Roots Trippin Sound System to kompleksowa obsługa dźwiękowa specjalnie dla tych\, którzy kochają korzenne\, jamajskie brzmienia z dużą dawką basu pompowanego przez mobilny zestaw głośników własnej produkcji. Setki zagranych imprez zaowocowały nie tylko w bólach zbieranym doświadczeniem\, ale również przyjaźnią z innym Warmińsko-Mazurskim składem – DubPamina Sound. Teraz jest nas więcej do kochania. Połączeni miłością do muzyki oraz niskich częstotliwości\, prosto znad jezior regionu ślemy w świat roots\, dub\, rocksteady i ska.
URL:https://www.ck.ostroda.pl/event/dub-night-vol-7-roots-trippin-sound-system-all-night-session/
LOCATION:Sala Kameralna w amfiteatrze\, Mickiewicza 17A\, Ostróda\, warmińsko-mazurskie\, 14-100\, Poland
END:VEVENT
END:VCALENDAR