BEGIN:VCALENDAR
VERSION:2.0
PRODID:-//CENTRUM KULTURY w OSTRÓDZIE - ECPv6.15.20//NONSGML v1.0//EN
CALSCALE:GREGORIAN
METHOD:PUBLISH
X-WR-CALNAME:CENTRUM KULTURY w OSTRÓDZIE
X-ORIGINAL-URL:https://www.ck.ostroda.pl
X-WR-CALDESC:Wydarzenia dla CENTRUM KULTURY w OSTRÓDZIE
REFRESH-INTERVAL;VALUE=DURATION:PT1H
X-Robots-Tag:noindex
X-PUBLISHED-TTL:PT1H
BEGIN:VTIMEZONE
TZID:Europe/Warsaw
BEGIN:DAYLIGHT
TZOFFSETFROM:+0100
TZOFFSETTO:+0200
TZNAME:CEST
DTSTART:20210328T010000
END:DAYLIGHT
BEGIN:STANDARD
TZOFFSETFROM:+0200
TZOFFSETTO:+0100
TZNAME:CET
DTSTART:20211031T010000
END:STANDARD
BEGIN:DAYLIGHT
TZOFFSETFROM:+0100
TZOFFSETTO:+0200
TZNAME:CEST
DTSTART:20220327T010000
END:DAYLIGHT
BEGIN:STANDARD
TZOFFSETFROM:+0200
TZOFFSETTO:+0100
TZNAME:CET
DTSTART:20221030T010000
END:STANDARD
BEGIN:DAYLIGHT
TZOFFSETFROM:+0100
TZOFFSETTO:+0200
TZNAME:CEST
DTSTART:20230326T010000
END:DAYLIGHT
BEGIN:STANDARD
TZOFFSETFROM:+0200
TZOFFSETTO:+0100
TZNAME:CET
DTSTART:20231029T010000
END:STANDARD
END:VTIMEZONE
BEGIN:VEVENT
DTSTART;TZID=Europe/Warsaw:20221119T210000
DTEND;TZID=Europe/Warsaw:20221120T020000
DTSTAMP:20260421T172606
CREATED:20221102T115828Z
LAST-MODIFIED:20221102T115828Z
UID:6184-1668891600-1668909600@www.ck.ostroda.pl
SUMMARY:Dub Night vol.8 | Jah Love Soundsystem meets Roots Trippin Sound System | 2 stacks in area
DESCRIPTION:2 ściany dźwięku\, 2 razy więcej basu i 2 razy więcej zabawy!\nTak\, tak 19 listopada w Salce Amfiteatru staną dwa soundsystemy\, czyli\, Jah Love Soundsystem i Roots Trippin Sound System. To będzie ostatnia impreza w tym roku! Dawno nie graliśmy sound2sound\, a już bardzo dawno nie graliśmy w ten sposób z Jah Love. Nie możecie przegapić takiej okazji!\nDo zobaczenia!\n_____________________________________________________________\nKiedy: 19.11.2022\nStart: 21:00\nGdzie: Sala Kameralna Amfiteatru w Ostródzie\nWejście:\n25 zł do godziny 22.00\n30 zł po godzinie 22.00\n__________________________________________________________\nJah Love Soundsystem\n#WarsawDubStyle\nProjekt JahLove składa się z dwóch filarów. Pierwszym jest kolektyw selektorski\, kochający trzeszczenie winylowych płyt i pulsujący bas. Drugim – własnoręcznie zbudowane nagłośnienie\, które wraz ze wzmacniaczami i setkami metrów przewodów daje możliwość grania muzyki DUB wszędzie tam\, gdzie tylko znajdzie się publika miłująca niskie częstotliwości. Poprzez ciężkie\, basowe brzmienie\, świadomy przekaz i idea samoorganizacji idą w świat. Początki projektu sięgają 2009 roku i cyklicznych imprez w Niezależnym Centrum Kultury c5 w stolicy. Przestrzeń opuszczonej fabryki chipsów dała niesamowite możliwości rozwoju i zmusiła młody skład do zbudowania pierwszych głośników. Imprezy tam organizowane wpisały się w warszawską scenę muzyki reggae nie tylko dzięki swoim walorom muzycznym\, ale również za sprawą niepowtarzalnego klimatu panującego na skłocie. Tamten okres miał istotny wpływ na rozwój całej formacji; to właśnie wtedy ukształtowało się przeświadczenie\, że imprezę lepiej od początku do końca zorganizować własnymi siłami. Obecnie JAH LOVE SOUNDSYSTEM związany jest z klubem Pogłos i tam organizuje swoje sesje.\nROOTS TRIPPIN SOUND SYSTEM\nZaczęło się niewinnie\, ale trwa nadal. Roots Trippin Sound System to kompleksowa obsługa dźwiękowa specjalnie dla tych\, którzy kochają korzenne\, jamajskie brzmienia z dużą dawką basu pompowanego przez mobilny zestaw głośników własnej produkcji. Setki zagranych imprez zaowocowały nie tylko w bólach zbieranym doświadczeniem\, ale również przyjaźnią z innym Warmińsko-Mazurskim składem – DubPamina Sound. Teraz jest nas więcej do kochania. Połączeni miłością do muzyki oraz niskich częstotliwości\, prosto znad jezior regionu ślemy w świat roots\, dub\, rocksteady i ska
URL:https://www.ck.ostroda.pl/event/dub-night-vol-8-jah-love-soundsystem-meets-roots-trippin-sound-system-2-stacks-in-area/
LOCATION:Sala Kameralna w amfiteatrze\, Mickiewicza 17A\, Ostróda\, warmińsko-mazurskie\, 14-100\, Poland
ATTACH;FMTTYPE=image/jpeg:https://www.ck.ostroda.pl/wp-content/uploads/2022/11/311726431_812875850014407_3800403026621505892_n.jpg
END:VEVENT
END:VCALENDAR