BEGIN:VCALENDAR
VERSION:2.0
PRODID:-//CENTRUM KULTURY w OSTRÓDZIE - ECPv6.15.20//NONSGML v1.0//EN
CALSCALE:GREGORIAN
METHOD:PUBLISH
X-WR-CALNAME:CENTRUM KULTURY w OSTRÓDZIE
X-ORIGINAL-URL:https://www.ck.ostroda.pl
X-WR-CALDESC:Wydarzenia dla CENTRUM KULTURY w OSTRÓDZIE
REFRESH-INTERVAL;VALUE=DURATION:PT1H
X-Robots-Tag:noindex
X-PUBLISHED-TTL:PT1H
BEGIN:VTIMEZONE
TZID:Europe/Warsaw
BEGIN:DAYLIGHT
TZOFFSETFROM:+0100
TZOFFSETTO:+0200
TZNAME:CEST
DTSTART:20210328T010000
END:DAYLIGHT
BEGIN:STANDARD
TZOFFSETFROM:+0200
TZOFFSETTO:+0100
TZNAME:CET
DTSTART:20211031T010000
END:STANDARD
BEGIN:DAYLIGHT
TZOFFSETFROM:+0100
TZOFFSETTO:+0200
TZNAME:CEST
DTSTART:20220327T010000
END:DAYLIGHT
BEGIN:STANDARD
TZOFFSETFROM:+0200
TZOFFSETTO:+0100
TZNAME:CET
DTSTART:20221030T010000
END:STANDARD
BEGIN:DAYLIGHT
TZOFFSETFROM:+0100
TZOFFSETTO:+0200
TZNAME:CEST
DTSTART:20230326T010000
END:DAYLIGHT
BEGIN:STANDARD
TZOFFSETFROM:+0200
TZOFFSETTO:+0100
TZNAME:CET
DTSTART:20231029T010000
END:STANDARD
END:VTIMEZONE
BEGIN:VEVENT
DTSTART;TZID=Europe/Warsaw:20221204T130000
DTEND;TZID=Europe/Warsaw:20221204T160000
DTSTAMP:20260421T153327
CREATED:20221201T123743Z
LAST-MODIFIED:20221201T123743Z
UID:6218-1670158800-1670169600@www.ck.ostroda.pl
SUMMARY:MIKOŁAJKI W AMFITEATRZE
DESCRIPTION:
URL:https://www.ck.ostroda.pl/event/mikolajki-w-amfiteatrze/
LOCATION:Amfiteatr\, ul. Mickiewicza 17a\, Ostróda\, warmińsko-mazurskie\, 14-100
ATTACH;FMTTYPE=image/png:https://www.ck.ostroda.pl/wp-content/uploads/2022/12/Czerwony-Zdjecie-Swieta-Sprzedaz-Detaliczna-Plakat-7.png
ORGANIZER;CN="CK Ostr%C3%B3da":MAILTO:ck@ck.ostroda.pl
END:VEVENT
BEGIN:VEVENT
DTSTART;TZID=Europe/Warsaw:20221204T130000
DTEND;TZID=Europe/Warsaw:20221204T160000
DTSTAMP:20260421T153327
CREATED:20221201T123952Z
LAST-MODIFIED:20221201T123952Z
UID:6220-1670158800-1670169600@www.ck.ostroda.pl
SUMMARY:KONKURS NA NAJLEPSZE PRZEBRANIE
DESCRIPTION:
URL:https://www.ck.ostroda.pl/event/konkurs-na-najlepsze-przebranie/
LOCATION:Amfiteatr\, ul. Mickiewicza 17a\, Ostróda\, warmińsko-mazurskie\, 14-100
ATTACH;FMTTYPE=image/png:https://www.ck.ostroda.pl/wp-content/uploads/2022/12/Zielony-i-Czerwony-Swiateczny-Jarmark-Boze-Narodzenie-Plakat-2.png
ORGANIZER;CN="CK Ostr%C3%B3da":MAILTO:ck@ck.ostroda.pl
END:VEVENT
END:VCALENDAR