BEGIN:VCALENDAR
VERSION:2.0
PRODID:-//CENTRUM KULTURY w OSTRÓDZIE - ECPv6.15.20//NONSGML v1.0//EN
CALSCALE:GREGORIAN
METHOD:PUBLISH
X-ORIGINAL-URL:https://www.ck.ostroda.pl
X-WR-CALDESC:Wydarzenia dla CENTRUM KULTURY w OSTRÓDZIE
REFRESH-INTERVAL;VALUE=DURATION:PT1H
X-Robots-Tag:noindex
X-PUBLISHED-TTL:PT1H
BEGIN:VTIMEZONE
TZID:Europe/Warsaw
BEGIN:DAYLIGHT
TZOFFSETFROM:+0100
TZOFFSETTO:+0200
TZNAME:CEST
DTSTART:20210328T010000
END:DAYLIGHT
BEGIN:STANDARD
TZOFFSETFROM:+0200
TZOFFSETTO:+0100
TZNAME:CET
DTSTART:20211031T010000
END:STANDARD
BEGIN:DAYLIGHT
TZOFFSETFROM:+0100
TZOFFSETTO:+0200
TZNAME:CEST
DTSTART:20220327T010000
END:DAYLIGHT
BEGIN:STANDARD
TZOFFSETFROM:+0200
TZOFFSETTO:+0100
TZNAME:CET
DTSTART:20221030T010000
END:STANDARD
BEGIN:DAYLIGHT
TZOFFSETFROM:+0100
TZOFFSETTO:+0200
TZNAME:CEST
DTSTART:20230326T010000
END:DAYLIGHT
BEGIN:STANDARD
TZOFFSETFROM:+0200
TZOFFSETTO:+0100
TZNAME:CET
DTSTART:20231029T010000
END:STANDARD
END:VTIMEZONE
BEGIN:VEVENT
DTSTART;TZID=Europe/Warsaw:20221228T190000
DTEND;TZID=Europe/Warsaw:20221228T200000
DTSTAMP:20260421T160133
CREATED:20221215T132726Z
LAST-MODIFIED:20221215T132726Z
UID:6227-1672254000-1672257600@www.ck.ostroda.pl
SUMMARY:Do Ostródy zawita Teatr Tańca DzikiStyl Company
DESCRIPTION:W ramach projektu „Przestrzenie sztuki” do Ostródy zawita Teatr Tańca DzikiStyl Company\, w wykonaniu którego obejrzymy spektakl „Pan ZARAZ”. Przedstawienie przeznaczone jest dla widzów dorosłych ( 16 + ).\nBilety w cenie 20 zł i 15 zł będą do kupienia w Amfiteatrze oraz na stronie https://ckostroda.interticket.pl/program/pan-zaraz-spektakl-teatru-tanca-7976?fbclid=IwAR2_NURWl5KF9KOY-1gmE4Req3JZSCRnbfU7A3qbZv3SW5oHI6nseLfE_IM
URL:https://www.ck.ostroda.pl/event/do-ostrody-zawita-teatr-tanca-dzikistyl-company/
LOCATION:Sala Kameralna w amfiteatrze\, Mickiewicza 17A\, Ostróda\, warmińsko-mazurskie\, 14-100\, Poland
ATTACH;FMTTYPE=image/jpeg:https://www.ck.ostroda.pl/wp-content/uploads/2022/12/319355326_5865204470239626_3307846234557220585_n.jpg
ORGANIZER;CN="CK Ostr%C3%B3da":MAILTO:ck@ck.ostroda.pl
END:VEVENT
END:VCALENDAR