BEGIN:VCALENDAR
VERSION:2.0
PRODID:-//CENTRUM KULTURY w OSTRÓDZIE - ECPv6.15.20//NONSGML v1.0//EN
CALSCALE:GREGORIAN
METHOD:PUBLISH
X-WR-CALNAME:CENTRUM KULTURY w OSTRÓDZIE
X-ORIGINAL-URL:https://www.ck.ostroda.pl
X-WR-CALDESC:Wydarzenia dla CENTRUM KULTURY w OSTRÓDZIE
REFRESH-INTERVAL;VALUE=DURATION:PT1H
X-Robots-Tag:noindex
X-PUBLISHED-TTL:PT1H
BEGIN:VTIMEZONE
TZID:Europe/Warsaw
BEGIN:DAYLIGHT
TZOFFSETFROM:+0100
TZOFFSETTO:+0200
TZNAME:CEST
DTSTART:20220327T010000
END:DAYLIGHT
BEGIN:STANDARD
TZOFFSETFROM:+0200
TZOFFSETTO:+0100
TZNAME:CET
DTSTART:20221030T010000
END:STANDARD
BEGIN:DAYLIGHT
TZOFFSETFROM:+0100
TZOFFSETTO:+0200
TZNAME:CEST
DTSTART:20230326T010000
END:DAYLIGHT
BEGIN:STANDARD
TZOFFSETFROM:+0200
TZOFFSETTO:+0100
TZNAME:CET
DTSTART:20231029T010000
END:STANDARD
BEGIN:DAYLIGHT
TZOFFSETFROM:+0100
TZOFFSETTO:+0200
TZNAME:CEST
DTSTART:20240331T010000
END:DAYLIGHT
BEGIN:STANDARD
TZOFFSETFROM:+0200
TZOFFSETTO:+0100
TZNAME:CET
DTSTART:20241027T010000
END:STANDARD
END:VTIMEZONE
BEGIN:VEVENT
DTSTART;TZID=Europe/Warsaw:20230121T170000
DTEND;TZID=Europe/Warsaw:20230121T183000
DTSTAMP:20260421T105818
CREATED:20230109T135539Z
LAST-MODIFIED:20230109T135539Z
UID:6291-1674320400-1674325800@www.ck.ostroda.pl
SUMMARY:Koncert Świąteczno-Noworoczny Orkiestry Miejskiej w Ostródzie
DESCRIPTION:Orkiestra Miejska działająca w Centrum Kultury w Ostródzie pod kierunkiem Artura Stefańskiego zaprasza na Koncert Świąteczno-Noworoczny.\n21 stycznia – godz. 17:00 – ZAMEK w Ostródzie – Sala Reprezentacyjna\nW programie: kolędy z różnych stron świata oraz utwory karnawałowe.
URL:https://www.ck.ostroda.pl/event/koncert-swiateczno-noworoczny-orkiestry-miejskiej-w-ostrodzie/
LOCATION:ZAMEK Sala Reprezentacyjna\, Mickiewicza 22\, Ostróda\, 14100\, Polska
ATTACH;FMTTYPE=image/jpeg:https://www.ck.ostroda.pl/wp-content/uploads/2023/01/323589317_965485217753505_3870354375538369752_n.jpg
END:VEVENT
END:VCALENDAR