BEGIN:VCALENDAR
VERSION:2.0
PRODID:-//CENTRUM KULTURY w OSTRÓDZIE - ECPv6.15.20//NONSGML v1.0//EN
CALSCALE:GREGORIAN
METHOD:PUBLISH
X-ORIGINAL-URL:https://www.ck.ostroda.pl
X-WR-CALDESC:Wydarzenia dla CENTRUM KULTURY w OSTRÓDZIE
REFRESH-INTERVAL;VALUE=DURATION:PT1H
X-Robots-Tag:noindex
X-PUBLISHED-TTL:PT1H
BEGIN:VTIMEZONE
TZID:Europe/Warsaw
BEGIN:DAYLIGHT
TZOFFSETFROM:+0100
TZOFFSETTO:+0200
TZNAME:CEST
DTSTART:20220327T010000
END:DAYLIGHT
BEGIN:STANDARD
TZOFFSETFROM:+0200
TZOFFSETTO:+0100
TZNAME:CET
DTSTART:20221030T010000
END:STANDARD
BEGIN:DAYLIGHT
TZOFFSETFROM:+0100
TZOFFSETTO:+0200
TZNAME:CEST
DTSTART:20230326T010000
END:DAYLIGHT
BEGIN:STANDARD
TZOFFSETFROM:+0200
TZOFFSETTO:+0100
TZNAME:CET
DTSTART:20231029T010000
END:STANDARD
BEGIN:DAYLIGHT
TZOFFSETFROM:+0100
TZOFFSETTO:+0200
TZNAME:CEST
DTSTART:20240331T010000
END:DAYLIGHT
BEGIN:STANDARD
TZOFFSETFROM:+0200
TZOFFSETTO:+0100
TZNAME:CET
DTSTART:20241027T010000
END:STANDARD
END:VTIMEZONE
BEGIN:VEVENT
DTSTART;TZID=Europe/Warsaw:20230126T100000
DTEND;TZID=Europe/Warsaw:20230126T190000
DTSTAMP:20260421T105946
CREATED:20230109T084942Z
LAST-MODIFIED:20230109T084942Z
UID:6283-1674727200-1674759600@www.ck.ostroda.pl
SUMMARY:Rodzinne Ferie w Ostródzkim Amfiteatrze 2023
DESCRIPTION:Moi drodzy bardzo się cieszymy\, że znów możemy zorganizować Rodzinne Ferie w Amfiteatrze vol.5. Imprezę\, podczas której odbędzie się wystawa\, warsztaty dla najmłodszych\, gry\, konkursy\, koncerty\, pokazy filmów itp. Tym razem w Ostródzie pojawi się Harry Potter!!!! Będzie to cudowna podróż do magicznego świata czarodziejów! \n\n\n\n\n Dodaj do kalendarza
URL:https://www.ck.ostroda.pl/event/rodzinne-ferie-w-ostrodzkim-amfiteatrze-2023-5/
LOCATION:Amfiteatr\, ul. Mickiewicza 17a\, Ostróda\, warmińsko-mazurskie\, 14-100
ATTACH;FMTTYPE=image/webp:https://www.ck.ostroda.pl/wp-content/uploads/2023/01/cdfa4a_b4e2373a15734697ba91ad0fcc80c9c9_mv2.webp
ORGANIZER;CN="CK Ostr%C3%B3da":MAILTO:ck@ck.ostroda.pl
END:VEVENT
END:VCALENDAR