BEGIN:VCALENDAR
VERSION:2.0
PRODID:-//CENTRUM KULTURY w OSTRÓDZIE - ECPv6.15.20//NONSGML v1.0//EN
CALSCALE:GREGORIAN
METHOD:PUBLISH
X-WR-CALNAME:CENTRUM KULTURY w OSTRÓDZIE
X-ORIGINAL-URL:https://www.ck.ostroda.pl
X-WR-CALDESC:Wydarzenia dla CENTRUM KULTURY w OSTRÓDZIE
REFRESH-INTERVAL;VALUE=DURATION:PT1H
X-Robots-Tag:noindex
X-PUBLISHED-TTL:PT1H
BEGIN:VTIMEZONE
TZID:Europe/Warsaw
BEGIN:DAYLIGHT
TZOFFSETFROM:+0100
TZOFFSETTO:+0200
TZNAME:CEST
DTSTART:20220327T010000
END:DAYLIGHT
BEGIN:STANDARD
TZOFFSETFROM:+0200
TZOFFSETTO:+0100
TZNAME:CET
DTSTART:20221030T010000
END:STANDARD
BEGIN:DAYLIGHT
TZOFFSETFROM:+0100
TZOFFSETTO:+0200
TZNAME:CEST
DTSTART:20230326T010000
END:DAYLIGHT
BEGIN:STANDARD
TZOFFSETFROM:+0200
TZOFFSETTO:+0100
TZNAME:CET
DTSTART:20231029T010000
END:STANDARD
BEGIN:DAYLIGHT
TZOFFSETFROM:+0100
TZOFFSETTO:+0200
TZNAME:CEST
DTSTART:20240331T010000
END:DAYLIGHT
BEGIN:STANDARD
TZOFFSETFROM:+0200
TZOFFSETTO:+0100
TZNAME:CET
DTSTART:20241027T010000
END:STANDARD
END:VTIMEZONE
BEGIN:VEVENT
DTSTART;TZID=Europe/Warsaw:20230128T100000
DTEND;TZID=Europe/Warsaw:20230128T173000
DTSTAMP:20260421T153328
CREATED:20230109T085608Z
LAST-MODIFIED:20230109T085608Z
UID:6287-1674900000-1674927000@www.ck.ostroda.pl
SUMMARY:Rodzinne Ferie w Ostródzkim Amfiteatrze 2023
DESCRIPTION:Moi drodzy bardzo się cieszymy\, że znów możemy zorganizować Rodzinne Ferie w Amfiteatrze vol.5. Imprezę\, podczas której odbędzie się wystawa\, warsztaty dla najmłodszych\, gry\, konkursy\, koncerty\, pokazy filmów itp. Tym razem w Ostródzie pojawi się Harry Potter!!!! Będzie to cudowna podróż do magicznego świata czarodziejów!
URL:https://www.ck.ostroda.pl/event/rodzinne-ferie-w-ostrodzkim-amfiteatrze-2023-7/
LOCATION:Amfiteatr\, ul. Mickiewicza 17a\, Ostróda\, warmińsko-mazurskie\, 14-100
ATTACH;FMTTYPE=image/webp:https://www.ck.ostroda.pl/wp-content/uploads/2023/01/cdfa4a_54a1a10166e3422688643d1b7ef5264f_mv2.webp
ORGANIZER;CN="CK Ostr%C3%B3da":MAILTO:ck@ck.ostroda.pl
END:VEVENT
BEGIN:VEVENT
DTSTART;TZID=Europe/Warsaw:20230128T190000
DTEND;TZID=Europe/Warsaw:20230128T203000
DTSTAMP:20260421T153328
CREATED:20230103T113542Z
LAST-MODIFIED:20230112T111756Z
UID:6257-1674932400-1674937800@www.ck.ostroda.pl
SUMMARY:Koncert: Natalia Sikora i Tango Attack
DESCRIPTION:Kochani\, wielkimi krokami zbliża się tegoroczny 31. Finał Wielkiej Orkiestry Świątecznej Pomocy. Miasto Ostróda i Centrum Kultury w Ostródzie jak zawsze włączają się w tę potrzebną i pozytywną akcję. \nChcemy zaprosić Was na KONCERT charyzmatycznej wokalistki NATALII SIKORY\, która wspólnie z zespołem TANGO ATTACK przygotowuje projekt „CZARNE ANIOŁY” – PIOSENKI EWY DEMARCZYK.\nProjekt jest „świeżutki”\, jego premiera odbędzie się 10 stycznia 2023 w Teatrze Polonia Krystyny Jandy w Warszawie. \nZapraszamy 28 stycznia 2023 na godz. 19:00 do Sali Kameralnej ostródzkiego Amfiteatru! \nWstęp na ten wyjątkowy koncert to „cegiełka” do puszki WOŚP.\nNie żałujcie wsparcia i ZAPRASZAMY NA KONCERT!
URL:https://www.ck.ostroda.pl/event/koncert-natalia-sikora-i-tango-attack/
LOCATION:Sala Kameralna w amfiteatrze\, Mickiewicza 17A\, Ostróda\, warmińsko-mazurskie\, 14-100\, Poland
ATTACH;FMTTYPE=image/jpeg:https://www.ck.ostroda.pl/wp-content/uploads/2023/01/Natalia-Sikora-2-plakat-1.jpg
ORGANIZER;CN="CK Ostr%C3%B3da":MAILTO:ck@ck.ostroda.pl
END:VEVENT
END:VCALENDAR