BEGIN:VCALENDAR
VERSION:2.0
PRODID:-//CENTRUM KULTURY w OSTRÓDZIE - ECPv6.15.20//NONSGML v1.0//EN
CALSCALE:GREGORIAN
METHOD:PUBLISH
X-WR-CALNAME:CENTRUM KULTURY w OSTRÓDZIE
X-ORIGINAL-URL:https://www.ck.ostroda.pl
X-WR-CALDESC:Wydarzenia dla CENTRUM KULTURY w OSTRÓDZIE
REFRESH-INTERVAL;VALUE=DURATION:PT1H
X-Robots-Tag:noindex
X-PUBLISHED-TTL:PT1H
BEGIN:VTIMEZONE
TZID:Europe/Warsaw
BEGIN:DAYLIGHT
TZOFFSETFROM:+0100
TZOFFSETTO:+0200
TZNAME:CEST
DTSTART:20220327T010000
END:DAYLIGHT
BEGIN:STANDARD
TZOFFSETFROM:+0200
TZOFFSETTO:+0100
TZNAME:CET
DTSTART:20221030T010000
END:STANDARD
BEGIN:DAYLIGHT
TZOFFSETFROM:+0100
TZOFFSETTO:+0200
TZNAME:CEST
DTSTART:20230326T010000
END:DAYLIGHT
BEGIN:STANDARD
TZOFFSETFROM:+0200
TZOFFSETTO:+0100
TZNAME:CET
DTSTART:20231029T010000
END:STANDARD
BEGIN:DAYLIGHT
TZOFFSETFROM:+0100
TZOFFSETTO:+0200
TZNAME:CEST
DTSTART:20240331T010000
END:DAYLIGHT
BEGIN:STANDARD
TZOFFSETFROM:+0200
TZOFFSETTO:+0100
TZNAME:CET
DTSTART:20241027T010000
END:STANDARD
END:VTIMEZONE
BEGIN:VEVENT
DTSTART;TZID=Europe/Warsaw:20230129T140000
DTEND;TZID=Europe/Warsaw:20230129T203000
DTSTAMP:20260421T153329
CREATED:20230109T090536Z
LAST-MODIFIED:20230109T090556Z
UID:6289-1675000800-1675024200@www.ck.ostroda.pl
SUMMARY:Rodzinne Ferie w Ostródzkim Amfiteatrze 2023
DESCRIPTION:Moi drodzy bardzo się cieszymy\, że znów możemy zorganizować Rodzinne Ferie w Amfiteatrze vol.5. Imprezę\, podczas której odbędzie się wystawa\, warsztaty dla najmłodszych\, gry\, konkursy\, koncerty\, pokazy filmów itp. Tym razem w Ostródzie pojawi się Harry Potter!!!! Będzie to cudowna podróż do magicznego świata czarodziejów!
URL:https://www.ck.ostroda.pl/event/rodzinne-ferie-w-ostrodzkim-amfiteatrze-2023-8/
LOCATION:Amfiteatr\, ul. Mickiewicza 17a\, Ostróda\, warmińsko-mazurskie\, 14-100
ATTACH;FMTTYPE=image/webp:https://www.ck.ostroda.pl/wp-content/uploads/2023/01/cdfa4a_167b931bde854cf39dd217d4e29749e2_mv2.webp
ORGANIZER;CN="CK Ostr%C3%B3da":MAILTO:ck@ck.ostroda.pl
END:VEVENT
END:VCALENDAR