BEGIN:VCALENDAR
VERSION:2.0
PRODID:-//CENTRUM KULTURY w OSTRÓDZIE - ECPv6.15.20//NONSGML v1.0//EN
CALSCALE:GREGORIAN
METHOD:PUBLISH
X-ORIGINAL-URL:https://www.ck.ostroda.pl
X-WR-CALDESC:Wydarzenia dla CENTRUM KULTURY w OSTRÓDZIE
REFRESH-INTERVAL;VALUE=DURATION:PT1H
X-Robots-Tag:noindex
X-PUBLISHED-TTL:PT1H
BEGIN:VTIMEZONE
TZID:Europe/Warsaw
BEGIN:DAYLIGHT
TZOFFSETFROM:+0100
TZOFFSETTO:+0200
TZNAME:CEST
DTSTART:20220327T010000
END:DAYLIGHT
BEGIN:STANDARD
TZOFFSETFROM:+0200
TZOFFSETTO:+0100
TZNAME:CET
DTSTART:20221030T010000
END:STANDARD
BEGIN:DAYLIGHT
TZOFFSETFROM:+0100
TZOFFSETTO:+0200
TZNAME:CEST
DTSTART:20230326T010000
END:DAYLIGHT
BEGIN:STANDARD
TZOFFSETFROM:+0200
TZOFFSETTO:+0100
TZNAME:CET
DTSTART:20231029T010000
END:STANDARD
BEGIN:DAYLIGHT
TZOFFSETFROM:+0100
TZOFFSETTO:+0200
TZNAME:CEST
DTSTART:20240331T010000
END:DAYLIGHT
BEGIN:STANDARD
TZOFFSETFROM:+0200
TZOFFSETTO:+0100
TZNAME:CET
DTSTART:20241027T010000
END:STANDARD
END:VTIMEZONE
BEGIN:VEVENT
DTSTART;TZID=Europe/Warsaw:20230503T160000
DTEND;TZID=Europe/Warsaw:20230503T170000
DTSTAMP:20260421T214358
CREATED:20230428T124627Z
LAST-MODIFIED:20230428T124627Z
UID:6490-1683129600-1683133200@www.ck.ostroda.pl
SUMMARY:Koncert Zamkowego Chóru Kameralnego
DESCRIPTION:Już 3 maja odbędą się obchody Święta Konstytucji 3 Maja\, w związku z tym w Ostródzie czekać będzie na Państwa wiele atrakcji.\nMiędzy innymi o godzinie 16:00 w Sali Kameralnej Amfiteatru odbędzie się Koncert Zamkowego Chóru Kameralnego pod kierunkiem Joanny Jaskółowskiej. Podczas koncertu gościnnie wystąpią Amelia Krajewska oraz Kacper Ewartowski.\nWSTĘP BEZPŁATNY\n03.05.2023\ngodz. 16:00\nSala Kameralna
URL:https://www.ck.ostroda.pl/event/koncert-zamkowego-choru-kameralnego/
LOCATION:Sala Kameralna w amfiteatrze\, Mickiewicza 17A\, Ostróda\, warmińsko-mazurskie\, 14-100\, Poland
ATTACH;FMTTYPE=image/png:https://www.ck.ostroda.pl/wp-content/uploads/2023/04/3-maja.png
ORGANIZER;CN="CK Ostr%C3%B3da":MAILTO:ck@ck.ostroda.pl
END:VEVENT
END:VCALENDAR