BEGIN:VCALENDAR
VERSION:2.0
PRODID:-//CENTRUM KULTURY w OSTRÓDZIE - ECPv6.15.20//NONSGML v1.0//EN
CALSCALE:GREGORIAN
METHOD:PUBLISH
X-ORIGINAL-URL:https://www.ck.ostroda.pl
X-WR-CALDESC:Wydarzenia dla CENTRUM KULTURY w OSTRÓDZIE
REFRESH-INTERVAL;VALUE=DURATION:PT1H
X-Robots-Tag:noindex
X-PUBLISHED-TTL:PT1H
BEGIN:VTIMEZONE
TZID:Europe/Warsaw
BEGIN:DAYLIGHT
TZOFFSETFROM:+0100
TZOFFSETTO:+0200
TZNAME:CEST
DTSTART:20220327T010000
END:DAYLIGHT
BEGIN:STANDARD
TZOFFSETFROM:+0200
TZOFFSETTO:+0100
TZNAME:CET
DTSTART:20221030T010000
END:STANDARD
BEGIN:DAYLIGHT
TZOFFSETFROM:+0100
TZOFFSETTO:+0200
TZNAME:CEST
DTSTART:20230326T010000
END:DAYLIGHT
BEGIN:STANDARD
TZOFFSETFROM:+0200
TZOFFSETTO:+0100
TZNAME:CET
DTSTART:20231029T010000
END:STANDARD
BEGIN:DAYLIGHT
TZOFFSETFROM:+0100
TZOFFSETTO:+0200
TZNAME:CEST
DTSTART:20240331T010000
END:DAYLIGHT
BEGIN:STANDARD
TZOFFSETFROM:+0200
TZOFFSETTO:+0100
TZNAME:CET
DTSTART:20241027T010000
END:STANDARD
END:VTIMEZONE
BEGIN:VEVENT
DTSTART;TZID=Europe/Warsaw:20230527T110000
DTEND;TZID=Europe/Warsaw:20230527T160000
DTSTAMP:20260422T005836
CREATED:20230508T121933Z
LAST-MODIFIED:20230525T084328Z
UID:6499-1685185200-1685203200@www.ck.ostroda.pl
SUMMARY:Dzień Rodziny. Koncert Majki Jeżowskiej
DESCRIPTION:27.05.2023 \nUROCZYSTA INAUGURACJA XXV WARMIŃSKO-MAZURSKICH DNI RODZINY ODBĘDZIE SIĘ 27 MAJA 2023 ROKU W OSTRÓDZIE. \nTegoroczna edycja Warmińsko-Mazurskich Dni Rodziny odbywa się pod hasłem przewodnim: „Razem tworzymy rodzinę”. \n\nWydarzenie\, którego Patronami są m.in: Zbigniew Michalak – Burmistrz Miasta Ostróda oraz Miasto Ostróda będzie niezapomnianym przeżyciem i wspaniałą zabawą dla małych i dużych\, starszych i młodszych odbiorców. \n\n\n\nGWIAZDĄ tego wydarzenia jest wokalistka\, której piosenki śpiewają zarówno dzieci\, jak ich rodzice i wszyscy świetnie się bawią.\n\n\nMAJKA JEŻOWSKA zaśpiewa swoje największe hity:\n„A ja wolę moją mamę”\, „Marzenia się spełniają”\, „Wszystkie dzieci nasze są”.\n\n\nJako support koncertu Majki wystąpi ostródzka Grupa Wokalna „Our Time”\, działająca w Centrum Kultury w Ostródzie.\n\n\nSerdecznie zapraszamy w sobotę 27 maja od godz. 13:00 \n\nWstęp wolny! \n\n\n\nWydarzenie jest częścią XXV Warmińsko-Mazurskich Dni Rodziny i organizowane jest przy wsparciu finansowym Samorządu Województwa Warmińsko-Mazurskiego.\n\n 
URL:https://www.ck.ostroda.pl/event/dzien-rodziny-koncert-majki-jezowskiej/
LOCATION:Amfiteatr\, ul. Mickiewicza 17a\, Ostróda\, warmińsko-mazurskie\, 14-100
ATTACH;FMTTYPE=image/jpeg:https://www.ck.ostroda.pl/wp-content/uploads/2023/05/plakat_v9.jpg
END:VEVENT
END:VCALENDAR