BEGIN:VCALENDAR
VERSION:2.0
PRODID:-//CENTRUM KULTURY w OSTRÓDZIE - ECPv6.15.20//NONSGML v1.0//EN
CALSCALE:GREGORIAN
METHOD:PUBLISH
X-WR-CALNAME:CENTRUM KULTURY w OSTRÓDZIE
X-ORIGINAL-URL:https://www.ck.ostroda.pl
X-WR-CALDESC:Wydarzenia dla CENTRUM KULTURY w OSTRÓDZIE
REFRESH-INTERVAL;VALUE=DURATION:PT1H
X-Robots-Tag:noindex
X-PUBLISHED-TTL:PT1H
BEGIN:VTIMEZONE
TZID:Europe/Warsaw
BEGIN:DAYLIGHT
TZOFFSETFROM:+0100
TZOFFSETTO:+0200
TZNAME:CEST
DTSTART:20230326T010000
END:DAYLIGHT
BEGIN:STANDARD
TZOFFSETFROM:+0200
TZOFFSETTO:+0100
TZNAME:CET
DTSTART:20231029T010000
END:STANDARD
BEGIN:DAYLIGHT
TZOFFSETFROM:+0100
TZOFFSETTO:+0200
TZNAME:CEST
DTSTART:20240331T010000
END:DAYLIGHT
BEGIN:STANDARD
TZOFFSETFROM:+0200
TZOFFSETTO:+0100
TZNAME:CET
DTSTART:20241027T010000
END:STANDARD
BEGIN:DAYLIGHT
TZOFFSETFROM:+0100
TZOFFSETTO:+0200
TZNAME:CEST
DTSTART:20250330T010000
END:DAYLIGHT
BEGIN:STANDARD
TZOFFSETFROM:+0200
TZOFFSETTO:+0100
TZNAME:CET
DTSTART:20251026T010000
END:STANDARD
END:VTIMEZONE
BEGIN:VEVENT
DTSTART;VALUE=DATE:20240621
DTEND;VALUE=DATE:20240622
DTSTAMP:20260421T190004
CREATED:20240603T132316Z
LAST-MODIFIED:20240605T133235Z
UID:7091-1718928000-1719014399@www.ck.ostroda.pl
SUMMARY:Grupa MoCarta i Igor Kwiatkowski 
DESCRIPTION:Grupa MoCarta i Igor Kwiatkowski  \nDATA I GODZINA:   21.06.24r. Godz. 20:00  \nOPIS WYDARZENIA: Zapraszamy na niezapomniany letni wieczór pełen śmiechu! W tegorocznej edycji HuMore Show wystąpią Igor Kwiatkowski i Grupa MoCarta – artyści połączą swoje siły i dostarczą wrażeń\, które rozbawią do łez! Igor Kwiatkowski to komik znany z Kabaretu Paranienormalni oraz licznych telewizyjnych produkcji. Podczas występu zaprezentuje swój solowy program „Tylko śmiech nas ocali”. To niezwykły one man show\, w którym dominuje humor pełen zdziwienia nad światem i zaskoczenia codziennością. Z jego nietuzinkowym talentem oraz oryginalnym stylem na pewno oderwiesz się od rzeczywistości! Grupy MoCarta nie trzeba nikomu przedstawiać. Niezastąpiony kwartet muzyków postanowił poświęcić swój nowy program muzyce filmowej. Ich występ „Ale kino!” to prawdziwa uczta dla miłośników filmów i muzyki! Przygotuj się na żartobliwe spojrzenie na ponadczasowe przeboje kinowe oraz na niesamowite niespodzianki\, takie jak taniec Lorda Vadera czy niskobudżetowe efekty specjalne na miarę hollywoodzkich superprodukcji.  \nPrzygotuj się na wieczór pełen śmiechu i niespodzianek. Zarezerwuj już dziś bilety na wydarzenie i zanurz się w świecie humoru i muzyki w wykonaniu Igora Kwiatkowskiego i Grupy MoCarta!  \nBilety:\nDostępne: TU
URL:https://www.ck.ostroda.pl/event/7091/
ATTACH;FMTTYPE=image/webp:https://www.ck.ostroda.pl/wp-content/uploads/2024/06/A4_Igor-Kwiatkowski-i-Grupa-Mocarta.webp
END:VEVENT
END:VCALENDAR