BEGIN:VCALENDAR
VERSION:2.0
PRODID:-//CENTRUM KULTURY w OSTRÓDZIE - ECPv6.15.20//NONSGML v1.0//EN
CALSCALE:GREGORIAN
METHOD:PUBLISH
X-ORIGINAL-URL:https://www.ck.ostroda.pl
X-WR-CALDESC:Wydarzenia dla CENTRUM KULTURY w OSTRÓDZIE
REFRESH-INTERVAL;VALUE=DURATION:PT1H
X-Robots-Tag:noindex
X-PUBLISHED-TTL:PT1H
BEGIN:VTIMEZONE
TZID:Europe/Warsaw
BEGIN:DAYLIGHT
TZOFFSETFROM:+0100
TZOFFSETTO:+0200
TZNAME:CEST
DTSTART:20230326T010000
END:DAYLIGHT
BEGIN:STANDARD
TZOFFSETFROM:+0200
TZOFFSETTO:+0100
TZNAME:CET
DTSTART:20231029T010000
END:STANDARD
BEGIN:DAYLIGHT
TZOFFSETFROM:+0100
TZOFFSETTO:+0200
TZNAME:CEST
DTSTART:20240331T010000
END:DAYLIGHT
BEGIN:STANDARD
TZOFFSETFROM:+0200
TZOFFSETTO:+0100
TZNAME:CET
DTSTART:20241027T010000
END:STANDARD
BEGIN:DAYLIGHT
TZOFFSETFROM:+0100
TZOFFSETTO:+0200
TZNAME:CEST
DTSTART:20250330T010000
END:DAYLIGHT
BEGIN:STANDARD
TZOFFSETFROM:+0200
TZOFFSETTO:+0100
TZNAME:CET
DTSTART:20251026T010000
END:STANDARD
END:VTIMEZONE
BEGIN:VEVENT
DTSTART;VALUE=DATE:20240623
DTEND;VALUE=DATE:20240624
DTSTAMP:20260421T190214
CREATED:20240603T133545Z
LAST-MODIFIED:20240603T133545Z
UID:7096-1719100800-1719187199@www.ck.ostroda.pl
SUMMARY:Spektakl \,\,Dom Wariatów"
DESCRIPTION:DATA I GODZINA: \n23.06.24r.\nGodz. 17:00  \nOPIS WYDARZENIA:\nJuż 23 czerwca zapraszamy Was na spektakl komediowy który rozbawi Was do łez! \nNadia\, a od teraz właściwie już Narcyza\, ma nadzieję na nowy start. Pora w końcu znaleźć porządnego pracodawcę\, bo przecież ile można użerać się ze zdradami małżeńskimi. Jak to zwykle bywa – pod latarnią jest najciemniej\, dlatego mieszkanie Weroniki – z zawodu psychiatry i jej męża Krzysztofa – psychologa\, szybko okazuje się… istnym “domem wariatów”.  \nNie dość\, że Nadia\, to znaczy Narcyza\, miała już okazję z Krzysztofem współpracować i czasy te wspomina\, mówiąc najoględniej – z dużą dozą niechęci\, to jeszcze znowu ma ręce pełne roboty! Bo jak tu znaleźć chwilę wytchnienia\, kiedy Daniel – pacjent Weroniki\, a tak naprawdę kochanek\, nie może spotkać Krzysztofa\, z kolei Weronika też warto\, żeby przypadkiem nie natknęła się na… kochankę męża. Nie pozostaje zatem nic innego\, jak wykorzystać narzędzia współczesnej psychiatrii. Kto cierpi na urojenia\, a kto słyszy głosy? Kto jest kochankiem\, kto mężem\, a kto pacjentem? A może wszystkim po prostu przydałaby się terapia pod czujnym okiem pomocy domowej?  \nPrzekonajcie się sami! \nZapraszamy na spektakl “Domu wariatów”\, w którym poznacie dalsze losy Nadii z “Boeing Boeing” i “Pomocy domowej”.  \nBilety:\n40 zł w przedsprzedaży\nDostępne online:\nhttps://biletyna.pl/event/view/id/429669\nhttps://ckostroda.interticket.pl/program/dom-wariatow-spektakl-9642\noraz stacjonarnie w Amfiteatrze\, pok. 105 
URL:https://www.ck.ostroda.pl/event/spektakl-dom-wariatow/
ATTACH;FMTTYPE=image/png:https://www.ck.ostroda.pl/wp-content/uploads/2024/06/dzien-dziecka-2.png
END:VEVENT
END:VCALENDAR