BEGIN:VCALENDAR
VERSION:2.0
PRODID:-//CENTRUM KULTURY w OSTRÓDZIE - ECPv6.15.20//NONSGML v1.0//EN
CALSCALE:GREGORIAN
METHOD:PUBLISH
X-ORIGINAL-URL:https://www.ck.ostroda.pl
X-WR-CALDESC:Wydarzenia dla CENTRUM KULTURY w OSTRÓDZIE
REFRESH-INTERVAL;VALUE=DURATION:PT1H
X-Robots-Tag:noindex
X-PUBLISHED-TTL:PT1H
BEGIN:VTIMEZONE
TZID:Europe/Warsaw
BEGIN:DAYLIGHT
TZOFFSETFROM:+0100
TZOFFSETTO:+0200
TZNAME:CEST
DTSTART:20230326T010000
END:DAYLIGHT
BEGIN:STANDARD
TZOFFSETFROM:+0200
TZOFFSETTO:+0100
TZNAME:CET
DTSTART:20231029T010000
END:STANDARD
BEGIN:DAYLIGHT
TZOFFSETFROM:+0100
TZOFFSETTO:+0200
TZNAME:CEST
DTSTART:20240331T010000
END:DAYLIGHT
BEGIN:STANDARD
TZOFFSETFROM:+0200
TZOFFSETTO:+0100
TZNAME:CET
DTSTART:20241027T010000
END:STANDARD
BEGIN:DAYLIGHT
TZOFFSETFROM:+0100
TZOFFSETTO:+0200
TZNAME:CEST
DTSTART:20250330T010000
END:DAYLIGHT
BEGIN:STANDARD
TZOFFSETFROM:+0200
TZOFFSETTO:+0100
TZNAME:CET
DTSTART:20251026T010000
END:STANDARD
END:VTIMEZONE
BEGIN:VEVENT
DTSTART;VALUE=DATE:20240802
DTEND;VALUE=DATE:20240803
DTSTAMP:20260421T160018
CREATED:20240604T104854Z
LAST-MODIFIED:20240604T104854Z
UID:7111-1722556800-1722643199@www.ck.ostroda.pl
SUMMARY:Polska Noc Kabaretowa
DESCRIPTION:DATA I GODZINA: 02.08.24r. godz. 20:00  \nOpis wydarzenia: Polska Noc Kabaretowa 2024 – największe widowisko kabaretowe w Polsce wraca do Twojego miasta!  \nSą gibcy\, są silni\, są w olimpijskiej formie!\nPrzybywamy do Was z najbardziej wysportowaną kabaretową ekipą wszech czasów. Po miesiącach treningów\, wycieńczających obozów szkoleniowych i niekończących się przygotowań przedstawiamy program pobijający wszystkie rekordy świata. Będziecie śmiać się najgłośniej\, wzdychać z zachwytu niezliczoną liczbę razy\, bawić się do utraty tchu. Mamy zamiar pokazać Wam kabaretowy program na miarę igrzysk olimpijskich. Łucznicza celność żartów. Sprinterska szybkość reakcji. Gimnastyczna elastyczność interakcji z publicznością. Szachowa mądrość puent. Wielobojowy dobór tematów. Jednym słowem mamy wszystko\, aby zdobyć olimpijski szczyt  \nBILETY:\nKUPBILECIK 
URL:https://www.ck.ostroda.pl/event/polska-noc-kabaretowa/
ATTACH;FMTTYPE=image/webp:https://www.ck.ostroda.pl/wp-content/uploads/2024/06/ebilet-pnk-2024-656x369-66da462c-d28b-4f59-a4d2-2837ca6720ad.webp
END:VEVENT
END:VCALENDAR