BEGIN:VCALENDAR
VERSION:2.0
PRODID:-//CENTRUM KULTURY w OSTRÓDZIE - ECPv6.15.20//NONSGML v1.0//EN
CALSCALE:GREGORIAN
METHOD:PUBLISH
X-WR-CALNAME:CENTRUM KULTURY w OSTRÓDZIE
X-ORIGINAL-URL:https://www.ck.ostroda.pl
X-WR-CALDESC:Wydarzenia dla CENTRUM KULTURY w OSTRÓDZIE
REFRESH-INTERVAL;VALUE=DURATION:PT1H
X-Robots-Tag:noindex
X-PUBLISHED-TTL:PT1H
BEGIN:VTIMEZONE
TZID:Europe/Warsaw
BEGIN:DAYLIGHT
TZOFFSETFROM:+0100
TZOFFSETTO:+0200
TZNAME:CEST
DTSTART:20230326T010000
END:DAYLIGHT
BEGIN:STANDARD
TZOFFSETFROM:+0200
TZOFFSETTO:+0100
TZNAME:CET
DTSTART:20231029T010000
END:STANDARD
BEGIN:DAYLIGHT
TZOFFSETFROM:+0100
TZOFFSETTO:+0200
TZNAME:CEST
DTSTART:20240331T010000
END:DAYLIGHT
BEGIN:STANDARD
TZOFFSETFROM:+0200
TZOFFSETTO:+0100
TZNAME:CET
DTSTART:20241027T010000
END:STANDARD
BEGIN:DAYLIGHT
TZOFFSETFROM:+0100
TZOFFSETTO:+0200
TZNAME:CEST
DTSTART:20250330T010000
END:DAYLIGHT
BEGIN:STANDARD
TZOFFSETFROM:+0200
TZOFFSETTO:+0100
TZNAME:CET
DTSTART:20251026T010000
END:STANDARD
END:VTIMEZONE
BEGIN:VEVENT
DTSTART;VALUE=DATE:20240809
DTEND;VALUE=DATE:20240810
DTSTAMP:20260421T155240
CREATED:20240604T105206Z
LAST-MODIFIED:20240604T105206Z
UID:7119-1723161600-1723247999@www.ck.ostroda.pl
SUMMARY:Koncert Lady Pank
DESCRIPTION:DATA I CZAS: 09.08.2024 godz. 20:00  \nOPIS WYDARZENIA: \nLady Pank – A nam nie chce się iść do domu  \nWraz ze zbliżającym się latem zespół Lady Pank zaprasza na serię koncertów pod hasłem „A nam nie chce się iść do domu”. Uczestnicy usłyszą na żywo ulubione hity grupy\, takie jak „Zawsze tam\, gdzie Ty” czy „Kryzysowa narzeczona”\, co uczyni letnie wieczory naprawdę niezapomnianymi \nBILETY:\nbiletyna
URL:https://www.ck.ostroda.pl/event/koncert-lady-pank/
ATTACH;FMTTYPE=image/jpeg:https://www.ck.ostroda.pl/wp-content/uploads/2024/06/e3f4610f89070a6b6e04bec997ecf97d.jpg
END:VEVENT
END:VCALENDAR