BEGIN:VCALENDAR
VERSION:2.0
PRODID:-//CENTRUM KULTURY w OSTRÓDZIE - ECPv6.15.20//NONSGML v1.0//EN
CALSCALE:GREGORIAN
METHOD:PUBLISH
X-ORIGINAL-URL:https://www.ck.ostroda.pl
X-WR-CALDESC:Wydarzenia dla CENTRUM KULTURY w OSTRÓDZIE
REFRESH-INTERVAL;VALUE=DURATION:PT1H
X-Robots-Tag:noindex
X-PUBLISHED-TTL:PT1H
BEGIN:VTIMEZONE
TZID:Europe/Warsaw
BEGIN:DAYLIGHT
TZOFFSETFROM:+0100
TZOFFSETTO:+0200
TZNAME:CEST
DTSTART:20230326T010000
END:DAYLIGHT
BEGIN:STANDARD
TZOFFSETFROM:+0200
TZOFFSETTO:+0100
TZNAME:CET
DTSTART:20231029T010000
END:STANDARD
BEGIN:DAYLIGHT
TZOFFSETFROM:+0100
TZOFFSETTO:+0200
TZNAME:CEST
DTSTART:20240331T010000
END:DAYLIGHT
BEGIN:STANDARD
TZOFFSETFROM:+0200
TZOFFSETTO:+0100
TZNAME:CET
DTSTART:20241027T010000
END:STANDARD
BEGIN:DAYLIGHT
TZOFFSETFROM:+0100
TZOFFSETTO:+0200
TZNAME:CEST
DTSTART:20250330T010000
END:DAYLIGHT
BEGIN:STANDARD
TZOFFSETFROM:+0200
TZOFFSETTO:+0100
TZNAME:CET
DTSTART:20251026T010000
END:STANDARD
END:VTIMEZONE
BEGIN:VEVENT
DTSTART;VALUE=DATE:20240814
DTEND;VALUE=DATE:20240815
DTSTAMP:20260421T155347
CREATED:20240604T105650Z
LAST-MODIFIED:20240604T110650Z
UID:7125-1723593600-1723679999@www.ck.ostroda.pl
SUMMARY:LUC & Rebel Babel- Muzyka z filmu Chłopi
DESCRIPTION:DATA I CZAS:  14.08.24r. Godz. 20:00  \nOPIS WYDARZENIA:\n \nZapraszamy na wyjątkowy koncert z muzyką do filmu „Chłopi”\, opartego na literackim arcydziele Reymonta. Łukasz „L.U.C.” Rostkowski\, twórca ścieżki dźwiękowej\, łączy tradycję z nowoczesnością\, komponując piękną muzykę filmową z autentycznymi instrumentami ludowymi.\n\n„Chłopi” to najnowszy film DK Welchman i Hugh Welchmana\, twórców „Twojego Vincenta”\, który został polskim kandydata do Oscara w kategorii najlepszy film zagraniczny. Łukasz „L.U.C.” Rostkowski\, zdobywca wielu nagród i uznania zarówno w kraju\, jak i za granicą\, jest odpowiedzialny za stworzenie ścieżki dźwiękowej do filmu. Teraz razem z Rebel Babel Film Orchestra zaprasza na koncerty projektu „Chłopi”.\n\nKompozycje napisane specjalnie dla filmu wcielają w życie tradycyjne polskie brzmienia i autentyczne ludowe instrumenty. Całość tworzy piękną muzykę filmową\, która oddaje hołd polskiej tradycji. Muzyka do filmu Chłopi zdobyła statuetkę Fryderyka w 2024 roku w kategorii Muzyka Filmowa Teatralna i Ilustracyjna. To prawdziwa podróż w czasie\, w trakcie której współczesne podejście do form i aranżacji spotyka się z ludowością.  \n\nNa koncertach projektu „Chłopi” wystąpi L.U.C. z Rebel Babel Ochestra. Podczas wieczoru będzie okazja podziwiać malowidła\, animacje i filmy\, które przedstawiają proces tworzenia tego niezwykłego obrazu. To niezapomniane wydarzenie\, które przeniesie Cię blisko natury i korzeni polskiej kultury. \nWystąpią:\nMaria Pomianowska – suka/fidel płocka\nKarolina Skrzyńska – lira korbowa/skrzypce/wokal\nKatarzyna Kapela – skrzypce/wokal\nWeronika Mońka-Chwała – skrzypce\nSebastian Wypych – kontrabas\nPiotr Kopietz – akordeon\nDaniel Peszko – gitara\nWojciech Lubertowicz – bębny\nPiotr Hałaj – tuba\nAdam Caturian – klarnet \n\nNie przegap tej niezwykłej muzycznej i kulturalnej podróży! Dołącz do nas i zanurz się w historii\, dźwiękach i tradycjach „Chłopów”.\n  \nBILETY:\nBILETYNA
URL:https://www.ck.ostroda.pl/event/luc-rebel-babel-muzyka-z-filmu-chlopi/
ATTACH;FMTTYPE=image/webp:https://www.ck.ostroda.pl/wp-content/uploads/2024/06/A4_L.U.C.-Rebel-Babel-Muzyka-do-filmu-Chlopi.webp
END:VEVENT
END:VCALENDAR