BEGIN:VCALENDAR
VERSION:2.0
PRODID:-//CENTRUM KULTURY w OSTRÓDZIE - ECPv6.15.20//NONSGML v1.0//EN
CALSCALE:GREGORIAN
METHOD:PUBLISH
X-WR-CALNAME:CENTRUM KULTURY w OSTRÓDZIE
X-ORIGINAL-URL:https://www.ck.ostroda.pl
X-WR-CALDESC:Wydarzenia dla CENTRUM KULTURY w OSTRÓDZIE
REFRESH-INTERVAL;VALUE=DURATION:PT1H
X-Robots-Tag:noindex
X-PUBLISHED-TTL:PT1H
BEGIN:VTIMEZONE
TZID:Europe/Warsaw
BEGIN:DAYLIGHT
TZOFFSETFROM:+0100
TZOFFSETTO:+0200
TZNAME:CEST
DTSTART:20230326T010000
END:DAYLIGHT
BEGIN:STANDARD
TZOFFSETFROM:+0200
TZOFFSETTO:+0100
TZNAME:CET
DTSTART:20231029T010000
END:STANDARD
BEGIN:DAYLIGHT
TZOFFSETFROM:+0100
TZOFFSETTO:+0200
TZNAME:CEST
DTSTART:20240331T010000
END:DAYLIGHT
BEGIN:STANDARD
TZOFFSETFROM:+0200
TZOFFSETTO:+0100
TZNAME:CET
DTSTART:20241027T010000
END:STANDARD
BEGIN:DAYLIGHT
TZOFFSETFROM:+0100
TZOFFSETTO:+0200
TZNAME:CEST
DTSTART:20250330T010000
END:DAYLIGHT
BEGIN:STANDARD
TZOFFSETFROM:+0200
TZOFFSETTO:+0100
TZNAME:CET
DTSTART:20251026T010000
END:STANDARD
END:VTIMEZONE
BEGIN:VEVENT
DTSTART;VALUE=DATE:20240815
DTEND;VALUE=DATE:20240816
DTSTAMP:20260421T160928
CREATED:20240604T110949Z
LAST-MODIFIED:20240604T110949Z
UID:7131-1723680000-1723766399@www.ck.ostroda.pl
SUMMARY:Agnieszka Chylińska
DESCRIPTION:DATA I CZAS: 15.08.24r. Godz. 19:00 \n\nOPIS WYDARZENIA: Zapraszamy na koncerty Agnieszki Chylińskiej\, jednej z najbardziej charakterystycznych i charyzmatycznych polskich artystek.  \nKoncerty autorki takich przebojów jak Jest nas więcej\, Kiedyś do ciebie wrócę\, to gwarancja niezapomnianych przeżyć i zastrzyk pozytywnej energii.  \nOd kilkudziesięciu lat Agnieszka Chylińska odważnie kroczy własną ścieżką i nie boi się podejmować artystycznego ryzyka. Odważnie eksperymentując ze swoim scenicznym wizerunkiem\, nieustannie udowadnia swoją muzyczną wszechstronność. Teraz zaprasza do wspólnego powspominania minionych lat obfitujących w sukcesy\, emocjonujące wyzwania i ogrom emocji.  \nBILETY:  \nBILETYNA
URL:https://www.ck.ostroda.pl/event/agnieszka-chylinska/
ATTACH;FMTTYPE=image/jpeg:https://www.ck.ostroda.pl/wp-content/uploads/2024/06/f3abb41f0812c0275ee230a901cded2a.jpg
END:VEVENT
END:VCALENDAR