BEGIN:VCALENDAR
VERSION:2.0
PRODID:-//CENTRUM KULTURY w OSTRÓDZIE - ECPv6.15.20//NONSGML v1.0//EN
CALSCALE:GREGORIAN
METHOD:PUBLISH
X-WR-CALNAME:CENTRUM KULTURY w OSTRÓDZIE
X-ORIGINAL-URL:https://www.ck.ostroda.pl
X-WR-CALDESC:Wydarzenia dla CENTRUM KULTURY w OSTRÓDZIE
REFRESH-INTERVAL;VALUE=DURATION:PT1H
X-Robots-Tag:noindex
X-PUBLISHED-TTL:PT1H
BEGIN:VTIMEZONE
TZID:Europe/Warsaw
BEGIN:DAYLIGHT
TZOFFSETFROM:+0100
TZOFFSETTO:+0200
TZNAME:CEST
DTSTART:20240331T010000
END:DAYLIGHT
BEGIN:STANDARD
TZOFFSETFROM:+0200
TZOFFSETTO:+0100
TZNAME:CET
DTSTART:20241027T010000
END:STANDARD
BEGIN:DAYLIGHT
TZOFFSETFROM:+0100
TZOFFSETTO:+0200
TZNAME:CEST
DTSTART:20250330T010000
END:DAYLIGHT
BEGIN:STANDARD
TZOFFSETFROM:+0200
TZOFFSETTO:+0100
TZNAME:CET
DTSTART:20251026T010000
END:STANDARD
BEGIN:DAYLIGHT
TZOFFSETFROM:+0100
TZOFFSETTO:+0200
TZNAME:CEST
DTSTART:20260329T010000
END:DAYLIGHT
BEGIN:STANDARD
TZOFFSETFROM:+0200
TZOFFSETTO:+0100
TZNAME:CET
DTSTART:20261025T010000
END:STANDARD
END:VTIMEZONE
BEGIN:VEVENT
DTSTART;TZID=Europe/Warsaw:20250808T210000
DTEND;TZID=Europe/Warsaw:20250808T223000
DTSTAMP:20260421T224335
CREATED:20250616T113526Z
LAST-MODIFIED:20250616T113526Z
UID:7658-1754686800-1754692200@www.ck.ostroda.pl
SUMMARY:Justyna Steczkowska – The Best – Ostróda Amfiteatr\, 8 sierpnia
DESCRIPTION:08.08.2025 r. godz. 21.00 Amfiteatr\, Ostróda \nTo fantastyczne show z największymi przebojami Justyny Steczkowskiej i utworami z płyty WITCH TARAHORO\, która to już w pierwszym tygodniu sprzedaży osiągnęła status złotej płyty. Specjalnie przygotowane wizualizacje\, tancerze\, wspaniali muzycy i niezwykłe kreacje artystki to gwarancja niezapomnianych artystycznych wrażeń. To koncert pełen tanecznej energii\, ale też wzruszeń i niezapomnianych chwil z muzyką Justyny Steczkowskiej.\n\nCzas trwania show: 70/80 minut.\n\n30 lat na Scenie. Justyna Steczkowska to jedna z najważniejszych postaci polskiej sceny muzycznej\, artystka\, która z sukcesem łączy różnorodne style muzyczne i zdobywa serca publiczności od ponad trzech dekad. Wokalistka\, kompozytorka\, skrzypaczka\, ale także autorka tekstów\, której charyzma\, talent i niepowtarzalny głos sprawiają\, że jej występy na długo pozostają w pamięci. Prawdziwą popularność zdobyła dzięki swojej oryginalności i wszechstronności. Jej 4-oktawowy głos pozwala jej swobodnie poruszać się między różnymi gatunkami muzycznymi – od popu\, przez muzykę filmową\, aż po klasykę i muzykę eksperymentalną. Justyna Steczkowska zwyciężyła w Wielkim finale polskich kwalifikacji do Eurowizji 2025 i to ona reprezentowała Polskę podczas konkursu w Bazylei.\nJustyna Steczkowska jest również laureatką wielu prestiżowych nagród muzycznych\, w tym 6 Fryderyków\, 2 Wiktorów\, Bursztynowego Słowika i wielu innych wyróżnień związanych z jej dorobkiem artystycznym. Jej twórczość jest pełna emocji\, a każdy jej koncert to wyjątkowe przeżycie – pełne pasji\, energii i artystycznej głębi. Artystka to również ikona mody\, której styl i wizerunek zyskały uznanie nie tylko w Polsce\, ale i za granicą. Justyna Steczkowska to nie tylko wokalistka\, ale prawdziwa artystka wszechstronna\, która nie boi się podejmować wyzwań i eksperymentować w swojej muzyce\, zawsze pozostając wierną swojej unikalnej tożsamości.\nLink do zakupu biletów: https://www.numio.pl/bilety/justyna-steczkowska-the-best-ostroda-2025-08-08
URL:https://www.ck.ostroda.pl/event/justyna-steczkowska-the-best-ostroda-amfiteatr-8-sierpnia/
ATTACH;FMTTYPE=image/jpeg:https://www.ck.ostroda.pl/wp-content/uploads/2025/06/Justyna_Steczkowska_1200x1200_OSTRODA.jpg
END:VEVENT
END:VCALENDAR