BEGIN:VCALENDAR
VERSION:2.0
PRODID:-//CENTRUM KULTURY w OSTRÓDZIE - ECPv6.15.20//NONSGML v1.0//EN
CALSCALE:GREGORIAN
METHOD:PUBLISH
X-WR-CALNAME:CENTRUM KULTURY w OSTRÓDZIE
X-ORIGINAL-URL:https://www.ck.ostroda.pl
X-WR-CALDESC:Wydarzenia dla CENTRUM KULTURY w OSTRÓDZIE
REFRESH-INTERVAL;VALUE=DURATION:PT1H
X-Robots-Tag:noindex
X-PUBLISHED-TTL:PT1H
BEGIN:VTIMEZONE
TZID:Europe/Warsaw
BEGIN:DAYLIGHT
TZOFFSETFROM:+0100
TZOFFSETTO:+0200
TZNAME:CEST
DTSTART:20240331T010000
END:DAYLIGHT
BEGIN:STANDARD
TZOFFSETFROM:+0200
TZOFFSETTO:+0100
TZNAME:CET
DTSTART:20241027T010000
END:STANDARD
BEGIN:DAYLIGHT
TZOFFSETFROM:+0100
TZOFFSETTO:+0200
TZNAME:CEST
DTSTART:20250330T010000
END:DAYLIGHT
BEGIN:STANDARD
TZOFFSETFROM:+0200
TZOFFSETTO:+0100
TZNAME:CET
DTSTART:20251026T010000
END:STANDARD
BEGIN:DAYLIGHT
TZOFFSETFROM:+0100
TZOFFSETTO:+0200
TZNAME:CEST
DTSTART:20260329T010000
END:DAYLIGHT
BEGIN:STANDARD
TZOFFSETFROM:+0200
TZOFFSETTO:+0100
TZNAME:CET
DTSTART:20261025T010000
END:STANDARD
END:VTIMEZONE
BEGIN:VEVENT
DTSTART;TZID=Europe/Warsaw:20250810T180000
DTEND;TZID=Europe/Warsaw:20250810T193000
DTSTAMP:20260421T191532
CREATED:20250804T114219Z
LAST-MODIFIED:20250804T114219Z
UID:7727-1754848800-1754854200@www.ck.ostroda.pl
SUMMARY:KONCERT Reprezentacyjnego Zespołu Artystycznego Wojska Polskiego 2025
DESCRIPTION:Centrum Kultury w Ostródzie ma zaszczyt i ogromną radość zaprosić Państwa na KONCERT REPREZENTACYJNEGO ZESPOŁU ARTYSTYCZNEGO WOJSKA POLSKIEGO\, który wystąpi na scenie ostródzkiego Amfiteatru już w niedzielę 10 sierpnia 2025 o godz. 18:00. Wstęp wolny.
URL:https://www.ck.ostroda.pl/event/koncert-reprezentacyjnego-zespolu-artystycznego-wojska-polskiego-2025/
ATTACH;FMTTYPE=image/jpeg:https://www.ck.ostroda.pl/wp-content/uploads/2025/08/RZAWP-koncert-2025-plakat.jpg
END:VEVENT
END:VCALENDAR