BEGIN:VCALENDAR
VERSION:2.0
PRODID:-//CENTRUM KULTURY w OSTRÓDZIE - ECPv6.15.20//NONSGML v1.0//EN
CALSCALE:GREGORIAN
METHOD:PUBLISH
X-ORIGINAL-URL:https://www.ck.ostroda.pl
X-WR-CALDESC:Wydarzenia dla CENTRUM KULTURY w OSTRÓDZIE
REFRESH-INTERVAL;VALUE=DURATION:PT1H
X-Robots-Tag:noindex
X-PUBLISHED-TTL:PT1H
BEGIN:VTIMEZONE
TZID:Europe/Warsaw
BEGIN:DAYLIGHT
TZOFFSETFROM:+0100
TZOFFSETTO:+0200
TZNAME:CEST
DTSTART:20240331T010000
END:DAYLIGHT
BEGIN:STANDARD
TZOFFSETFROM:+0200
TZOFFSETTO:+0100
TZNAME:CET
DTSTART:20241027T010000
END:STANDARD
BEGIN:DAYLIGHT
TZOFFSETFROM:+0100
TZOFFSETTO:+0200
TZNAME:CEST
DTSTART:20250330T010000
END:DAYLIGHT
BEGIN:STANDARD
TZOFFSETFROM:+0200
TZOFFSETTO:+0100
TZNAME:CET
DTSTART:20251026T010000
END:STANDARD
BEGIN:DAYLIGHT
TZOFFSETFROM:+0100
TZOFFSETTO:+0200
TZNAME:CEST
DTSTART:20260329T010000
END:DAYLIGHT
BEGIN:STANDARD
TZOFFSETFROM:+0200
TZOFFSETTO:+0100
TZNAME:CET
DTSTART:20261025T010000
END:STANDARD
END:VTIMEZONE
BEGIN:VEVENT
DTSTART;VALUE=DATE:20250815
DTEND;VALUE=DATE:20250816
DTSTAMP:20260421T105945
CREATED:20250417T131254Z
LAST-MODIFIED:20250417T131254Z
UID:7560-1755216000-1755302399@www.ck.ostroda.pl
SUMMARY:Myslovitz - Lato 2025
DESCRIPTION:Zapraszamy na pełen energii muzyczny wieczór pod gołym niebem! Mocne brzmienia\, letnia aura i niezapomniane refreny — zespół przygotował idealny przepis na wyjątkowe wrażenia! \nMyslovitz to legenda polskiej sceny\, której nikomu nie trzeba przedstawiać. Mysłowicki zespół ma w dorobku dziesięć albumów i ponad pół miliona sprzedanych płyt. Ich przeboje\, od „Długość dźwięku samotności” po „Peggy Brown”\, weszły do kanonu rodzimego rocka. \nZespół\, który został nagrodzony m.in. MTV Europe Music Awards i Fryderykami\, gwarantuje na koncertach prawdziwą moc wrażeń. Doświadczysz tego latem podczas plenerowych występów\, które idealnie pasują do wakacyjnej aury. Zarezerwuj bilety na letnie koncerty Myslovitz już dziś! \nMyslovitz – Lato 2025\n15.08.2025\ngodz.20:00\nOstróda\, Amfiteatr ul. Mickiewicza 17a\nBILETY: adria-art.pl
URL:https://www.ck.ostroda.pl/event/myslovitz-lato-2025/
ATTACH;FMTTYPE=image/jpeg:https://www.ck.ostroda.pl/wp-content/uploads/2025/04/Ostroda_1200x900_Myslovitz-Lato-2025.jpg
END:VEVENT
END:VCALENDAR