BEGIN:VCALENDAR
VERSION:2.0
PRODID:-//CENTRUM KULTURY w OSTRÓDZIE - ECPv6.15.20//NONSGML v1.0//EN
CALSCALE:GREGORIAN
METHOD:PUBLISH
X-WR-CALNAME:CENTRUM KULTURY w OSTRÓDZIE
X-ORIGINAL-URL:https://www.ck.ostroda.pl
X-WR-CALDESC:Wydarzenia dla CENTRUM KULTURY w OSTRÓDZIE
REFRESH-INTERVAL;VALUE=DURATION:PT1H
X-Robots-Tag:noindex
X-PUBLISHED-TTL:PT1H
BEGIN:VTIMEZONE
TZID:Europe/Warsaw
BEGIN:DAYLIGHT
TZOFFSETFROM:+0100
TZOFFSETTO:+0200
TZNAME:CEST
DTSTART:20240331T010000
END:DAYLIGHT
BEGIN:STANDARD
TZOFFSETFROM:+0200
TZOFFSETTO:+0100
TZNAME:CET
DTSTART:20241027T010000
END:STANDARD
BEGIN:DAYLIGHT
TZOFFSETFROM:+0100
TZOFFSETTO:+0200
TZNAME:CEST
DTSTART:20250330T010000
END:DAYLIGHT
BEGIN:STANDARD
TZOFFSETFROM:+0200
TZOFFSETTO:+0100
TZNAME:CET
DTSTART:20251026T010000
END:STANDARD
BEGIN:DAYLIGHT
TZOFFSETFROM:+0100
TZOFFSETTO:+0200
TZNAME:CEST
DTSTART:20260329T010000
END:DAYLIGHT
BEGIN:STANDARD
TZOFFSETFROM:+0200
TZOFFSETTO:+0100
TZNAME:CET
DTSTART:20261025T010000
END:STANDARD
END:VTIMEZONE
BEGIN:VEVENT
DTSTART;TZID=Europe/Warsaw:20251022T080000
DTEND;TZID=Europe/Warsaw:20251123T200000
DTSTAMP:20260420T133222
CREATED:20251014T134533Z
LAST-MODIFIED:20251014T134533Z
UID:7770-1761120000-1763928000@www.ck.ostroda.pl
SUMMARY:Umieć w teatr
DESCRIPTION:Centrum Kultury w Ostródzie pozyskało dofinansowanie z Programu Ministra Kultury i Dziedzictwa Narodowego – Kultura Dostępna 2025 – na realizację projektu „Umieć w Teatr” \n\n\nW ramach tego projektu zaczynamy realizację szeregu wyjątkowych działań:\n\n\n1 Pokażemy Wam spektakl „Ifigenia ze Splot” – monodram w wykonaniu ostródzianki Agnieszki Skrzypczak\, obecnie aktorki Teatru im. Stefana Jaracza w Łodzi.\n\n\n2Zrealizujemy warsztaty teatralne z profesjonalnym instruktorem i aktorem zawodowym dla uczestników ostródzkich amatorskich grup teatralnych.\n\n\n3 Zorganizujemy 3 pokazy spektaklu „Kubuś” wg Eugene’a Ionesco w wykonaniu Teatru Bez Przesady działającego przy Centrum Kultury w Ostródzie pod kierunkiem Moniki Kazimierczyk.\n\n\n4 Przygotujemy Mini-Festiwal Sztuk Ionesco – czyli prezentację przedstawień inspirowanych twórczością tego wybitnego dramaturga.\n\n\n5 W ramach turystyki kulturalnej zabierzemy 50 osób do Teatru Komedia w Warszawie na widowisko „Kabaret Warszawski”.\n\n\n Ostróda będzie mogła jeszcze pełniej korzystać z bogactwa sztuki teatralnej!  Dzięki dotacji z MKiDN wszystkie wydarzenia będą bezpłatne dla uczestników. O datach i szczegółach dotyczących udziału w poszczególnych etapach projektu\, będziemy Państwa informować na bieżąco. Zaglądajcie tu! \n\n\n„Dofinansowano ze środków Ministra Kultury i Dziedzictwa Narodowego pochodzących z Funduszu Promocji Kultury”
URL:https://www.ck.ostroda.pl/event/umiec-w-teatr/
ATTACH;FMTTYPE=image/jpeg:https://www.ck.ostroda.pl/wp-content/uploads/2025/10/umiec-w-teatr.jpg
END:VEVENT
END:VCALENDAR