BEGIN:VCALENDAR
VERSION:2.0
PRODID:-//CENTRUM KULTURY w OSTRÓDZIE - ECPv6.15.20//NONSGML v1.0//EN
CALSCALE:GREGORIAN
METHOD:PUBLISH
X-ORIGINAL-URL:https://www.ck.ostroda.pl
X-WR-CALDESC:Wydarzenia dla CENTRUM KULTURY w OSTRÓDZIE
REFRESH-INTERVAL;VALUE=DURATION:PT1H
X-Robots-Tag:noindex
X-PUBLISHED-TTL:PT1H
BEGIN:VTIMEZONE
TZID:Europe/Warsaw
BEGIN:DAYLIGHT
TZOFFSETFROM:+0100
TZOFFSETTO:+0200
TZNAME:CEST
DTSTART:20210328T010000
END:DAYLIGHT
BEGIN:STANDARD
TZOFFSETFROM:+0200
TZOFFSETTO:+0100
TZNAME:CET
DTSTART:20211031T010000
END:STANDARD
BEGIN:DAYLIGHT
TZOFFSETFROM:+0100
TZOFFSETTO:+0200
TZNAME:CEST
DTSTART:20220327T010000
END:DAYLIGHT
BEGIN:STANDARD
TZOFFSETFROM:+0200
TZOFFSETTO:+0100
TZNAME:CET
DTSTART:20221030T010000
END:STANDARD
BEGIN:DAYLIGHT
TZOFFSETFROM:+0100
TZOFFSETTO:+0200
TZNAME:CEST
DTSTART:20230326T010000
END:DAYLIGHT
BEGIN:STANDARD
TZOFFSETFROM:+0200
TZOFFSETTO:+0100
TZNAME:CET
DTSTART:20231029T010000
END:STANDARD
END:VTIMEZONE
BEGIN:VEVENT
DTSTART;TZID=Europe/Warsaw:20220806T180000
DTEND;TZID=Europe/Warsaw:20220807T230000
DTSTAMP:20260421T201634
CREATED:20220706T122153Z
LAST-MODIFIED:20220712T134855Z
UID:6044-1659808800-1659913200@www.ck.ostroda.pl
SUMMARY:Dni Ostródy 2022
DESCRIPTION:Zapraszamy na Święto Naszego Miasta czyli Dni Ostródy 2022\, które odbędą się w dniach 5-7 sierpnia 2022 r.\nJak zwykle możecie Państwo liczyć na moc rodzinnych atrakcji\, przygotowanych przez wszystkie jednostki miejskie\, we współpracy z naszymi Partnerami. Na Bulwarze Europejskim organizowane będą animacje\, konkursy\, wystawy\, działania rekreacyjne\, a w ostródzkim Amfiteatrze odbędzie się część koncertowa oraz wystawa pokonkursowa #MiastoOstróda.\nGwiazdami tegorocznych DNI OSTRÓDY są:\n#ROKSANAWĘGIEL\n#SŁAWOMIR\n#KWIATJABŁONI\n#GRZEGORZTURNAU\nBilety na koncerty dostępne będą do sprzedaży już od 5 lipca\, stacjonarnie w Amfiteatrze (pokój 105) oraz biurze Żeglugi Ostródzko-Elbląskiej nad jez. Drwęckim\, elektronicznie na https://ckostroda.interticket.pl/\n\n\nTradycją Święta Miasta stało się zwiedzanie Ostródy z tarasu piętrowego autobusu\, tzw. „londyńczyka”. Oprócz oglądania najpiękniejszych miejsc\, będzie możliwość wysłuchania ciekawej opowieści przewodnika.\n\n 
URL:https://www.ck.ostroda.pl/event/dni-ostrody-2022/
LOCATION:Amfiteatr\, ul. Mickiewicza 17a\, Ostróda\, warmińsko-mazurskie\, 14-100
ATTACH;FMTTYPE=image/jpeg:https://www.ck.ostroda.pl/wp-content/uploads/2022/07/Dni-Ostrody-kwadrat.jpg
ORGANIZER;CN="CK Ostr%C3%B3da":MAILTO:ck@ck.ostroda.pl
END:VEVENT
BEGIN:VEVENT
DTSTART;TZID=Europe/Warsaw:20220814T190000
DTEND;TZID=Europe/Warsaw:20220814T210000
DTSTAMP:20260421T201634
CREATED:20220729T123122Z
LAST-MODIFIED:20220729T123122Z
UID:6086-1660503600-1660510800@www.ck.ostroda.pl
SUMMARY:Koncertowy Turniej Tenorów o Laury Mazur
DESCRIPTION:Sześciu tenorów o wyjątkowych głosach i nienagannej prezencji zmierzy się w amfiteatrze w Ostródzie w śpiewaczym konkursie\, w którym pięknym głosom towarzyszyć będzie dreszczyk artystycznej rywalizacji. W pozakonkursowej części koncertu do tenorów dołączą dwie urocze sopranistki\, a wszystkim wykonawcom towarzyszyć będzie Orkiestra Salonowa „Moderato” z Bydgoszczy. Składający się z dwóch części koncert zawierać będzie najpopularniejsze arie operowe z różnych stron świata\, wymagający\, choć pozornie lekki repertuar operetkowy oraz mieszane duety w repertuarze operowym\, operetkowym i musicalowym. W przerwie odbędzie się głosowanie. Całe przedsięwzięcie dowiedzie\, że muzyka klasyczna wcale nie musi być traktowana poważnie i może dostarczyć wszystkim rozrywki na najwyższym poziomie.\nwww.turniej-tenorow.pl\nWykonawcy:\nTENORZY\nAleksander Kruczek\nDawid Kwieciński\nSławomir Naborczyk\nMirosław Niewiadomski\nMariusz Adam Ruta\nNazar Tatsyshyn\nSOPRANISTKI\nAgnieszka Grabowska\nEmilia Zielińska\noraz\nOrkiestra Salonowa „Moderato”\npod batutą Orlina Bebenowa\n\nKoncert poprowadzi znany dziennikarz muzyczny\, prezenter telewizyjny i konferansjer – Artur Orzech.\n\nOrganizator:\nImpresariat P&M Sp. z o.o.\n81-813 Sopot ul. Małopolska 46\nkontakt: Marcin Kulwas\, tel. 601 27 27 84\nBilety: https://sklep.ebilet.pl/313563124055670785
URL:https://www.ck.ostroda.pl/event/koncertowy-turniej-tenorow-o-laury-mazur/
LOCATION:Amfiteatr\, ul. Mickiewicza 17a\, Ostróda\, warmińsko-mazurskie\, 14-100
ATTACH;FMTTYPE=image/jpeg:https://www.ck.ostroda.pl/wp-content/uploads/2022/07/295681279_142776751763741_7879281873028023855_n.jpg
END:VEVENT
BEGIN:VEVENT
DTSTART;TZID=Europe/Warsaw:20220819T200000
DTEND;TZID=Europe/Warsaw:20220819T213000
DTSTAMP:20260421T201634
CREATED:20220729T123804Z
LAST-MODIFIED:20220729T123804Z
UID:6090-1660939200-1660944600@www.ck.ostroda.pl
SUMMARY:Cleo - Letni koncert
DESCRIPTION:CLEO – wokalistka\, autorka tekstów\, malarka\, projektantka – kobieta wielu talentów. Dziewczyna o słowiańskim uroku z czarnym głosem\, królowa YouTube i pierwsza Słowianka Rzeczpospolitej.\nKształtowała swój wokal w kierunku muzyki: Soul\, Gospel\, R’n’B\, Funk i Hip Hop\, fascynując się wielkimi divami światowej sceny – Aretha Franklin\, Whitney Houston\, Patti LaBelle\, Chaka Khan\, Laryn Hill.\nOdkryta przez Donatana wydała w 2013 roku singiel „MY SŁOWIANIE” który stał się jednym z największych hitów radiowych\, został wyświetlony na kanale YouTube łącznie w różnych wersjach PONAD 100 milionów razy i stał się Cyfrową piosenką roku 2014. Cleo w roku 2014 reprezentowała Polskę w konkursie Eurowizji a jej występ uważany jest za jeden z lepszych i barwniejszych epizodów Eurowizji.\nWydana rok później płyta HIPER/CHIMERA uzyskała status potrójnej platyny.\nCleo jest najpopularniejszą Polską wokalistką w sieci\, jej profile społecznościowe zgromadziły ponad 1 500 000 ( półtora miliona ) fanów a jej teledyski na YouTube wyświetlono około 300 milionów razy. W 2016 roku Cleo wydała swój drugi album BASTET który już przed trafieniem do sklepów na etapie przedsprzedaży uzyskał wyróżnienie złotej płyty a po kilku miesiącach podwójnej platyny. Pierwszy singiel z płyty\, „Zabiorę Nas” uzyskał najwyższy status diamentowego singla oraz Cyfrowej Piosenki roku 2016.\nKoncert objęty patronatem Radia ESKA.\nAmfiteatr\nPiątek 19.08.2022 r. godz. 20.00\nBilety: https://biletyna.pl/event/view/id/223937
URL:https://www.ck.ostroda.pl/event/cleo-letni-koncert/
LOCATION:Amfiteatr\, ul. Mickiewicza 17a\, Ostróda\, warmińsko-mazurskie\, 14-100
ATTACH;FMTTYPE=image/jpeg:https://www.ck.ostroda.pl/wp-content/uploads/2022/07/278761823_5197384343674560_9120852560839290060_n.jpg
END:VEVENT
BEGIN:VEVENT
DTSTART;TZID=Europe/Warsaw:20220820T190000
DTEND;TZID=Europe/Warsaw:20220820T210000
DTSTAMP:20260421T201634
CREATED:20220729T121536Z
LAST-MODIFIED:20220729T121549Z
UID:6081-1661022000-1661029200@www.ck.ostroda.pl
SUMMARY:Kortez - Holiday Tour 2022
DESCRIPTION:Bilety: https://www.ebilet.pl/muzyka/pop/kortez/#fbevent
URL:https://www.ck.ostroda.pl/event/kortez-holiday-tour-2022/
LOCATION:Amfiteatr\, ul. Mickiewicza 17a\, Ostróda\, warmińsko-mazurskie\, 14-100
ATTACH;FMTTYPE=image/jpeg:https://www.ck.ostroda.pl/wp-content/uploads/2022/07/287076239_10159671815899823_139973828048159603_n.jpg
END:VEVENT
BEGIN:VEVENT
DTSTART;TZID=Europe/Warsaw:20220821T200000
DTEND;TZID=Europe/Warsaw:20220821T220000
DTSTAMP:20260421T201634
CREATED:20220729T120453Z
LAST-MODIFIED:20220729T120453Z
UID:6075-1661112000-1661119200@www.ck.ostroda.pl
SUMMARY:T.Love - trasa koncertowa HAU! HAU!
DESCRIPTION:T. Love – jeden z najważniejszych polskich zespołów rockowych\, powraca na scenę po 5 latach przerwy. W 2022 roku zespół zaprezentuje nowy album zatytułowany „HAU! HAU!”\, którego premierę zapowiedziano na 22 kwietnia. Przed nami wielka trasa koncertowa!\nZa większość kompozycji na nowym krążku odpowiada Janek Benedek\, który wrócił do zespołu podczas prac nad nowym albumem.\nPłytę „HAU! HAU!” zapowiadają single „Pochodnia” i „Ponura Żniwiarka”. W pierwszym z nich gościnnie zaśpiewała i wystąpiła Kasia Sienkiewicz – wokalistka zespołu Kwiat Jabłoni. „Pochodnia” to piosenka o ogniu miłości\, pełna wspomnień i klasycznych brzmień gitarowych z lat 80. Razem z teledyskiem Marty Kacprzak\, zawierającym wyjątkowe\, archiwalne zdjęcia zespołu\, „Pochodnia” staje się doskonałym preludium do tego\, co czeka na fanów T.Love w 2022 roku.\nAmfiteatr\nNiedziela 21.08.2022 r. godz. 20.00\nBilety: https://bilety.adria-art.pl/event/view/id/222060
URL:https://www.ck.ostroda.pl/event/t-love-trasa-koncertowa-hau-hau/
LOCATION:Amfiteatr\, ul. Mickiewicza 17a\, Ostróda\, warmińsko-mazurskie\, 14-100
ATTACH;FMTTYPE=image/jpeg:https://www.ck.ostroda.pl/wp-content/uploads/2022/07/A4_T.-Love-Hau-Hau.jpg
END:VEVENT
BEGIN:VEVENT
DTSTART;TZID=Europe/Warsaw:20220828T190000
DTEND;TZID=Europe/Warsaw:20220828T210000
DTSTAMP:20260421T201634
CREATED:20220729T121035Z
LAST-MODIFIED:20220729T121035Z
UID:6078-1661713200-1661720400@www.ck.ostroda.pl
SUMMARY:Kabaret Neo-Nówka - 20-lecie
DESCRIPTION:Jubileusz Kabaretu Neo-Nówka okazał się takim sukcesem\, że trzeba go powtórzyć! Grupa wybrała na 2022 rok kilka miast\, w których po raz ostatni pojawi się okazja\, by świętować 20-lecie najpopularniejszego kabaretu w Polsce. \nCzegoś takiego jeszcze na polskiej scenie kabaretowej nie było. 20-lecie Kabaretu Neo-Nówka to wydarzenie\, które zaskoczy widza nie tylko formą tekstową\, ale również rozmachem przedsięwzięcia. Wizualizacje multimedialne i oprawa muzyczna na najwyższym poziomie – jesteśmy pewni\, że te występ zapamiętacie na bardzo długo. \nArtyści gwarantują niezwykły jubileuszowy koncert w iście „neonówkowym” stylu\, czyli bez sztampy\, z luzem\, dużą dozą improwizacji i nowości. Jak zwykle kabaretowi na scenie będzie towarzyszył zespół Żarówki\, który zadba o oprawę muzyczną całego wydarzenia. Możemy stwierdzić jedno – jeszcze nie byliście na takich urodzinach. \nAmfiteatr \nNiedziela 28.08.2022 r. godz. 19.00 \nBilety: https://bilety.adria-art.pl/event/view/id/239607
URL:https://www.ck.ostroda.pl/event/kabaret-neo-nowka-20-lecie/
LOCATION:Amfiteatr\, ul. Mickiewicza 17a\, Ostróda\, warmińsko-mazurskie\, 14-100
ATTACH;FMTTYPE=image/jpeg:https://www.ck.ostroda.pl/wp-content/uploads/2022/07/A4_Neonowka_20-lecie-na-BIS.jpg
END:VEVENT
END:VCALENDAR