BEGIN:VCALENDAR
VERSION:2.0
PRODID:-//CENTRUM KULTURY w OSTRÓDZIE - ECPv6.15.20//NONSGML v1.0//EN
CALSCALE:GREGORIAN
METHOD:PUBLISH
X-ORIGINAL-URL:https://www.ck.ostroda.pl
X-WR-CALDESC:Wydarzenia dla CENTRUM KULTURY w OSTRÓDZIE
REFRESH-INTERVAL;VALUE=DURATION:PT1H
X-Robots-Tag:noindex
X-PUBLISHED-TTL:PT1H
BEGIN:VTIMEZONE
TZID:Europe/Warsaw
BEGIN:DAYLIGHT
TZOFFSETFROM:+0100
TZOFFSETTO:+0200
TZNAME:CEST
DTSTART:20210328T010000
END:DAYLIGHT
BEGIN:STANDARD
TZOFFSETFROM:+0200
TZOFFSETTO:+0100
TZNAME:CET
DTSTART:20211031T010000
END:STANDARD
BEGIN:DAYLIGHT
TZOFFSETFROM:+0100
TZOFFSETTO:+0200
TZNAME:CEST
DTSTART:20220327T010000
END:DAYLIGHT
BEGIN:STANDARD
TZOFFSETFROM:+0200
TZOFFSETTO:+0100
TZNAME:CET
DTSTART:20221030T010000
END:STANDARD
BEGIN:DAYLIGHT
TZOFFSETFROM:+0100
TZOFFSETTO:+0200
TZNAME:CEST
DTSTART:20230326T010000
END:DAYLIGHT
BEGIN:STANDARD
TZOFFSETFROM:+0200
TZOFFSETTO:+0100
TZNAME:CET
DTSTART:20231029T010000
END:STANDARD
END:VTIMEZONE
BEGIN:VEVENT
DTSTART;TZID=Europe/Warsaw:20221104T190000
DTEND;TZID=Europe/Warsaw:20221104T200000
DTSTAMP:20260421T153648
CREATED:20221102T120433Z
LAST-MODIFIED:20221102T120433Z
UID:6187-1667588400-1667592000@www.ck.ostroda.pl
SUMMARY:Zapraszamy na spektakl \,\,TRZY RAZY S"
DESCRIPTION:Po premierze spektaklu \,\,TRZY RAZY S” usłyszeliśmy wiele głosów zachwytu\, lecz także próśb o ponowne wystawienie sztuki\, dlatego już 4 listopada będą mieli Państwo szanse ponownie bądź po raz pierwszy obejrzeć spektakl \,\,TRZY RAZY S” w wykonaniu grupy teatralnej \,\,Bez Przesady”.\n4 listopada\ngodzina 19:00\nSala Kameralna\, Amfiteatr\nWstęp wolny\nZapraszamy!
URL:https://www.ck.ostroda.pl/event/zapraszamy-na-spektakl-trzy-razy-s/
LOCATION:Sala Kameralna w amfiteatrze\, Mickiewicza 17A\, Ostróda\, warmińsko-mazurskie\, 14-100\, Poland
ATTACH;FMTTYPE=image/jpeg:https://www.ck.ostroda.pl/wp-content/uploads/2022/11/311566760_5721166191310122_2012426105733365523_n.jpg
ORGANIZER;CN="CK Ostr%C3%B3da":MAILTO:ck@ck.ostroda.pl
END:VEVENT
BEGIN:VEVENT
DTSTART;TZID=Europe/Warsaw:20221105T190000
DTEND;TZID=Europe/Warsaw:20221105T210000
DTSTAMP:20260421T153648
CREATED:20221012T110855Z
LAST-MODIFIED:20221012T110855Z
UID:6150-1667674800-1667682000@www.ck.ostroda.pl
SUMMARY:OLD BREAKOUT- ZADUSZKI BLUESOWE W OSTRÓDZIE
DESCRIPTION:Koncert OLD BREAKOUT to prawdziwe muzyczna uczta największych przebojów zespołu BREAKOUT i TADEUSZA NALEPY:\n'Kiedy byłem małym chłopcem’\, 'Poszłabym za tobą’\, 'Na drugim brzegu tęczy’\, 'Gdybyś kochał\, hej!’\, 'Daję ci próg’\, 'Gdybym był wichrem’\, 'Ona poszła inną drogą’\, 'Pomaluj moje sny’ oraz wiele innych\nKIEDY: 05 LISTOPADA 2022\, godz. 19:00\nGDZIE: OSTRÓDA\, AMFITEATR\, SALA KAMERALNA\n BILETY:\n70 zł w przedsprzedaży\n80 zł w dniu koncertu\nDostępne do kupienia w Amfiteatrze\, w pok. 105 oraz na https://ckostroda.interticket.pl/program/old-breakout-zaduszki-bluesowe-w-ostrodzie-7781
URL:https://www.ck.ostroda.pl/event/old-breakout-zaduszki-bluesowe-w-ostrodzie/
LOCATION:Sala Kameralna w amfiteatrze\, Mickiewicza 17A\, Ostróda\, warmińsko-mazurskie\, 14-100\, Poland
ORGANIZER;CN="CK Ostr%C3%B3da":MAILTO:ck@ck.ostroda.pl
END:VEVENT
BEGIN:VEVENT
DTSTART;TZID=Europe/Warsaw:20221111T160000
DTEND;TZID=Europe/Warsaw:20221111T170000
DTSTAMP:20260421T153648
CREATED:20221104T091526Z
LAST-MODIFIED:20221104T091526Z
UID:6195-1668182400-1668186000@www.ck.ostroda.pl
SUMMARY:KONCERT Z OKAZJI ŚWIĘTA NIEPODLEGŁOŚCI
DESCRIPTION:11 listopada obchodzimy narodowe święto\, upamiętniające odzyskanie przez Polskę niepodległości. Z dumą i radością razem z Zbigniew Michalak – Burmistrz Miasta Ostróda pragniemy zaprosić Państwa tego dnia na wyjątkowy koncert!\n\n\n\,\,Dar wolności i niepodległości to Orzeł w koronie…-Uwierz Polsko” to hasło pod którym Chór Policji Garnizonu Warmińsko-Mazurskiego wystąpi ze swoim premierowym programem.\n\n\nKoncert z okazji Święta Niepodległości odbędzie się 11 listopada o godzinie 16:00 w Sali Kameralnej Amfiteatru.\nSerdecznie Zapraszamy.
URL:https://www.ck.ostroda.pl/event/koncert-z-okazji-swieta-niepodleglosci/
LOCATION:Sala Kameralna w amfiteatrze\, Mickiewicza 17A\, Ostróda\, warmińsko-mazurskie\, 14-100\, Poland
ATTACH;FMTTYPE=image/jpeg:https://www.ck.ostroda.pl/wp-content/uploads/2022/11/312730022_5746106845482723_6814700122397765723_n.jpg
END:VEVENT
BEGIN:VEVENT
DTSTART;TZID=Europe/Warsaw:20221112T120000
DTEND;TZID=Europe/Warsaw:20221112T140000
DTSTAMP:20260421T153648
CREATED:20221102T115411Z
LAST-MODIFIED:20221102T115411Z
UID:6182-1668254400-1668261600@www.ck.ostroda.pl
SUMMARY:TEATR DLA DZIECI – WIŚLANA OPOWIEŚĆ
DESCRIPTION:Wszystkie dzieci zapraszamy na przedstawienie lalkowe w wykonaniu Teatru Igraszka.\nPo spektaklu jest możliwość uczestniczenia w warsztatach tworzenia lalek teatralnych z aktorami Teatru Igraszka – UWAGA! OBA WYDARZENIA BILETOWANE ODDZIELNIE! (ilość miejsc na warsztatach ograniczona)\nBILETY do KUPIENIA\nstacjonarnie w Centrum Kultury w Ostródzie – Amfiteatr\, pok. 105\,\nbądź online: https://ckostroda.interticket.pl/…/wislana-opowiesc…\nSpektakl:\nbilet normalny – 15 zł\nbilet dla dziecka – 10 zł\nBilet za udział w warsztatach:\ngrupowy: dziecko + opiekun – 20 zł\nOpis spektaklu:\nAutor: Paweł Kołodziejski\nReżyseria: Zespół Teatru Igraszka\nLalki i scenografia: Beata Chojak\nMuzyka\, aranżacja\, efekty dźwiękowe: Andrzej Perkman\, Paweł Kołodziejski\nCzas trwania: ok. 40 minut\n„Od pewnego czasu nad Wisłą zaczęły się dziać niepokojące rzeczy\, rzeka coraz wolniej płynie\, a z jej nurtów słychać tajemnicze dźwięki\, czyżby coś jej dolegało? Zaniepokojeni tym Sum i Czapla\, postanawiają zgłębić tajemnicę. Podczas wyprawy Sum\, poznaje chłopca Antka\, który także chce rozwikłać wiślaną zagadkę. Okazuje się\, że w Wiśle zamieszkał Potwór Śmieciej… Wszystkich\, którym nie jest obojętny los Królowej polskich rzek\, serdecznie zapraszamy na autorską bajkę o wartkiej akcji\, mądrym przesłaniu i pięknych piosenkach.
URL:https://www.ck.ostroda.pl/event/teatr-dla-dzieci-wislana-opowiesc/
LOCATION:Sala Kameralna w amfiteatrze\, Mickiewicza 17A\, Ostróda\, warmińsko-mazurskie\, 14-100\, Poland
ATTACH;FMTTYPE=image/jpeg:https://www.ck.ostroda.pl/wp-content/uploads/2022/11/312492772_5729719987121409_7672998519201152708_n.jpg
ORGANIZER;CN="CK Ostr%C3%B3da":MAILTO:ck@ck.ostroda.pl
END:VEVENT
BEGIN:VEVENT
DTSTART;TZID=Europe/Warsaw:20221112T160000
DTEND;TZID=Europe/Warsaw:20221112T170000
DTSTAMP:20260421T153648
CREATED:20221104T091945Z
LAST-MODIFIED:20221104T091945Z
UID:6197-1668268800-1668272400@www.ck.ostroda.pl
SUMMARY:Jesienny Przegląd Twórczości Artystycznej KPA
DESCRIPTION:„Jesienny Przegląd Twórczości Artystycznej” to coroczna wystawa prac malarskich i rzeźby członków Stowarzyszenia Klub Plastyka Amatora w Ostródzie.\nTo podsumowanie całego roku działań podczas plenerów\, warsztatów\, projektów i pracy indywidualnej.\nPodczas tegorocznego Przeglądu będzie można zobaczyć prace około trzydzieściorga aktywnie działających członków KPA\, powstałe podczas:\n1. pleneru malarskiego „NATURA 2000 – EKO-warsztaty artystyczne” – czyli projektu finansowanego przez Gminę Miejską Ostróda\, realizowanego w czasie DNI OSTRÓDY 2022\n2. pleneru artystycznego w WILNOWIE pt. „Co mi w duszy gra”\, sfinansowanego z pomocą Starostwa Powiatowego w Ostródzie /materiały malarskie/\, realizowanego w czerwcu 2022\,\n3. w pracowni artystycznej KPA podczas warsztatowych działań wspólnych\,\n4. w różnych innych okolicznościach\,\npodczas indywidualnej pracy każdego z twórców.\nGaleria Amfiteatru\, sobota godz. 16.00\, 12.11.2022 r.
URL:https://www.ck.ostroda.pl/event/jesienny-przeglad-tworczosci-artystycznej-kpa-2/
LOCATION:Amfiteatr\, ul. Mickiewicza 17a\, Ostróda\, warmińsko-mazurskie\, 14-100
ATTACH;FMTTYPE=image/jpeg:https://www.ck.ostroda.pl/wp-content/uploads/2022/11/314352240_5745978352162239_175183005144809168_n.jpg
ORGANIZER;CN="CK Ostr%C3%B3da":MAILTO:ck@ck.ostroda.pl
END:VEVENT
BEGIN:VEVENT
DTSTART;TZID=Europe/Warsaw:20221113T180000
DTEND;TZID=Europe/Warsaw:20221113T200000
DTSTAMP:20260421T153648
CREATED:20221102T115051Z
LAST-MODIFIED:20221102T115051Z
UID:6180-1668362400-1668369600@www.ck.ostroda.pl
SUMMARY:KONCERT – CZTERY PORY MIŁOWANIA
DESCRIPTION:Cztery Pory Miłowania to zespół zawiązany w 2014 roku\, wywodzący się z miejscowości Choczewo w województwie pomorskim. Działalność zespołu opiera się głównie na autorskiej muzyce członków zespołu pisanej do wierszy m.in. Piotra Konczaka\, Bogdana Loebla\, Edwarda Stachury\, Aleksandry Bacińskiej i Toma Borkowskiego. Cztery Pory Miłowania w czerwcu 2017 roku wydały debiutancką płytę pt. „Litania do…”\, na której znalazło się 14 autorskich kompozycji z muzyką Michała Miotke i Patryka Wendrowskiego. Celem zespołu jest dzielenie się słowem ważnym\, dotykającym codzienności\, spraw ostatecznych i spraw- co do których nabieramy sztucznego dystansu\, a dotyczą one wszystkich bez wyjątku. W kręgu zainteresowań artystycznych zespołu leży przede wszystkim człowiek i jego sprawy. W 2020 roku ukazała się druga płyta zespołu pt. „W zamyśleniu”\, zawierająca 18 utworów. W marcu 2022 roku ukazała się trzecia płyta zespołu pt. „W rytmie serca”\, zawierająca 14 utworów.\nDyskografia zespołu:\n2017 – „Litania do…”\n2020 – „W zamyśleniu”\n2022 – „W rytmie serca”\nStały skład zespołu tworzą:\nMałgorzata Miotke – śpiew\, idiofony\nMichał Miotke – śpiew\, gitara akustyczna\nPatryk Wendrowski – gitara basowa\n\nNIEDZIELA\, 13 LISTOPADA 2022 godz. 18:00\nBilety przedsprzedaż: 60 zł\nBilety można nabyć online:\nhttps://czteryporymilowania.pl/bilety/
URL:https://www.ck.ostroda.pl/event/koncert-cztery-pory-milowania/
LOCATION:Sala Kameralna w amfiteatrze\, Mickiewicza 17A\, Ostróda\, warmińsko-mazurskie\, 14-100\, Poland
ATTACH;FMTTYPE=image/jpeg:https://www.ck.ostroda.pl/wp-content/uploads/2022/11/312284606_5933205390043054_5657478349450258838_n.jpg
ORGANIZER;CN="CK Ostr%C3%B3da":MAILTO:ck@ck.ostroda.pl
END:VEVENT
BEGIN:VEVENT
DTSTART;TZID=Europe/Warsaw:20221119T210000
DTEND;TZID=Europe/Warsaw:20221120T020000
DTSTAMP:20260421T153648
CREATED:20221102T115828Z
LAST-MODIFIED:20221102T115828Z
UID:6184-1668891600-1668909600@www.ck.ostroda.pl
SUMMARY:Dub Night vol.8 | Jah Love Soundsystem meets Roots Trippin Sound System | 2 stacks in area
DESCRIPTION:2 ściany dźwięku\, 2 razy więcej basu i 2 razy więcej zabawy!\nTak\, tak 19 listopada w Salce Amfiteatru staną dwa soundsystemy\, czyli\, Jah Love Soundsystem i Roots Trippin Sound System. To będzie ostatnia impreza w tym roku! Dawno nie graliśmy sound2sound\, a już bardzo dawno nie graliśmy w ten sposób z Jah Love. Nie możecie przegapić takiej okazji!\nDo zobaczenia!\n_____________________________________________________________\nKiedy: 19.11.2022\nStart: 21:00\nGdzie: Sala Kameralna Amfiteatru w Ostródzie\nWejście:\n25 zł do godziny 22.00\n30 zł po godzinie 22.00\n__________________________________________________________\nJah Love Soundsystem\n#WarsawDubStyle\nProjekt JahLove składa się z dwóch filarów. Pierwszym jest kolektyw selektorski\, kochający trzeszczenie winylowych płyt i pulsujący bas. Drugim – własnoręcznie zbudowane nagłośnienie\, które wraz ze wzmacniaczami i setkami metrów przewodów daje możliwość grania muzyki DUB wszędzie tam\, gdzie tylko znajdzie się publika miłująca niskie częstotliwości. Poprzez ciężkie\, basowe brzmienie\, świadomy przekaz i idea samoorganizacji idą w świat. Początki projektu sięgają 2009 roku i cyklicznych imprez w Niezależnym Centrum Kultury c5 w stolicy. Przestrzeń opuszczonej fabryki chipsów dała niesamowite możliwości rozwoju i zmusiła młody skład do zbudowania pierwszych głośników. Imprezy tam organizowane wpisały się w warszawską scenę muzyki reggae nie tylko dzięki swoim walorom muzycznym\, ale również za sprawą niepowtarzalnego klimatu panującego na skłocie. Tamten okres miał istotny wpływ na rozwój całej formacji; to właśnie wtedy ukształtowało się przeświadczenie\, że imprezę lepiej od początku do końca zorganizować własnymi siłami. Obecnie JAH LOVE SOUNDSYSTEM związany jest z klubem Pogłos i tam organizuje swoje sesje.\nROOTS TRIPPIN SOUND SYSTEM\nZaczęło się niewinnie\, ale trwa nadal. Roots Trippin Sound System to kompleksowa obsługa dźwiękowa specjalnie dla tych\, którzy kochają korzenne\, jamajskie brzmienia z dużą dawką basu pompowanego przez mobilny zestaw głośników własnej produkcji. Setki zagranych imprez zaowocowały nie tylko w bólach zbieranym doświadczeniem\, ale również przyjaźnią z innym Warmińsko-Mazurskim składem – DubPamina Sound. Teraz jest nas więcej do kochania. Połączeni miłością do muzyki oraz niskich częstotliwości\, prosto znad jezior regionu ślemy w świat roots\, dub\, rocksteady i ska
URL:https://www.ck.ostroda.pl/event/dub-night-vol-8-jah-love-soundsystem-meets-roots-trippin-sound-system-2-stacks-in-area/
LOCATION:Sala Kameralna w amfiteatrze\, Mickiewicza 17A\, Ostróda\, warmińsko-mazurskie\, 14-100\, Poland
ATTACH;FMTTYPE=image/jpeg:https://www.ck.ostroda.pl/wp-content/uploads/2022/11/311726431_812875850014407_3800403026621505892_n.jpg
END:VEVENT
BEGIN:VEVENT
DTSTART;TZID=Europe/Warsaw:20221126T170000
DTEND;TZID=Europe/Warsaw:20221126T180000
DTSTAMP:20260421T153648
CREATED:20221118T091757Z
LAST-MODIFIED:20221118T091757Z
UID:6208-1669482000-1669485600@www.ck.ostroda.pl
SUMMARY:Koncert z okazji Jubileuszu 25-lecia Zamkowego Chóru Kameralnego
DESCRIPTION:Sobota 26 listopada 2022 roku\, godz. 17.00 – Sala Reprezentacyjna Ostródzkiego Zamku\nWystąpią:\nZamkowy Chór Kameralny pod kierunkiem Joanny Jaskółowskiej\nHanna Zajączkiewicz – sopran\nZofia Antes – przy fortepianie\nKwartet smyczkowy Orkiestry BALTIC ALIANS
URL:https://www.ck.ostroda.pl/event/koncert-z-okazji-jubileuszu-25-lecia-zamkowego-choru-kameralnego/
LOCATION:ZAMEK Sala Reprezentacyjna\, Mickiewicza 22\, Ostróda\, 14100\, Polska
ATTACH;FMTTYPE=image/jpeg:https://www.ck.ostroda.pl/wp-content/uploads/2022/11/Plakat-A2-25-lecie-ZCK-1.jpg
END:VEVENT
END:VCALENDAR