BEGIN:VCALENDAR
VERSION:2.0
PRODID:-//CENTRUM KULTURY w OSTRÓDZIE - ECPv6.15.20//NONSGML v1.0//EN
CALSCALE:GREGORIAN
METHOD:PUBLISH
X-ORIGINAL-URL:https://www.ck.ostroda.pl
X-WR-CALDESC:Wydarzenia dla CENTRUM KULTURY w OSTRÓDZIE
REFRESH-INTERVAL;VALUE=DURATION:PT1H
X-Robots-Tag:noindex
X-PUBLISHED-TTL:PT1H
BEGIN:VTIMEZONE
TZID:Europe/Warsaw
BEGIN:DAYLIGHT
TZOFFSETFROM:+0100
TZOFFSETTO:+0200
TZNAME:CEST
DTSTART:20220327T010000
END:DAYLIGHT
BEGIN:STANDARD
TZOFFSETFROM:+0200
TZOFFSETTO:+0100
TZNAME:CET
DTSTART:20221030T010000
END:STANDARD
BEGIN:DAYLIGHT
TZOFFSETFROM:+0100
TZOFFSETTO:+0200
TZNAME:CEST
DTSTART:20230326T010000
END:DAYLIGHT
BEGIN:STANDARD
TZOFFSETFROM:+0200
TZOFFSETTO:+0100
TZNAME:CET
DTSTART:20231029T010000
END:STANDARD
BEGIN:DAYLIGHT
TZOFFSETFROM:+0100
TZOFFSETTO:+0200
TZNAME:CEST
DTSTART:20240331T010000
END:DAYLIGHT
BEGIN:STANDARD
TZOFFSETFROM:+0200
TZOFFSETTO:+0100
TZNAME:CET
DTSTART:20241027T010000
END:STANDARD
END:VTIMEZONE
BEGIN:VEVENT
DTSTART;TZID=Europe/Warsaw:20230211T170000
DTEND;TZID=Europe/Warsaw:20230211T200000
DTSTAMP:20260421T153635
CREATED:20230209T135932Z
LAST-MODIFIED:20230209T135932Z
UID:6333-1676134800-1676145600@www.ck.ostroda.pl
SUMMARY:WALENTYNKI W AMFITEATRZE
DESCRIPTION:Czy wiecie\, że Francuzi\, w walentynki często obdarowują ukochaną osobę dosyć nietypowym prezentem\, którym jest pomidor?\nJest tak\, ponieważ Pomidor we Francji symbolizuje serce.\nNazywany był wcześniej pomme d’amour\, co oznaczało „jabłko miłosne”.\n\n\nU nas co prawda pomidorów nie będzie\, za to postaramy się\, byście ten wieczór zapamiętali na długo\, zadbamy o nastrojowy klimat\, piękną muzykę oraz zabawną komedię\, a to wszystko po to by umilić wam ten wyjątkowy\, romantyczny wieczór.\nZapraszamy już w najbliższą sobotę (11.02)\, do wspólnego świętowania miłości! 
URL:https://www.ck.ostroda.pl/event/walentynki-w-amfiteatrze-2/
LOCATION:Sala Kameralna w amfiteatrze\, Mickiewicza 17A\, Ostróda\, warmińsko-mazurskie\, 14-100\, Poland
ATTACH;FMTTYPE=image/png:https://www.ck.ostroda.pl/wp-content/uploads/2023/02/1.png
ORGANIZER;CN="CK Ostr%C3%B3da":MAILTO:ck@ck.ostroda.pl
END:VEVENT
END:VCALENDAR