BEGIN:VCALENDAR
VERSION:2.0
PRODID:-//CENTRUM KULTURY w OSTRÓDZIE - ECPv6.15.20//NONSGML v1.0//EN
CALSCALE:GREGORIAN
METHOD:PUBLISH
X-ORIGINAL-URL:https://www.ck.ostroda.pl
X-WR-CALDESC:Wydarzenia dla CENTRUM KULTURY w OSTRÓDZIE
REFRESH-INTERVAL;VALUE=DURATION:PT1H
X-Robots-Tag:noindex
X-PUBLISHED-TTL:PT1H
BEGIN:VTIMEZONE
TZID:Europe/Warsaw
BEGIN:DAYLIGHT
TZOFFSETFROM:+0100
TZOFFSETTO:+0200
TZNAME:CEST
DTSTART:20220327T010000
END:DAYLIGHT
BEGIN:STANDARD
TZOFFSETFROM:+0200
TZOFFSETTO:+0100
TZNAME:CET
DTSTART:20221030T010000
END:STANDARD
BEGIN:DAYLIGHT
TZOFFSETFROM:+0100
TZOFFSETTO:+0200
TZNAME:CEST
DTSTART:20230326T010000
END:DAYLIGHT
BEGIN:STANDARD
TZOFFSETFROM:+0200
TZOFFSETTO:+0100
TZNAME:CET
DTSTART:20231029T010000
END:STANDARD
BEGIN:DAYLIGHT
TZOFFSETFROM:+0100
TZOFFSETTO:+0200
TZNAME:CEST
DTSTART:20240331T010000
END:DAYLIGHT
BEGIN:STANDARD
TZOFFSETFROM:+0200
TZOFFSETTO:+0100
TZNAME:CET
DTSTART:20241027T010000
END:STANDARD
END:VTIMEZONE
BEGIN:VEVENT
DTSTART;TZID=Europe/Warsaw:20230304T180000
DTEND;TZID=Europe/Warsaw:20230304T190000
DTSTAMP:20260421T171549
CREATED:20230220T104056Z
LAST-MODIFIED:20230220T104202Z
UID:6350-1677952800-1677956400@www.ck.ostroda.pl
SUMMARY:SŁOŃ - monodram
DESCRIPTION:4 marca 2023 (w sobotę) o godz. 18:00 zapraszamy na monodram „Słoń”.\nBilety: 15 zł normalny\, 10 zł z Kartą Ostródzką\nPrzedsprzedaż stacjonarna: Amfiteatr\, pokój 105\n„Słoń” to spowiedź człowieka przebywającego w celi śmierci. Skazany za pochodzenie\, wspomina swoje życie\, które dostało się w tryby totalitarnej machiny śmierci.\nW roli tytułowego „Słonia” – Dariusz Siastacz (Aktor Teatru im. A. Sewruka w Elblągu).\nAutor tekstu – Łukasz Staniszewski.\nDariusz Siastacz – laureat wielu nagród\, m.in. Prezydenta Miasta Gdyni\, czy Grand Prix za monodram „Chodnik” na XXX Ogólnopolskim Festiwalu Teatrów Jednego Aktora w Toruniu. Współpracuje z Teatrem Buffo i Teatrem Ochoty w Warszawie. Na co dzień pracuje w Teatrze im. A. Sewruka w Elblągu.\nŁukasz Staniszewski – autor sztuk teatralnych i słuchowisk radiowych. Otrzymał nagrody m.in.: III miejsce w konkursie Teatru Polskiego Radia za słuchowisko pod nazwą „Znajdź historie/ę” pt. „Siłacze” oraz nagroda na Festiwalu Dwa Teatry w Sopocie za tekst „Zachwyceni”.\nTekst „Słoń” miał premierę 17 grudnia 2018 r. w Teatrze im. Aleksandra Sewruka w Elblągu. Spektakl wyreżyserował Giovanni Castellanos\, wystąpił Marek Milczarczyk.\nTak przedstawił „Słonia” jeden z widzów:\n„Minimalizm treści i scenografii powoduje\, że początkowo trudno jest domyślić się co i gdzie. Do sedna bohater przechodzi szybko. Siedząc na piętrowej pryczy opowiada temu na górze – z dystansem i humorem – co jest niewątpliwie największą siłą spektaklu – swoją historię. Jest rozczarowany. Najpierw wycieczka. Góry nie zrobiły na nim wrażenia\, w końcu „góry jak góry”. Ale co uderza w niego najbardziej\, to fakt\, że „nie ma już dzisiaj pięknych ludzi”. Kim jest bohater? Mówi o sobie jak o przeciętnym Niemcu. Lubił chodzić do kawiarni (bez żony\, nieco taniej). Obserwować ludzi. Słuchać strzępków ich historii. To\, co zburzyło ten idealny wręcz porządek rzeczy\, to Republika Weimarska. Na początku jeszcze nikomu nie przeszkadzał\, ale spojrzenia klientów zaczęły go wychwytywać i piętnować. „Zbrzydli”. Nie było już radości życia. Pojawił się gniew i polityczne komentarze\, poczucie winy do tego stopnia\, że to „naszemu” bohaterowi wyrosły trąba i uszy. Nie był już pożądanym gościem kawiarni. Nie był nawet przechodniem\, którego nie dało się nie zauważyć. Tak się czuł wśród ludzi. Stał się tytułowym Słoniem.”
URL:https://www.ck.ostroda.pl/event/slon-monodram/
LOCATION:Sala Kameralna w amfiteatrze\, Mickiewicza 17A\, Ostróda\, warmińsko-mazurskie\, 14-100\, Poland
ATTACH;FMTTYPE=image/jpeg:https://www.ck.ostroda.pl/wp-content/uploads/2023/02/SLON-plakat-1.jpg
ORGANIZER;CN="CK Ostr%C3%B3da":MAILTO:ck@ck.ostroda.pl
END:VEVENT
BEGIN:VEVENT
DTSTART;TZID=Europe/Warsaw:20230312T180000
DTEND;TZID=Europe/Warsaw:20230312T193000
DTSTAMP:20260421T171549
CREATED:20230220T104655Z
LAST-MODIFIED:20230220T105818Z
UID:6353-1678644000-1678649400@www.ck.ostroda.pl
SUMMARY:JAZZ Beatles / Imienowski Jazz Set
DESCRIPTION:Sala Kameralna w amfiteatrze \n12.03.2023 r. (niedziela) godz. 18.00\n\nZ nami zabierzecie się w podróż prosto do Liverpoolu: Can’t Buy Me Love\, Hey Jude\, Get Back\, Let It Be\, Michelle\, Yesterday\, Come Together i wiele innych znanych Wam przebojów.\nDoskonale wiemy\, że powrót do największych hitów The Beatles w naszym wykonaniu będzie dla Was miło spędzonym wieczorem.\nTworząc i grając własne piosenki\, zamiast polegać na profesjonalnych kompozytorach i muzykach sesyjnych\, The Beatles zrewolucjonizowali muzykę pop i rock na początku lat 60-tych. Choć ich czas w świetle reflektorów był zbyt krótki – będąc na szczycie\, rozwiązali się w 1970 roku – John Lennon\, Paul McCartney\, George Harrison i Ringo Starr zapoczątkowali nową erę muzyki.\n​ zainspirowali wielu muzyków jazzowych. Ten koncert będzie poświęcony twórczości legendarnych Beatlesów. Utwory z różnych płyt zostaną zaprezentowane w zupełnie innej\, niecodziennej\, a czasem nieoczekiwanej perspektywie\, w jazzowej interpretacji.\nZagra dla Państwa „Imienowski Jazz Set” w składzie:\nMichał Lasota – Perkusista\, absolwent wydziału jazzu Akademii Muzycznej we Wrocławiu. Od przeszło 15 lat aktywności zawodowej udzielał się w licznych projektach muzycznych u boku takich artystów jak Martyna Jakubowicz (koncerty w ramach promocji albumu 'Tylko Dylan’ )\, Katarzyna Groniec (koncerty promujące album 'Przypadki’)\, Mick Moss- Antimatter (trasa koncertowa 2011). Zaproszony przez producenta Marcina Borsa wziął udział w nagraniu debiutanckiego albumu Izy Lach 'Już czas’. W marcu 2012 roku rozpoczął współpracę z L.U.C.’iem w ramach promocji albumu 'Kostostumostów’\, a dziś udziela się m. in. w jego projekcie Rebel Babel. Ponadto współpracował z: Radek Bond Bednarz Eklektik Session\, zespół Behavior\, Krzysztof Żesławski Quartet (płyta Osiecka na jazzowo 2016)\, Mikromusic\, Natalia Lubrano\, Halina Frąckowiak\, Leszek Cichoński\, Daniel Bloom\, Flying Vehicles\, Teatr Muzyczny Capitol we Wrocławiu (ścieżka dźwiękowa ze spektaklu Frankenstein.) Od 2010 roku współpracuje z Teatrem Muzycznym im. D. Baduszkowej w Gdyni w takich spektaklach jak: Lalka\, Chłopi czy Hair Spray.\nBartosz Krzywda –  r. 1973 – pianista\, kompozytor\, aranżer\, producent muzyczny. Ukończył Liceum Muzyczne w Elblągu w klasie perkusji. Lider autorskich zespołów: Dream Power\, Elefunk\, Specjal Jazz Sextet\, Krzywda\, Trąba Deluks. Laureat: Nagroda Artystyczna Prezydenta Elbląga w 2009 roku\, Artystyczne Wydarzenie Roku 2011 (płyta „Projekt Elbląg” ze Specjal Jazz Sextet). Autor muzyki do filmów i przedstawień teatralnych. Inicjator życia jazzowego w Elblągu. Kierownik muzyczny wielu muzycznych przedsięwzięć.\nTomasz Imienowski – Gitarzysta basowy\, kompozytor. Z muzyką związany od dzieciństwa. Porusza się biegle we wszystkich stylach muzycznych\, jednak najczęściej można go spotkać z piosenką autorską\, ambitnymi projektami jazzowymi i bluesowymi. Na scenie pojawia się również z zespołem Krzysztofa Tyńca\, zespołem Piramidy i projektami muzyki jazzowej. Współpracował z Teatrem Ateneum w Warszawie. Ceniony jest przede wszystkim za świetny „drive” i pracę sekcyjną. Został zaproszony do gościnnego występu na rejestrowanym i wydanym w 2012 roku koncertowym DVD Wojtka Pilichowskiego. Zagrał około tysiąc koncertów w całym kraju i za granicą (USA\, Dania\, Niemcy\, Holandia\, Francja\, Łotwa\, Litwa\, Rosja\, Szwajcaria\, Chorwacja\, Litwa\, Czechy). Koncertował także w radiu i telewizji.\nBilety:\n Stacjonarnie: Centrum Kultury w Ostródzie oraz salony EMPIK\nonline:\nkupbilecik  https://bit.ly/40ORxDE\nbiletyna  https://bit.ly/40IAwL9\ngoing  https://bit.ly/3IfvqP6 \nInformacje o koncercie i biletach: 513 207 643 oraz Centrum Kultury w Ostródzie 89 6709071.
URL:https://www.ck.ostroda.pl/event/jazz-beatles-imienowski-jazz-set-ostroda-12-03-2023/
LOCATION:Sala Kameralna w amfiteatrze\, Mickiewicza 17A\, Ostróda\, warmińsko-mazurskie\, 14-100\, Poland
ATTACH;FMTTYPE=image/jpeg:https://www.ck.ostroda.pl/wp-content/uploads/2023/02/329262457_1518510195326279_2859978726670888692_n-1.jpg
ORGANIZER;CN="CK Ostr%C3%B3da":MAILTO:ck@ck.ostroda.pl
END:VEVENT
BEGIN:VEVENT
DTSTART;TZID=Europe/Warsaw:20230325T180000
DTEND;TZID=Europe/Warsaw:20230325T190000
DTSTAMP:20260421T171549
CREATED:20230322T140423Z
LAST-MODIFIED:20230322T140423Z
UID:6423-1679767200-1679770800@www.ck.ostroda.pl
SUMMARY:„MORDERCA KOBIET” W SALI KAMERALNEJ
DESCRIPTION:Poznajcie Landru\, mężczyznę\, który uwodzi spojrzeniem\, przyciąga głosem i przykuwa wzrok każdej kobiety. Nic więc dziwnego\, że kobiety nie są w stanie mu się oprzeć. Landru\, oprócz tego\, że jest niezwykle przystojny\, jest również sprytnym mężczyzną\, który wykorzystuje słabość kobiet korzystając ze swojego uroku. W jaki sposób? Zachęcamy do sprawdzenia tego\, już w najbliższą sobotę!\n\n\nBilety na spektakl MORDERCA KOBIET do zdobycia stacjonarnie w Amfiteatrze\, pok. 105\, oraz online na: https://ckostroda.interticket.pl/pro…/morderca-kobiet-8237\nAmfiteatr\, Sala Kameralna 25.03.2023 r. sobota\, godz. 18.00
URL:https://www.ck.ostroda.pl/event/morderca-kobiet-w-sali-kameralnej/
LOCATION:Sala Kameralna w amfiteatrze\, Mickiewicza 17A\, Ostróda\, warmińsko-mazurskie\, 14-100\, Poland
ATTACH;FMTTYPE=image/png:https://www.ck.ostroda.pl/wp-content/uploads/2023/03/ostroda-1.png
ORGANIZER;CN="CK Ostr%C3%B3da":MAILTO:ck@ck.ostroda.pl
END:VEVENT
BEGIN:VEVENT
DTSTART;TZID=Europe/Warsaw:20230327T180000
DTEND;TZID=Europe/Warsaw:20230327T190000
DTSTAMP:20260421T171549
CREATED:20230322T140612Z
LAST-MODIFIED:20230322T140612Z
UID:6425-1679940000-1679943600@www.ck.ostroda.pl
SUMMARY:MIĘDZYNARODOWY DZIEŃ TEATRU
DESCRIPTION:27 marca obchodzimy Międzynarodowy Dzień Teatru\, w związku z tym przygotowaliśmy dla Was coś wyjątkowego!\nDobrze znana i lubiana grupa \,\,Bez Przesady” wystąpi na deskach Sali Kameralnej ze sztuką \,\,Trzy Razy S”. Występ ten poprzedzi krótka etiuda teatralna\, przygotowana przez naszą młodzieżową grupę teatralną \,\,IMADŁO”.\n\n\nBilety dostępne stacjonarnie w Amfiteatrze\, pok. 105 oraz online: https://ckostroda.interticket.pl/…/miedzynarodowy-dzien…\n\n\nAmfiteatr\, Sala Kameralna godz. 18.00\nZapraszamy!
URL:https://www.ck.ostroda.pl/event/miedzynarodowy-dzien-teatru/
LOCATION:Sala Kameralna w amfiteatrze\, Mickiewicza 17A\, Ostróda\, warmińsko-mazurskie\, 14-100\, Poland
ATTACH;FMTTYPE=image/png:https://www.ck.ostroda.pl/wp-content/uploads/2023/03/dzien-teatru.png
ORGANIZER;CN="CK Ostr%C3%B3da":MAILTO:ck@ck.ostroda.pl
END:VEVENT
END:VCALENDAR