BEGIN:VCALENDAR
VERSION:2.0
PRODID:-//CENTRUM KULTURY w OSTRÓDZIE - ECPv6.15.20//NONSGML v1.0//EN
CALSCALE:GREGORIAN
METHOD:PUBLISH
X-ORIGINAL-URL:https://www.ck.ostroda.pl
X-WR-CALDESC:Wydarzenia dla CENTRUM KULTURY w OSTRÓDZIE
REFRESH-INTERVAL;VALUE=DURATION:PT1H
X-Robots-Tag:noindex
X-PUBLISHED-TTL:PT1H
BEGIN:VTIMEZONE
TZID:Europe/Warsaw
BEGIN:DAYLIGHT
TZOFFSETFROM:+0100
TZOFFSETTO:+0200
TZNAME:CEST
DTSTART:20230326T010000
END:DAYLIGHT
BEGIN:STANDARD
TZOFFSETFROM:+0200
TZOFFSETTO:+0100
TZNAME:CET
DTSTART:20231029T010000
END:STANDARD
BEGIN:DAYLIGHT
TZOFFSETFROM:+0100
TZOFFSETTO:+0200
TZNAME:CEST
DTSTART:20240331T010000
END:DAYLIGHT
BEGIN:STANDARD
TZOFFSETFROM:+0200
TZOFFSETTO:+0100
TZNAME:CET
DTSTART:20241027T010000
END:STANDARD
BEGIN:DAYLIGHT
TZOFFSETFROM:+0100
TZOFFSETTO:+0200
TZNAME:CEST
DTSTART:20250330T010000
END:DAYLIGHT
BEGIN:STANDARD
TZOFFSETFROM:+0200
TZOFFSETTO:+0100
TZNAME:CET
DTSTART:20251026T010000
END:STANDARD
END:VTIMEZONE
BEGIN:VEVENT
DTSTART;VALUE=DATE:20240713
DTEND;VALUE=DATE:20240714
DTSTAMP:20260421T155653
CREATED:20240604T102915Z
LAST-MODIFIED:20240604T102915Z
UID:7103-1720828800-1720915199@www.ck.ostroda.pl
SUMMARY:Kabaret Hrabi z zespołem muzycznym - Lubię to
DESCRIPTION:DATA I GODZINA:  13.07.24r. Godz. 19:00  \nOPIS WYDARZENIA: \nPrzebojowe widowisko kabaretu Hrabi z udziałem zespołu muzycznego Bon Ton (Waldemar Franczyk\, Karol Pietsch\, Grzegorz Piotrowski\, Bartek Pietsch\, Paweł Pietsch).  \nProgram „Lubię to” to kompilacja skeczów i piosenek\, ze wszystkich programów kabaretu Hrabi. Gdy się coś lubi\, można to grać wiecznie. Bywają skecze świetne\, docenione przez publiczność\, ale nie ukochane przez samych artystów. Dobraliśmy jednak takie skecze i piosenki\, które sprawiają przyjemność także i nam. Dając jednocześnie szansę widzom\, którzy poznali Hrabi niedawno\, by zobaczyli je po raz pierwszy.  \nProgram „Lubię to” jest na bieżąco aktualizowany\, zawiera również elementy improwizowane\, zatem można spokojnie przyjść na niego kilka razy\, bo za każdym razem odkryjecie w nim coś innego. Ten spektakl to jednak przede wszystkim ekskluzywna podróż sentymentalna i niech taką będzie.  \nTen wieczór będzie zawsze wyjątkowy i tak\, że o. Oka nie wyjmiesz.  \nBilety:\n https://biletyna.pl/event/view/id/419083\nADRIA ART
URL:https://www.ck.ostroda.pl/event/kabaret-hrabi-z-zespolem-muzycznym-lubie-to/
ATTACH;FMTTYPE=image/jpeg:https://www.ck.ostroda.pl/wp-content/uploads/2024/06/3059148f1c299ace5e7d0a0f78270282.jpg
END:VEVENT
BEGIN:VEVENT
DTSTART;VALUE=DATE:20240720
DTEND;VALUE=DATE:20240721
DTSTAMP:20260421T155653
CREATED:20240604T103423Z
LAST-MODIFIED:20240604T103423Z
UID:7107-1721433600-1721519999@www.ck.ostroda.pl
SUMMARY:Spektakl \,\,Mamma Mia’’
DESCRIPTION:DATA I GODZINA:  20.07.24r. Godz. 20:00  \nOPIS WYDARZENIA: \nPrawdziwa rewia musicalowa z tancerzami i muzyką „na żywo” pod batutą gwiazdy Royal Orkiestry – Jarosława Barowa.\nZorganizowane z ogromnym rozmachem widowisko pt. „Mamma Mia” przeniesie nas do lat 70′ i wielkiego triumfu szwedzkiego kwartetu ABBA na Eurowizji.  Następnie pobawimy się przy ich największych hitach\, przez wszystkie lata świetności tego kultowego zespołu! \nPrzez niemal dwie godziny poznamy całą historię tego fenomenu muzyki rozrywkowej i usłyszymy na żywo między innymi takie przeboje jak: Waterloo\, SOS\, Mamma Mia\, Super Trouper\, Dancing Queen\, I Have A Dream\, Hasta Mañana\, Money Money Money\, Fernando\, Honey\, Honey\, Take a chance on me\, Gimme! Gimme! Gimme!\, Chiquitita\, Voulez-Vous\, I Do\, I Do\, I Do\, I Do\, I Do czy Knowing Me Knowing You. \nArtyści wcielający się w rolę szwedzkich gwiazd\, nie tylko swoją aparycją do złudzenia przypominają Anni-Frid Lyngstad\, Benny’ego Anderssona\, Björna Ulvaeusa i Agnethę Fältskog\, ale i brzmią jak oryginalni wokaliści ABBY. Właśnie z tego względu\, nawet najwięksi sceptycy są oczarowani końcowym efektem ich występu!\nSpektakl ten starszym słuchaczom odświeży wspomnienia z czasów ich młodości\, szkolnych dyskotek\, zaś tym młodszym przybliży twórczość prawdziwej legendy muzyki jakim była niewątpliwie ABBA.\nSam koncert będzie swoistym hołdem tej fenomenalnej formacji\, która na zawsze pozostanie w naszych sercach \nBilety:\n120 zł\nBILETYNA 
URL:https://www.ck.ostroda.pl/event/spektakl-mamma-mia/
ATTACH;FMTTYPE=image/jpeg:https://www.ck.ostroda.pl/wp-content/uploads/2024/06/901621a4a4afbcaf370e2cd5006a6497.jpg
END:VEVENT
END:VCALENDAR