BEGIN:VCALENDAR
VERSION:2.0
PRODID:-//CENTRUM KULTURY w OSTRÓDZIE - ECPv6.15.20//NONSGML v1.0//EN
CALSCALE:GREGORIAN
METHOD:PUBLISH
X-ORIGINAL-URL:https://www.ck.ostroda.pl
X-WR-CALDESC:Wydarzenia dla CENTRUM KULTURY w OSTRÓDZIE
REFRESH-INTERVAL;VALUE=DURATION:PT1H
X-Robots-Tag:noindex
X-PUBLISHED-TTL:PT1H
BEGIN:VTIMEZONE
TZID:Europe/Warsaw
BEGIN:DAYLIGHT
TZOFFSETFROM:+0100
TZOFFSETTO:+0200
TZNAME:CEST
DTSTART:20230326T010000
END:DAYLIGHT
BEGIN:STANDARD
TZOFFSETFROM:+0200
TZOFFSETTO:+0100
TZNAME:CET
DTSTART:20231029T010000
END:STANDARD
BEGIN:DAYLIGHT
TZOFFSETFROM:+0100
TZOFFSETTO:+0200
TZNAME:CEST
DTSTART:20240331T010000
END:DAYLIGHT
BEGIN:STANDARD
TZOFFSETFROM:+0200
TZOFFSETTO:+0100
TZNAME:CET
DTSTART:20241027T010000
END:STANDARD
BEGIN:DAYLIGHT
TZOFFSETFROM:+0100
TZOFFSETTO:+0200
TZNAME:CEST
DTSTART:20250330T010000
END:DAYLIGHT
BEGIN:STANDARD
TZOFFSETFROM:+0200
TZOFFSETTO:+0100
TZNAME:CET
DTSTART:20251026T010000
END:STANDARD
END:VTIMEZONE
BEGIN:VEVENT
DTSTART;VALUE=DATE:20240802
DTEND;VALUE=DATE:20240803
DTSTAMP:20260421T142110
CREATED:20240604T104854Z
LAST-MODIFIED:20240604T104854Z
UID:7111-1722556800-1722643199@www.ck.ostroda.pl
SUMMARY:Polska Noc Kabaretowa
DESCRIPTION:DATA I GODZINA: 02.08.24r. godz. 20:00  \nOpis wydarzenia: Polska Noc Kabaretowa 2024 – największe widowisko kabaretowe w Polsce wraca do Twojego miasta!  \nSą gibcy\, są silni\, są w olimpijskiej formie!\nPrzybywamy do Was z najbardziej wysportowaną kabaretową ekipą wszech czasów. Po miesiącach treningów\, wycieńczających obozów szkoleniowych i niekończących się przygotowań przedstawiamy program pobijający wszystkie rekordy świata. Będziecie śmiać się najgłośniej\, wzdychać z zachwytu niezliczoną liczbę razy\, bawić się do utraty tchu. Mamy zamiar pokazać Wam kabaretowy program na miarę igrzysk olimpijskich. Łucznicza celność żartów. Sprinterska szybkość reakcji. Gimnastyczna elastyczność interakcji z publicznością. Szachowa mądrość puent. Wielobojowy dobór tematów. Jednym słowem mamy wszystko\, aby zdobyć olimpijski szczyt  \nBILETY:\nKUPBILECIK 
URL:https://www.ck.ostroda.pl/event/polska-noc-kabaretowa/
ATTACH;FMTTYPE=image/webp:https://www.ck.ostroda.pl/wp-content/uploads/2024/06/ebilet-pnk-2024-656x369-66da462c-d28b-4f59-a4d2-2837ca6720ad.webp
END:VEVENT
BEGIN:VEVENT
DTSTART;VALUE=DATE:20240803
DTEND;VALUE=DATE:20240804
DTSTAMP:20260421T142110
CREATED:20240604T104937Z
LAST-MODIFIED:20240604T104937Z
UID:7114-1722643200-1722729599@www.ck.ostroda.pl
SUMMARY:Dni Ostródy
DESCRIPTION:Więcej informacji wkrótce
URL:https://www.ck.ostroda.pl/event/dni-ostrody/
END:VEVENT
BEGIN:VEVENT
DTSTART;VALUE=DATE:20240804
DTEND;VALUE=DATE:20240805
DTSTAMP:20260421T142110
CREATED:20240604T104958Z
LAST-MODIFIED:20240604T104958Z
UID:7117-1722729600-1722815999@www.ck.ostroda.pl
SUMMARY:Dni Ostródy
DESCRIPTION:Więcej informacji wkrótce
URL:https://www.ck.ostroda.pl/event/dni-ostrody-2/
END:VEVENT
BEGIN:VEVENT
DTSTART;VALUE=DATE:20240809
DTEND;VALUE=DATE:20240810
DTSTAMP:20260421T142110
CREATED:20240604T105206Z
LAST-MODIFIED:20240604T105206Z
UID:7119-1723161600-1723247999@www.ck.ostroda.pl
SUMMARY:Koncert Lady Pank
DESCRIPTION:DATA I CZAS: 09.08.2024 godz. 20:00  \nOPIS WYDARZENIA: \nLady Pank – A nam nie chce się iść do domu  \nWraz ze zbliżającym się latem zespół Lady Pank zaprasza na serię koncertów pod hasłem „A nam nie chce się iść do domu”. Uczestnicy usłyszą na żywo ulubione hity grupy\, takie jak „Zawsze tam\, gdzie Ty” czy „Kryzysowa narzeczona”\, co uczyni letnie wieczory naprawdę niezapomnianymi \nBILETY:\nbiletyna
URL:https://www.ck.ostroda.pl/event/koncert-lady-pank/
ATTACH;FMTTYPE=image/jpeg:https://www.ck.ostroda.pl/wp-content/uploads/2024/06/e3f4610f89070a6b6e04bec997ecf97d.jpg
END:VEVENT
BEGIN:VEVENT
DTSTART;VALUE=DATE:20240810
DTEND;VALUE=DATE:20240811
DTSTAMP:20260421T142110
CREATED:20240809T062740Z
LAST-MODIFIED:20240809T062740Z
UID:7244-1723248000-1723334399@www.ck.ostroda.pl
SUMMARY:Koncert Reprezentacyjnego Zespołu Artystycznego Wojska Polskiego
DESCRIPTION:DATA I CZAS: 10.08.2024 godz. 17:00  \nOPIS WYDARZENIA: \n\nPONOWNIE w OSTRÓDZIE!\n\n\nJuż w najbliższą sobotę 10 sierpnia 2024 o godz. 17:00 gościć będziemy na scenie ostródzkiego Amfiteatru Solistów\, Orkiestrę\, Chór i Balet znanego i oczekiwanego przez ostródzian Reprezentacyjnego Zespołu Artystycznego Wojska Polskiego.\n\n\nTradycyjnie już koncertem RZAWP Ostróda świętować będzie nadchodzący Dzień Wojska Polskiego.\n\n\nWYDARZENIE BEZPŁATNE
URL:https://www.ck.ostroda.pl/event/koncert-reprezentacyjnego-zespolu-artystycznego-wojska-polskiego-5/
ATTACH;FMTTYPE=image/jpeg:https://www.ck.ostroda.pl/wp-content/uploads/2024/08/RZAWP-koncert-2024-plakat.jpg
END:VEVENT
BEGIN:VEVENT
DTSTART;VALUE=DATE:20240814
DTEND;VALUE=DATE:20240815
DTSTAMP:20260421T142110
CREATED:20240604T105650Z
LAST-MODIFIED:20240604T110650Z
UID:7125-1723593600-1723679999@www.ck.ostroda.pl
SUMMARY:LUC & Rebel Babel- Muzyka z filmu Chłopi
DESCRIPTION:DATA I CZAS:  14.08.24r. Godz. 20:00  \nOPIS WYDARZENIA:\n \nZapraszamy na wyjątkowy koncert z muzyką do filmu „Chłopi”\, opartego na literackim arcydziele Reymonta. Łukasz „L.U.C.” Rostkowski\, twórca ścieżki dźwiękowej\, łączy tradycję z nowoczesnością\, komponując piękną muzykę filmową z autentycznymi instrumentami ludowymi.\n\n„Chłopi” to najnowszy film DK Welchman i Hugh Welchmana\, twórców „Twojego Vincenta”\, który został polskim kandydata do Oscara w kategorii najlepszy film zagraniczny. Łukasz „L.U.C.” Rostkowski\, zdobywca wielu nagród i uznania zarówno w kraju\, jak i za granicą\, jest odpowiedzialny za stworzenie ścieżki dźwiękowej do filmu. Teraz razem z Rebel Babel Film Orchestra zaprasza na koncerty projektu „Chłopi”.\n\nKompozycje napisane specjalnie dla filmu wcielają w życie tradycyjne polskie brzmienia i autentyczne ludowe instrumenty. Całość tworzy piękną muzykę filmową\, która oddaje hołd polskiej tradycji. Muzyka do filmu Chłopi zdobyła statuetkę Fryderyka w 2024 roku w kategorii Muzyka Filmowa Teatralna i Ilustracyjna. To prawdziwa podróż w czasie\, w trakcie której współczesne podejście do form i aranżacji spotyka się z ludowością.  \n\nNa koncertach projektu „Chłopi” wystąpi L.U.C. z Rebel Babel Ochestra. Podczas wieczoru będzie okazja podziwiać malowidła\, animacje i filmy\, które przedstawiają proces tworzenia tego niezwykłego obrazu. To niezapomniane wydarzenie\, które przeniesie Cię blisko natury i korzeni polskiej kultury. \nWystąpią:\nMaria Pomianowska – suka/fidel płocka\nKarolina Skrzyńska – lira korbowa/skrzypce/wokal\nKatarzyna Kapela – skrzypce/wokal\nWeronika Mońka-Chwała – skrzypce\nSebastian Wypych – kontrabas\nPiotr Kopietz – akordeon\nDaniel Peszko – gitara\nWojciech Lubertowicz – bębny\nPiotr Hałaj – tuba\nAdam Caturian – klarnet \n\nNie przegap tej niezwykłej muzycznej i kulturalnej podróży! Dołącz do nas i zanurz się w historii\, dźwiękach i tradycjach „Chłopów”.\n  \nBILETY:\nBILETYNA
URL:https://www.ck.ostroda.pl/event/luc-rebel-babel-muzyka-z-filmu-chlopi/
ATTACH;FMTTYPE=image/webp:https://www.ck.ostroda.pl/wp-content/uploads/2024/06/A4_L.U.C.-Rebel-Babel-Muzyka-do-filmu-Chlopi.webp
END:VEVENT
BEGIN:VEVENT
DTSTART;VALUE=DATE:20240815
DTEND;VALUE=DATE:20240816
DTSTAMP:20260421T142110
CREATED:20240604T110949Z
LAST-MODIFIED:20240604T110949Z
UID:7131-1723680000-1723766399@www.ck.ostroda.pl
SUMMARY:Agnieszka Chylińska
DESCRIPTION:DATA I CZAS: 15.08.24r. Godz. 19:00 \n\nOPIS WYDARZENIA: Zapraszamy na koncerty Agnieszki Chylińskiej\, jednej z najbardziej charakterystycznych i charyzmatycznych polskich artystek.  \nKoncerty autorki takich przebojów jak Jest nas więcej\, Kiedyś do ciebie wrócę\, to gwarancja niezapomnianych przeżyć i zastrzyk pozytywnej energii.  \nOd kilkudziesięciu lat Agnieszka Chylińska odważnie kroczy własną ścieżką i nie boi się podejmować artystycznego ryzyka. Odważnie eksperymentując ze swoim scenicznym wizerunkiem\, nieustannie udowadnia swoją muzyczną wszechstronność. Teraz zaprasza do wspólnego powspominania minionych lat obfitujących w sukcesy\, emocjonujące wyzwania i ogrom emocji.  \nBILETY:  \nBILETYNA
URL:https://www.ck.ostroda.pl/event/agnieszka-chylinska/
ATTACH;FMTTYPE=image/jpeg:https://www.ck.ostroda.pl/wp-content/uploads/2024/06/f3abb41f0812c0275ee230a901cded2a.jpg
END:VEVENT
BEGIN:VEVENT
DTSTART;VALUE=DATE:20240817
DTEND;VALUE=DATE:20240818
DTSTAMP:20260421T142110
CREATED:20240809T063134Z
LAST-MODIFIED:20240817T123350Z
UID:7248-1723852800-1723939199@www.ck.ostroda.pl
SUMMARY:Blanka - Summer Tour
DESCRIPTION:DATA: 17.08.2024 \nOPIS:\nBlanka rusza w swoją pierwszą polską trasę koncertową – „Summer Tour”! Autorka hitów „Solo”\, „Boys Like Toys”\, ”Rodeo” czy „Cara Mia”\, odwiedzi 4 miasta\, w których wystąpi ze swoim wyjątkowym show oraz spotka się z fanami osobiście! To wyjątkowa okazja na spotkanie z reprezentantką Polski w konkursie Eurowizji 2023. \nBILETY: https://www.ebilet.pl/muzyka/pop/blanka?gad_source=1&fbclid=IwY2xjawEtd9dleHRuA2FlbQIxMAABHeY1Rndn_ntnCxhi1XFhhsAjduowxmIQr9A7slTyKtGJeCzZS0CxctEJNA_aem_ppZAWkuOL0t0Llqbv8kmtw
URL:https://www.ck.ostroda.pl/event/blanka-summer-tour/
ATTACH;FMTTYPE=image/webp:https://www.ck.ostroda.pl/wp-content/uploads/2024/08/blanka_tour_2024_ebilet_okladkapion_552x736_clean-e2014307-a694-42a9-8848-a6f49937461d.webp
END:VEVENT
BEGIN:VEVENT
DTSTART;VALUE=DATE:20240830
DTEND;VALUE=DATE:20240831
DTSTAMP:20260421T142110
CREATED:20240604T111403Z
LAST-MODIFIED:20240604T111403Z
UID:7135-1724976000-1725062399@www.ck.ostroda.pl
SUMMARY:Kortez
DESCRIPTION:DATA I CZAS: 30.08.24r. Godz. 20:00  \nOPIS WYDARZENIA: \nZbliżamy się do lata\, które prawdopodobnie jest przez nas wszystkich najbardziej wyczekiwana porą roku.\nPo dwóch latach przerwy wzorem poprzednich lat będziemy chcieli spotkać się z Wami na kilkunastu leniwych wieczornych koncertach zorganizowanych w najwygodniejszych polskich amfiteatrach.\nMamy nadzieję\, że aura dopisze i będą to niezapomniane wieczory\, których bohaterem będzie Kortez i jego piosenki.\nNa koncerty tego lata złożą się z utwory ze wszystkich płyt\, a nie wykluczone\, że pojawią się także niespodzianki… \nBILETY:\nBILETYNA 
URL:https://www.ck.ostroda.pl/event/kortez/
ATTACH;FMTTYPE=image/jpeg:https://www.ck.ostroda.pl/wp-content/uploads/2024/06/417564928_966116551540070_3159449046972450499_n.jpg
END:VEVENT
END:VCALENDAR