BEGIN:VCALENDAR
VERSION:2.0
PRODID:-//CENTRUM KULTURY w OSTRÓDZIE - ECPv6.15.20//NONSGML v1.0//EN
CALSCALE:GREGORIAN
METHOD:PUBLISH
X-WR-CALNAME:CENTRUM KULTURY w OSTRÓDZIE
X-ORIGINAL-URL:https://www.ck.ostroda.pl
X-WR-CALDESC:Wydarzenia dla CENTRUM KULTURY w OSTRÓDZIE
REFRESH-INTERVAL;VALUE=DURATION:PT1H
X-Robots-Tag:noindex
X-PUBLISHED-TTL:PT1H
BEGIN:VTIMEZONE
TZID:Europe/Warsaw
BEGIN:DAYLIGHT
TZOFFSETFROM:+0100
TZOFFSETTO:+0200
TZNAME:CEST
DTSTART:20250330T010000
END:DAYLIGHT
BEGIN:STANDARD
TZOFFSETFROM:+0200
TZOFFSETTO:+0100
TZNAME:CET
DTSTART:20251026T010000
END:STANDARD
BEGIN:DAYLIGHT
TZOFFSETFROM:+0100
TZOFFSETTO:+0200
TZNAME:CEST
DTSTART:20260329T010000
END:DAYLIGHT
BEGIN:STANDARD
TZOFFSETFROM:+0200
TZOFFSETTO:+0100
TZNAME:CET
DTSTART:20261025T010000
END:STANDARD
BEGIN:DAYLIGHT
TZOFFSETFROM:+0100
TZOFFSETTO:+0200
TZNAME:CEST
DTSTART:20270328T010000
END:DAYLIGHT
BEGIN:STANDARD
TZOFFSETFROM:+0200
TZOFFSETTO:+0100
TZNAME:CET
DTSTART:20271031T010000
END:STANDARD
END:VTIMEZONE
BEGIN:VEVENT
DTSTART;TZID=Europe/Warsaw:20260423T180000
DTEND;TZID=Europe/Warsaw:20260426T200000
DTSTAMP:20260420T134013
CREATED:20260408T090405Z
LAST-MODIFIED:20260408T090405Z
UID:7993-1776967200-1777233600@www.ck.ostroda.pl
SUMMARY:Weekend z kinem w Sali Kameralnej – film „Drama”
DESCRIPTION:Z ogromną radością zapraszamy Was na zupełnie nowy projekt w Centrum Kultury w Ostródzie –  „Weekend z kinem w CK” To pierwszy raz\, kiedy uruchamiamy regularne pokazy premier filmowych w Sali Kameralnej naszego Amfiteatru – i od razu wchodzimy na wysoki poziom! Dzięki dofinansowaniu z Unii Europejskiej w ramach projektu „Unowocześnienie oferty kulturalnej Centrum Kultury w Ostródzie” nasza sala została wyposażona w nowoczesny projektor kinowy i system dźwięku\, który pozwoli Wam poczuć prawdziwą magię kina  Na pierwszy ogień – film „Drama” (2026)\, reż. Kristoffer BorgliPoruszająca\, intensywna historia o relacjach\, emocjach i wyborach\, które zmieniają wszystko. W rolach głównych zobaczymy duet\, obok którego nie da się przejść obojętnie – Roberta Pattinsona i Zendayę. Ich ekranowa chemia\, świetne aktorstwo i klimat filmu sprawiają\, że to seans\, który zostaje w głowie na długo. Terminy pokazów: 9–12 kwietnia 2026 23–26 kwietnia 2026 Godzina: 18:00 Bilety:• 18 zł – normalny• 16 zł – ulgowy (młodzież ucząca się z ważną legitymacją szkolną\, seniorzy z legitymacją rencisty lub emeryta\, posiadacze Karty Ostródzkiej oraz Karty Dużej Rodziny) Sprzedaż stacjonarna przed seansamiZapraszamy Was do wspólnego przeżywania filmowych emocji – w zupełnie nowej jakości! Do zobaczenia w Sali Kameralnej/Kinowej w Amfiteatrze.
URL:https://www.ck.ostroda.pl/event/weekend-z-kinem-w-sali-kameralnej-film-drama-2/
ATTACH;FMTTYPE=image/jpeg:https://www.ck.ostroda.pl/wp-content/uploads/2026/04/image005.jpg
END:VEVENT
END:VCALENDAR